{"text_format":"1","workbook":"xlsx","n_sheets":54,"sheets":["Quota Inf 2012","Quota Inf (2013)","Quota Mal (2013)","062015vs062014","PREMI CONTAB.","Quota Inf (2014)","Quota Mal (2014)","Quota Mal 2012","Quota Inf (2)","Quota Mal (2)","Quota Inf (2015)","Quota Mal (2015)","Quota Inf (2016)","Quota Mal (2016)","TAV INF_MAL_semestre","TAV INF_MAL_anno 2015-2016","TAV INF_MAL_semestre (2017)","TAVOLA1inf(semestre)","Quota Inf (2017)","Quota Mal (2017)","TAVOLA1inf(anno 2015-2016)","Allegato I inf","Grafico_inf","Graf.1.1_inf","Graf.1.2_inf","Graf.1.3_inf ","Graf.2.1_inf","Graf.2.2_inf","Graf.2.3_inf","Graf.3.1_inf","Grafico11","TAVOLA2mal (anno 2015-2016)","Graf.3.2_inf","Graf.3.3_inf","Allegato II mal","Grafico_mal","Graf.1.1_mal","Graf.1.2_mal","Graf.1.3_mal","Graf.2.1_mal","Graf.2.2_mal","Graf.2.3_mal","Graf.3.1_mal","Graf.3.2_mal","Graf.3.3_mal","pivot-MAL2014","pivot-INF2015","pivot-MAL2015","infort_dati_2015","infortuni_merc_2015","malat_dati_2015","malattia_merc_2015","infortuni-giugno2013","malattia-giugno2013"],"not_rendered":{"charts":42,"images":0,"macros":1,"external_links":1,"defined_names":42,"comments":0,"pivot_tables":6},"unopened":[{"sheet":"Grafico_inf","index":22,"reason":"not_a_worksheet"},{"sheet":"Graf.1.1_inf","index":23,"reason":"not_a_worksheet"},{"sheet":"Graf.1.2_inf","index":24,"reason":"not_a_worksheet"},{"sheet":"Graf.1.3_inf ","index":25,"reason":"not_a_worksheet"},{"sheet":"Graf.2.1_inf","index":26,"reason":"not_a_worksheet"},{"sheet":"Graf.2.2_inf","index":27,"reason":"not_a_worksheet"},{"sheet":"Graf.2.3_inf","index":28,"reason":"not_a_worksheet"},{"sheet":"Graf.3.1_inf","index":29,"reason":"not_a_worksheet"},{"sheet":"Grafico11","index":30,"reason":"not_a_worksheet"},{"sheet":"Graf.3.2_inf","index":32,"reason":"not_a_worksheet"},{"sheet":"Graf.3.3_inf","index":33,"reason":"not_a_worksheet"},{"sheet":"Grafico_mal","index":35,"reason":"not_a_worksheet"},{"sheet":"Graf.1.1_mal","index":36,"reason":"not_a_worksheet"},{"sheet":"Graf.1.2_mal","index":37,"reason":"not_a_worksheet"},{"sheet":"Graf.1.3_mal","index":38,"reason":"not_a_worksheet"},{"sheet":"Graf.2.1_mal","index":39,"reason":"not_a_worksheet"},{"sheet":"Graf.2.2_mal","index":40,"reason":"not_a_worksheet"},{"sheet":"Graf.2.3_mal","index":41,"reason":"not_a_worksheet"},{"sheet":"Graf.3.1_mal","index":42,"reason":"not_a_worksheet"},{"sheet":"Graf.3.2_mal","index":43,"reason":"not_a_worksheet"},{"sheet":"Graf.3.3_mal","index":44,"reason":"not_a_worksheet"}],"bounds":{"document_bytes":16777216,"sheet_cells":100000,"rows_first":2000,"rows_last":500,"rows_between":2000,"halvings":0,"cell_chars":16384,"cell_head_chars":4096},"cells_cut":0,"cells_raw":0,"read":"whole","date_system":"1900"}

{"sheet":"Quota Inf 2012","index":0,"n_rows":116,"n_cols":7,"rows_kept":116,"cut":false,"hidden":true,"merged":[]}
["PREMI 2012",null,null,null,null,"  1   - INFORTUNI"]
[]
["Imprese in ordine decrescente",null,"premi","variaz.","incid. sul","compagnie che "]
[null,null,null,"2012/2011","totale","hanno "]
[null,null,"(migliaia di EURO)","(%)","(%)","risposto"]
[]
[null,"QUOTA MERCATO",null,null,{"$f":"+SUMIF(F:F,\"SI\",E:E)&\"%\"","v":"56,86%"},{"$f":"+COUNTIF(F9:F116,\"SI\")","v":34}]
[]
[1,"UNIPOL ASSICURAZIONI",343780,0.9,10.220000000000001,"SI"]
[2,"ASSICURAZIONI GENERALI",322714,-1.9,9.59,"SI","oggi 08/10/2014 Memo mi ha ridetto che mi farà sapere se riesce a darmi i premi di portafoglio, non ha voluto che gli scrivessi alcuna email per sollecitare la questione; GENERTEL PERò LI INVIA; oggi 13032014 ho parlato con Memo Michele che mi farà sapere se utilizzando i premi di portafoglio riuscirebbe a plittare i premi per garanzia; l'8 gennaio 2013 Memo Michele mi ha confermato via email che non hanno la distribuzione dei premi per garanzia."]
[3,"ALLIANZ",307310,-0.9,9.1300000000000008,null,"GENIALLOYD PERò LI INVIA, oggi 12032014 ho parlato e mandato email a matteo zolia che mi fa avere il nome di un referente"]
[4,"INA ASSITALIA",298629,1.7,8.8800000000000008]
[5,"FONDIARIA - SAI",223155,-5.0999999999999996,6.63,"SI"]
[6,"COMPAGNIA DI ASS. DI MILANO",155433,-3.8,4.62,"SI"]
[7,"AXA ASSICURAZIONI",117659,-0.2,3.5,"SI"]
[8,"SOCIETA' CATTOLICA",106730,-0.5,3.17,null,"oggi 13032014 ho mandato email a Obezzi Cristina per avere notizie."]
[9,"ALLEANZA TORO",102872,-10,3.06,null,"oggi 12032014 ho parlato con Boaglio che mi fa sapere qualcosa in merito, mi sembra che abbiano le informazioni per i premi di portafoglio ma non per i premi contabilizzati"]
[10,"GROUPAMA ASSICURAZIONI",100626,-6,2.99,null,"oggi 13032014 ho mandato email a Nicolas Puccioni per avere notizie."]
[11,"ZURICH INSURANCE PLC",89950,-3.6,2.67,null,"oggi 14032014 ho parlato con Paola Di Candia che ci fa sapere, loro all'ufficio bilancio non hanno la spaccatura richiesta per garanzia mentre all'ufficio portafoglio forse riescono"]
[12,"SOCIETA' REALE MUTUA",88632,-3.2,2.63,"SI"]
[13,"ACE EUROPEAN GROUP",74745,-10.6,2.2200000000000002,"SI","oggi 11032014 mi hanno risposto che non hanno i software pronti per estrapolare i dati e non sanno se mai li avranno"]
[14,"CHARTIS EUROPE S.A.",60250,25.7,1.79,"SI"]
[15,"VITTORIA ASSICURAZIONI",60188,21,1.79,"SI"]
[16,"CARIGE R.D. ASSICURAZIONI E RIASSICURAZIONI",53553,-6.1,1.59,"SI"]
[17,"ITALIANA ASSICURAZIONI",46927,-5.5,1.39,"SI"]
[18,"AXA MPS ASSICURAZIONI DANNI",41580,8.4,1.24,"SI","ho parlato oggi 12032014 con il mio amico Michele Delliquadri, dice che manderà i dati"]
[19,"SARA ASSICURAZIONI",41464,0.1,1.23,"SI"]
[20,"AVIVA ITALIA",37201,-10.7,1.1100000000000001,null,"oggi 14032014 ho mandato email a Banfi per avere notizie."]
[21,"UBI ASSICURAZIONI",36153,6.7,1.07,"SI"]
[22,"ITAS MUTUA",34541,4.0999999999999996,1.03,"SI"]
[23,"HELVETIA SA",32746,3.3,0.97,"SI"]
[24,"CARDIF - ASSURANCES RISQUES DIVERS",31549,21.6,0.94]
[25,"METLIFE EUROPE",30187,-10.1,0.9]
[26,"CHUBB INSURANCE COMPANY OF EUROPE",27964,-18.3,0.83]
[27,"ASSIMOCO",23945,-7.6,0.71]
[28,"INTESA SANPAOLO ASSICURA",23273,-13.8,0.69,null,"oggi 14032014 ho mandato email a Granito per avere notizie."]
[29,"DIRECT LINE INSURANCE",22811,58.5,0.68,"SI"]
[30,"PADANA ASSICURAZIONI",21532,7.3,0.64]
[31,"DONAU VERSICHERUNG AG VIENNA",21292,53.7,0.63]
[32,"FATA ASSICURAZIONI DANNI",20874,-0.8,0.62]
[33,"MEDIOLANUM ASSICURAZIONI",19698,71.099999999999994,0.59]
[34,"POSTE ASSICURA - Gruppo Assicurativo Poste Vita",19411,26.9,0.57999999999999996,"SI"]
[35,"HDI ASSICURAZIONI",17811,4.8,0.53,"SI"]
[36,"ERGO ASSICURAZIONI",17626,-18.899999999999999,0.52,"SI"]
[37,"GENERTEL",17591,23,0.52,"SI"]
[38,"SUN INSURANCE OFFICE LIMITED RSA",17562,-8.3000000000000007,0.52,"SI"]
[39,"ARCA ASSICURAZIONI",15883,0.4,0.47,"SI"]
[40,"LLOYD'S",14136,12.9,0.42]
[41,"CHIARA ASSICURAZIONI",13674,-0.1,0.41]
[42,"LIGURIA",12912,-9,0.38]
[43,"GENIALLOYD",12454,20.8,0.37,"SI"]
[44,"UNIQA PROTEZIONE",12244,8,0.36]
[45,"EUROP ASSISTANCE ITALIA",11644,55.6,0.35]
[46,"AVIPOP ASSICURAZIONI",10843,-37.5,0.32]
[47,"NATIONALE SUISSE",10467,-0.4,0.31,"SI"]
[48,"COMPAGNIA ASS. LINEAR",9089,6.7,0.27]
[49,"TUA ASSICURAZIONI",8602,26,0.26]
[50,"CREDITRAS ASSICURAZIONI",7443,-4,0.22]
[51,"UNISALUTE",7244,3.6,0.22,"SI"]
[52,"CNP IAM",6713,118.3,0.2]
[53,"CARDIF ASSICURAZIONI",6264,-36.5,0.19]
[54,"CREDEMASSICURAZIONI",6055,-22.2,0.18,"SI"]
[55,"INTESA SANPAOLO VITA",6030,-28.4,0.18]
[56,"ARISCOM COMPAGNIA DI ASSICURAZIONI",5764,24.4,0.17,"SI"]
[57,"BIPIEMME VITA",5311,17.7,0.16]
[58,"ABC ASSICURA",4954,9.4,0.15]
[59,"ALLIANZ GLOBAL C. & S.",4819,11.1,0.14000000000000001]
[60,"CF ASSICURAZIONI",3856,40.9,0.11,"SI"]
[61,"FILO DIRETTO",3854,10,0.11]
[62,"ALA ASSICURAZIONI",3594,-18.8,0.11]
[63,"ZURITEL",3440,26.6,0.1]
[64,"NOBIS COMPAGNIA DI ASSICURAZIONI",3358,61.1,0.1,"SI"]
[65,"ASSICURATRICE MILANESE",3343,-13.7,0.1]
[66,"HDI-GERLING INDUSTRIE",3241,37.4,0.1]
[67,"INCONTRA ASSICURAZIONI",3202,-29.9,0.1]
[68,"BCC ASSICURAZIONI",3183,43.6,0.09]
[69,"INCHIARO ASSICURAZIONI",2902,10.3,0.09]
[70,"QUIXA",2733,56.1,0.08]
[71,"POSTE VITA - Gruppo Assicurativo Poste Vita",2399,-35.700000000000003,7.0000000000000007E-2,"SI"]
[72,"GLOBAL ASSISTANCE",2127,45.7,0.06]
[73,"ASSICURATRICE VAL PIAVE",1866,9.8000000000000007,0.06]
[74,"UNIQA ASSICURAZIONI",1692,9.1999999999999993,0.05]
[75,"AXA CORPORATE SOLUTIONS",1658,-20.9,0.05]
[76,"AGA INTERNATIONAL",1437,-16.399999999999999,0.04]
[77,"ITAS ASSICURAZIONI",1339,1.1000000000000001,0.04]
[78,"ANTONIANA VENETA POP. ASS.",1227,9.1,0.04]
[79,"AVIVA ASSICURAZIONI",1145,-35.200000000000003,0.03]
[80,"BIPIEMME ASSICURAZIONI",1083,"(.....)",0.03]
[81,"SYSTEMA ASSICURAZIONI",954,15.6,0.03]
[82,"RBM SALUTE",941,-26.5,0.03]
[83,"DIALOGO ASSICURAZIONI",888,-26.4,0.03]
[84,"LE ASSICURAZIONI DI ROMA",825,5.4,0.02]
[85,"CREDIT AGRICOLE ASSICURAZIONI",715,14.8,0.02]
[86,"FINANCIAL INSURANCE COMPANY",632,-29,0.02]
[87,"BANCASSURANCE POPOLARI DANNI",553,-54.2,0.02]
[88,"CATTOLICA PREVIDENZA",522,39.9,0.02]
[89,"DUOMO UNI ONE",503,-95.2,0.01]
[90,"AXERIA PREVOYANCE",481,-34.4,0.01]
[91,"TIROLER VERSICHERUNG VAG",352,2.6,0.01]
[92,"R+V ALLGEMEINE",335,-46.8,0.01]
[93,"CARDIF - ASSURANCE VIE",295,-30.8,0.01]
[94,"MITSUI SUMITOMO INSURANCE",287,19.100000000000001,0.01]
[95,"INTER PARTNER ASSISTANCE",282,5.2,0.01]
[96,"NET INSURANCE",216,-8.5,0.01]
[97,"BENTOS ASSICURAZIONI",82,-48.1,0]
[98,"TOKIO MARINE EUROPE",73,-12,0]
[99,"SACE BT",45,-29.7,0]
[100,"POPOLARE VITA",23,-59.6,0]
[101,"INTERNAT. INS. CO. OF HANNOVER",22,-94.2,0]
[102,"RISPARMIO  &  PREVIDENZA",8,0,0]
[103,"ISI INSURANCE Compagnia di Assicurazioni",7,-30,0,"SI"]
[104,"SIAT",6,-57.1,0]
[105,"WIENER STADTISCHE VERSIC.",4,-69.2,0]
[106,"ASSICURAZIONI RISCHI AGRICOLI VMG 1857",2,0,0,"SI"]
[107,"CBA VITA",1,0,0]
[108,"CNP UNICREDIT VITA",1,0,0,"SI"]

{"sheet":"Quota Inf (2013)","index":1,"n_rows":109,"n_cols":8,"rows_kept":109,"cut":false,"hidden":true,"merged":[]}
["PREMI 2013",null,null,null,null,"  1   - INFORTUNI"]
[]
["Imprese in ordine decrescente",null,"premi","variaz.","incid. sul","compagnie che "]
[null,null,null,"2013/2012","totale","hanno "]
[null,null,"(migliaia di EURO)","(%)","(%)","risposto",null,"oggi 12032014 ho parlato con Boaglio che mi fa sapere qualcosa in merito, mi sembra che abbiano le informazioni per i premi di portafoglio ma non per i premi contabilizzati"]
[]
[null,"QUOTA MERCATO",null,null,{"$f":"+SUMIF(F:F,\"SI\",E:E)&\"%\"","v":"83,44%"},{"$f":"+COUNTIF(F9:F116,\"SI\")","v":37}]
[]
[1,"UNIPOLSAI ASSICURAZIONI",709886,-1.7,21.06,"SI","ogg 22/10/2014 Roberta Lolli mi ha detto che fra 2 giorni inviano il dato; oggi 09/10/2014 ho parlato con Roberta Lolli che mi invierà i dati il più presto possibile, mi farà sapere i tempi nei prox giorni con una email "]
[2,"GENERALI ITALIA",648984,-3.9,19.25,"SI","NO POLIZZE COLLETTIVE; oggi 06112015 mi ha scritto Memo Michele per dirmi che manderà dati entro 15 gg; oggi 08102015 mi ha scritto Andrea Zecchi (0110029705-3346468461) che mi fa sapere; oggi 05/10/2015 ho parlato con Tiralongo (ex inaassitalia, i dati del vecchio portafoglio per garanzia li avrebbero) e ci siamo detti che avrei mandato una mail di sollecito a ANDREA ZECCHI, capo anche di MIchele Memo di ex assicuraz. generali, per aver una risposta scritta sui futuri tempi; oggi 25/09/2015 ho parlato con Tiralongo che mi ha detto che il suo nuovo capo è Andrea Zecchi e mercoledì 30 verso 16:00 lo devo chiamare per avere news o farlo parlare con Desantis; oggi 14/09/2015 ho mandato email per avere un aggiornamento; oggi 23/03/2015 ho parlato con Carosi chiedendole di sentirsi nei prox giorni per avere qualche notizia in più sull'avanzamento dei lavori; oggi 11/03/2015 ho scritto a Carosi per avere news; oggi 24/12/2014 Raffaella Carosi mi ha scritto \"stiamo lavorando alle estrazioni richieste, non appena possibile provvederemo ad inviare i dati.\"; OGGI 22/12/2014 ho mandato email a Raffaella Carosi; oggi 19/12/2014 Tiralongo mi ha detto di parlare con il suo capo Raffaella Carosi (raffaella.carosi@generali.com/0684838049) ma non mi ha risposto, poi ho chiamto memo che mi ha detto che stanno facendo le prime estrapolazioni e che sono in contatto con Tiralongo di Roma; oggi 11/12/2014 ho mandato email di sollecito a Tiralongo; oggi 2/12/2014 Tiralongo mi ha detto che dall'alto è arrivato il mandato di preparare i dati, lui per inaassitalia, Memo per Generali e Boaglio per Toro, lunedì prox lo devo richiamare; oggi 28/11/2014 ho sentito Tiralongo che entro oggi o al max lunedi prox mi deve aggiornare sull'avanzamento dei lavori; oggi 14/11/2014 ho chiesto a Tiralongo di rispondermmi con una mail ufficiale sulla fattibilità o meno della trasmissione dei dati, ci dobbiamo sentire martedì prox; oggi 11/11/2014 ho mandato email per info a Tiralongo; OGGI 24/10/2014 Tiralongo ha inviato una email; oggi 22/10/2014 ho sentito Memo e Tiralongo che non avevano news da darmi, sono oberati di lavoro e appena possono mi fanno sapere (con Tiralongo mi sono messo d'accordo che ci saremmo sentiti martedì prossimo); oggi 21/10/2014 ho mandato email a Memo e Tiralongo per avere notizie sui tempi; oggi 08/10/2014 Memo mi ha ridetto che mi farà sapere se riesce a darmi i premi di portafoglio, non ha voluto che gli scrivessi alcuna email per sollecitare la questione(per ex Assicurazioni Generali); per INA ASSITALIA oggi 09/10/2014 ho parlato con Tiralongo che mi fa sapere; GENERTEL PERò LI INVIA; oggi 13032014 ho parlato con Memo Michele che mi farà sapere se utilizzando i premi di portafoglio riuscirebbe a plittare i premi per garanzia; l'8 gennaio 2013 Memo Michele mi ha confermato via email che non hanno la distribuzione dei premi per garanzia."]
[3,"ALLIANZ S.P.A.",306607,-0.2,9.1,"SI","oggi 15/03/2016 ho detto a Simona Colonna che ci saremmo risentiti verso metà maggio per i mesi di Dicembre; STIMATA SPACCATURA INDIVIDUALI E COLLETTIVE; oggi 03112015 Simona Colonna mi ha contattato per dirmi che fra 10 giorni dovrebbe mandare i dati; oggi 14102015 mi ha contattato Simona Colonna, devo risentirla fine della prossima settimana per vedere se mandare il dato parziale o complessivo; oggi 14102015 ho mandato email a Villa; oggi 16/09/2015 ho parlato con Silvana Villa che mi ha detto e scritto di riaggiornarci ad inizi ottobre; oggi 14/09/2015 ho mandato email per avere un aggiornamento; oggi 13/11/2014 mi ha mandato email Silvana Villa e Andrea Borea per dirmi che invieranno i dati non prima di metà dell'anno prossimo; oggi 11/11/2014 ho mandato email per info a Borea; oggi 21/10/2014 Andrea Borea mi ha detto di risentirci intorno al 28 ottobre; oggi 16/10/2014 ho parlato con Andrea Borea, coinvolto nella questione oggi, che mi farà sapere sulla fattibilità dei dati per il Gruppo Allianz; oggi 15/10/2014 non riuscendo a parlare con Roberto Giordano, gli ho scritto una email di sollecito;oggi 09/10/2014 ho parlato con Alberto Sartorio (0407781271), responsabile della parte contabile, il quale mi ha detto che non hanno questo dettaglio di informazione ma che probabilmente sono invece presenti nella sezione portafoglio con resp. GIORDANO ROBERTO che devo contattare io (0407781598-0272162345), oggi 12032014 ho parlato e mandato email a matteo zolia che mi fa avere il nome di un referente"]
[4,"SOCIETA' CATTOLICA",112228,5.0999999999999996,3.33,"NO","oggi 09112015 ho sentito Castiglione (ufficio bilancio) che mi ha detto che non mi risponde alla email perché non è sua la competenza e che in questo periodo non hanno tempo per evadere questa richiesta, che anche Obezzi (dirigente controllo di gestione) sicuramente è nella stessa situazione, oggi 07102015 Castiglione mi ha detto di risentirci fra un mese perché stanno chiudendo la trimestrale; oggi 28/09/2015 ho parlato con Castiglione che mi ha detto che dall'ufficio contabilità non ha queste info e di risentirci verso fine settimana per sentire gli altri uffici; oggi 25/09/2015 ho inviato email a castiglione carmelita (0458391457) e parlato con Martini Arianna, le devo chiamare lunedì prox; oggi 14/09/2015 ho mandato email per avere un aggiornamento; oggi 23/03/2015 ho parlato con Obezzi Cristina che mi ha detto di risentirci nei prox giorni (le ho inoltrato nuovamente la richiesta dati); oggi 03/12/2014 ho parlato con Irene Murari (0458391224) che cercherà di contattare Obezzi Cristina; oggi 28/11/2014 ho scritto a Obezzi per essere chiamato in giornata o al max lunedì mattina; oggi 21/10/2014 le ho mandato email per avere news; oggi 13/10/2014 ho parlato con Obezzi Cristina che mi farà sapere, oggi 09/10/2014 ho provato a parlare con Obezzi Cristina e poi le ho mandato email di sollecito (0458391673), oggi 13032014 ho mandato email a Obezzi Cristina per avere notizie."]
[5,"AXA ASSICURAZIONI",105905,-10,3.14,"SI"]
[6,"GROUPAMA ASSICURAZIONI",96704,-3.9,2.87,"SI","oggi 30/03/2016 Puccioni mi ha detto che ha solo il numero delle polizze collettive e non il numero delle teste; oggi 09/10/2014 Puccioni mi ha detto che entro la prox settimana mi invia i premi contabilizzati ma non la nuova produzione vita,  oggi 13032014 ho mandato email a Nicolas Puccioni per avere notizie."]
[7,"ZURICH INSURANCE PLC",91693,1.9,2.72,"SI","i dati delle teste non sono disponibili; oggi 05/02/2015 ho scritto a Metadow per info; oggi 4/12/2014 mi ha telefonato Luisa Metadow 02 5966 2501 che dice manderà i dati entro il 12 gennaio dall'ufficioi Portafoglio; oggi 3/12/2014 ho parlato con Simona Schinelli e le ho inviato nuovamente la richiesta, mi deve far sapere; oggi 28/11/2014 ho scritto a delpino per essere chiamato in giornata o al max lunedì mattina; oggi 10/10/2014 gli ho inviato un nuovo sollecito proponendogli i premi di portafoglio invece di quelli contabilizzati, marco.delpino@it.zurich.com , oggi 14032014 ho parlato con Paola Di Candia che ci fa sapere, loro all'ufficio bilancio non hanno la spaccatura richiesta per garanzia mentre all'ufficio portafoglio forse riescono"]
[8,"SOCIETA' REALE MUTUA",89959,1.5,2.67,"SI"]
[9,"AIG EUROPE LIMITED",86535,43.6,2.57,"SI"]
[10,"ACE EUROPEAN GROUP",74715,0,2.2200000000000002,"SI","oggi 15/04/2016 Derienzo mi ha detto che non invierà i dati Giugno 20140e giugno 2015, proverà a Luglio ad inviarci i dati giugno 2016; oggi 17/12/2015 mi ha detto che invieranno i dati del I semestre 2015 a fine gennaio; oggi 08102015 Derienzo con una collega mi hanno detto che invieranno i dati 2014 entro metà novembre; domani 08102015 mi chiama alle 11.00 la DERIENZO; oggi 30/09/2015 ho parlato con la DERIENZO, la devo richiamare mercoledì prossimo per una risposta; oggi 23/03/2015 ho sentito la derienzo chiedendole di risentirci nei prox giorni dopo averle inviato nuovamente i documenti della rilevazione; oggi 04/12/2014 ho sentito la DERIENZO (0227095744) che mi richiama domani mattina; oggi 13/10/2014 ho proposto via telefono e via email a teresa derienzo di estrapolare le informazioni per garanzia dall'ufficio prortafoglio e non da quello contabilità, mi deve far sapere, oggi 17/12/2015 mi ha detto che invieranno i dati del I semestre 2015 a fine gennaio; oggi 08102015 Derienzo con una collega mi hanno detto che invieranno i dati 2014 entro metà novembre; domani 08102015 mi chiama alle 11.00 la DERIENZO; oggi 30/09/2015 ho parlato con la DERIENZO, la devo richiamare mercoledì prossimo per una risposta; oggi 23/03/2015 ho sentito la derienzo chiedendole di risentirci nei prox giorni dopo averle inviato nuovamente i documenti della rilevazione; oggi 04/12/2014 ho sentito la DERIENZO (0227095744) che mi richiama domani mattina; oggi 13/10/2014 ho proposto via telefono e via email a teresa derienzo di estrapolare le informazioni per garanzia dall'ufficio prortafoglio e non da quello contabilità, mi deve far sapere"]
[11,"VITTORIA ASSICURAZIONI",71139,18.2,2.11,"SI"]
[12,"ITALIANA ASSICURAZIONI",44192,-5.8,1.31,"SI"]
[13,"CARIGE R.D. ASSICURAZIONI E RIASSICURAZIONI",42543,-20.6,1.26,"SI"]
[14,"SARA ASSICURAZIONI",42157,1.7,1.25,"SI"," oggi 14/10/2014 Adolfo Priori, responsabile dell'estrazione dati, mi ha detto che mi invierà i dati per lunedì, martedì della prox settimana; oggi 13/10/2014 gli ho mandato una email; oggi 09/10/2014 Salvatore Stefano mi ha detto che se i dati domani non arrivano devo ritelefonargli"]
[15,"AXA MPS ASSICURAZIONI DANNI",41405,-0.4,1.23,"estrazione dati a gennaio 2016","oggi 28/01/2016 ZUENA mi ha scritto per comunicare che invieranno i dati per  luglio 2016, insieme a quelli di AXA ASSICURAZIONE e QUADRA ASSICURAZIONE. oggi 19/10/2015 Borgia mi ha scritto che hanno programmato un'estrazione dei dati per gennaio 2016; oggi 16102015 gli ho mandato email per sapere qualcosa; oggi 14102015, non riuscendo a parlare con Borgia, gli ho scritto una email, mi ha risposto che mi avrebbe richiamato; oggi 30/09/2015 ho parlato con Borgia, gli ho girato la email e gli devo telefonare fra qualche giorno per avere news; oggi 13/04/2015 ho inviato a Borgia una email dopo averlo chiamto durante una riunione, oggi 19/03/2015 Michele mi ha detto che l'incaricato alla rilevazione è Pierluigi Borgia 0651760233; oggi 06/02/2015 ho riscritto a MIchele per avere info; oggi 22/12/2014 Di giova Paolo mi ha scritto \"e ricerche eseguite sul protocollo formale non hanno permesso purtroppo di rinvenire la comunicazione allegata. Lascio ai Colleghi in indirizzo disporre per l’attuazione.\"; OGGI 22/12/2014 ho mandato email a Stefano Digiovanpaolo; oggi 19/12/2014 Michele mi ha detto di sentire per le comunicazioni ANIA stefano.digiovanpaolo@axa-mps.it (0651760375); oggi 11/12/2014 ho scritto a Michele per avere il nominativo dell'ufficio legale da contattare; oggi 4/12/2014 ho scritto a Michele per avere una email ufficiale sulla loro disponibilità; oggi 26 novembre Michele mi ha scritto che per estrapolare i dati devono coinvolgere l'it e i tempi si allungherebbero molto; oggi 17/11/2014 Michele mi ha detto di risentirci fine settimana per fare il punto della situazione; oggi 11/11/2014 ho mandato email per info a Michele; oggi 14/10/2014 ho parlato con Michele che mi ha detto invierà i dati fine della prox settimana, oggi 13/10/2014 Michele mi ha detto di richiamarlo domani mattina, ho parlato oggi 12032014 con il mio amico Michele Delliquadri, dice che manderà i dati"]
[16,"AVIVA ITALIA",39120,5.2,1.1599999999999999,"SI","oggi 10/12/2014 Claudio Roselli ha scritto che entro gennaio 2015 inviano i dati del 2014; oggi 05/12/2014 ho parlato con Fasolin che si attiva a sollecitare internamente, ci dobbiamo sentire nei prox giorni; oggi 14/10/2014 ho mandato email di sollecito a Laura Maria Fasolin e a Banfi; oggi 14032014 ho mandato email a Banfi per avere notizie."]
[17,"ITAS MUTUA",35085,1.6,1.04,"SI"]
[18,"cargeas ASSICURAZIONI",34630,-4.2,1.03,"SI"]
[19,"ASSICURAZIONI GENERALI",33068,-5.7,0.98]
[20,"CARDIF ASSURANCES RISQUES DIVERS",31376,-0.5,0.93,null,"oggi 30/09/2015 ho mandato email di sollecito; oggi 23/03/2015 ho provato a contattare Pescatori, il centralino gli lascierà un messaggio per farmi richiamare, oggi 4/12/2014 ho chiesto al centralino di poter essere richiamato da Nadia Pogliani in quanto non riesco a contattare Pescatori; oggi 13/10/2014 ho sentito Nadia Pogliani che mi ha detto di inviare la mail di sollecito all'attuario Giovanni Pescatori"]
[21,"METLIFE EUROPE LIMITED",30488,1,0.9,"SI","oggi 2/12/2014 Montanari ha scritto che invierà i dati per la fine di gennaio 2015; oggi 28/11/2014 ho scritto a Montanari per essere chiamato in giornata o al max lunedì mattina; oggi 14/10/2014 ho parlato con Stefania Montanari che mi farà sapere "]
[22,"HELVETIA SA",30429,-7.1,0.9,"SI","oggi 16/12/2015 Caruso mi ha detto che Helvetia parteciperà mentre helveti Italia non invierà più i dati; il 31/07/2014 ci ha scritto Giuseppe Caruso per comunicare che a causa della migrazione in corso verso il nuovo sistema informativo per la gestione del portafoglio danni, Helvetia Rappresentanza non parteciperà alle rilevazione in oggetto al 30 giugno 2014"]
[23,"DIRECT LINE INSURANCE",28262,23.9,0.84,"SI"]
[24,"POSTE ASSICURA",26349,35.700000000000003,0.78,"SI"]
[25,"ASSIMOCO",25855,8,0.77,"SI","oggi 11/11/2014 ho mandato email per info a Carretta; oggi 14/10/2014 ho parlato con Marianna Carretta che mi ha detto di avere il dato e di spedirlo il prima possibile"]
[26,"CHUBB INSURANCE COMPANY OF EUROPE",22652,-19,0.67,null,"oggi 30/09/2015 ho mandato email di sollecito; oggi 14/10/2014 ho inviato email di sollecito a Andrea Beia, lui ci aveva risposto due anni fa che non avevano il dato né per garanzia né per tipologia individuali e collettive"]
[27,"EUROP ASSISTANCE ITALIA",22426,92.6,0.67,"NO","OGGI 04/12/2014 Sarelini mi ha confermato che neanche dall'ufficio portafoglio sono in grado di avere il dato; oggi 28/11/2014 ho scritto a Sarelini per essere chiamato in giornata o al max lunedì mattina; oggi 14/10/2014 ho inviato email di sollecito a Umberto Sarelini, lui ci aveva risposto due anni fa che allo stato attuale non erano in grado di fornire il dato"]
[28,"HELVETIA ITALIA ASSICURAZIONI",21143,-1.8,0.63,"NO","oggi 16/12/2015 Caruso mi ha detto che Helvetia parteciperà mentre helveti Italia non invierà più i dati; oggi 21/10/2014 Caruso ha scritto che manderà i dati entro la fine di questa settimna; oggi 15/10/2014 Giuseppe Caruso mi ha detto che non pensa riesca a darmi nessuna informazione neanche per Helvetia italiana ma mi fa sapere lunedì prox; oggi 13/10/2014 ho mandato email a Giuseppe Caruso per sapere se ci possono mandare i dati almeno per quest'altra compagnia"]
[29,"FATA ASSICURAZIONI DANNI",20695,-0.9,0.61,null,"oggi 30/09/2015 ho mandato email di sollecito; oggi 01/12/2014 mi ha scritto Bucca dicendomi \"Ho tante cose urgenti da fare ti richiamo io appena finisco ma non prima di 10 giorni, dobbiamo prima ultimare il piano strategico\"; oggi 28/11/2014 ho scritto a Bucca per sentirci lunedì mattina, oggi 13/11/2014 Bucca ha scritto che proveranno ad estrapolare i dati prox settimana; oggi 11/11/2014 ho mandato email per info a Bucca; oggi 14/10/2014 ho parlato con Bucca che mi ha detto che hanno i dati e che mi farà sapere quando riuscirà ad inviarli"]
[30,"GENERTEL",20563,16.899999999999999,0.61,"SI"]
[31,"MEDIOLANUM ASSICURAZIONI",20550,4.3,0.61,null,"oggi 30/09/2015 ho mandato email di sollecito; oggi 14/10/2014 ho parlato con Elisa Pennati e inviato la richiesta, mi farà sapere nei prossimi giorni"]
[32,"INTESA SANPAOLO ASSICURA",19851,-15,0.59,"SI","oggi 25/11/2014 ho risposto a Granito ad una email dove chiedeva chiarimenti prima di inviare il file; in cui oggi 11/11/2014 ho mandato email per info a Granito; oggi 14/10/2014 ho parlato con Granito che nei prossimi giorni mi farà sapere quando potrà inviare i dati che già hanno; oggi 14032014 ho mandato email a Granito per avere notizie."]
[33,"ERGO ASSICURAZIONI",19569,11,0.57999999999999996,"SI"]
[34,"LLOYD'S",19218,36,0.56999999999999995,null,"oggi 30/09/2015 ho mandato email di sollecito; oggi ho parlato con Giovanni Toniutti che mi ha fatto capire che sarà molto difficile per loro estrapolare questo tipo di dati"]
[35,"DONAU VERSICHERUNG AG VIENNA",19116,-10.199999999999999,0.56999999999999995,null,"oggi 30/09/2015 ho mandato email di sollecito; oggi 14/10/2014 ho mandato email di sollecito a Basile, mi sono fatto dare il contatto da Marfoli"]
[36,"HDI ASSICURAZIONI",17845,0.2,0.53,"SI"]
[37,"ARCA ASSICURAZIONI",17244,8.6,0.51,"SI"]
[38,"SUN INSURANCE OFFICE",16656,-5.2,0.49,"SI"]
[39,"GENIALLOYD",16021,28.6,0.48,null,"oggi 09/12/2015 Simona Colonna di allianz mi ha detto di mandare una email al direttore generale Alessandra Valentini; oggi andrea borea di Allianz mi ha detto che genyalloyd ha un altro database e quindi di contattare loro; oggi 15/10/2014 ho parlato con Luigi Tomassoli che non lavora più in Genialloyd ma nella capgruppo Allianz; dice di contattare i colleghi di Allianz dell'ufficio Portafoglio"]
[40,"ALLEANZA ASSICURAZIONI",14772,4.3,0.44]
[41,"CHIARA ASSICURAZIONI",14060,2.8,0.42,null,"Tiziana Rosaria Pilla 0263288120"]
[42,"UNIQA PROTEZIONE",12775,4.3,0.38,"NO","oggi 01/10/2015 ROSANNA MINUTE mi ha scritto che per il momento non possono inviare i dati; oggi 30/09/2015 ho provato a chiamare Radaelli e poi gli ho mandato email 02 268 583-357; oggi 05/02/2015 ho scritto a radaelli per avere news; OGGI  04/12/2014 ho sentito Radaelli che mi ha detto che invierà direttamente i dati del 2014 a fine gennaio; oggi 01/12/2014 Radaelli mi ha detto che mi telefonerà domani mattina; oggi 28/11/2014 ho scritto a Radaelli per essere chiamato in giornata o al max lunedì mattina; oggi 15/10/2014 ho inviato email di sollecito a Alberto Radaelli"]
[43,"LIGURIA",12624,-2.2000000000000002,0.37]
[44,"TUA ASSICURAZIONI",10938,27.2,0.32]
[45,"NATIONALE SUISSE",9305,-11.1,0.28000000000000003,"SI"]
[46,"AVIPOP ASSICURAZIONI",9201,-15.1,0.27,"SI","oggi 10/12/2014 Claudio Roselli ha scritto che entro gennaio 2015 inviano i dati del 2014; oggi 05/12/2014 ho parlato con Fasolin che si attiva a sollecitare internamente, ci dobbiamo sentire nei prox giorni; oggi 14/10/2014 ho mandato email di sollecito a Laura Maria Fasolin e a Banfi; oggi 14032014 ho mandato email a Banfi per avere notizie."]
[47,"COMPAGNIA ASS. LINEAR",8905,-2,0.26]
[48,"CREDITRAS ASSICURAZIONI",8033,7.9,0.24,null,"oggi 09/12/2015 Simona Colonna di allianz mi ha detto di mandare una email a Elena Tonelli; "]
[49,"UNISALUTE",7353,1.5,0.22,"SI"]
[50,"BNP PARIBAS CARDIF VITA",7294,16.399999999999999,0.22]
[51,"ARISCOM",6147,6.6,0.18,null,"oggi 15/10/2014 ho parlato con il responsabile Borrelli e gli ho mandato l'ultimo invio che ci hanno fatto; dice provvederà al più presto, il ritardo è dovuto al fatto che radaelli non lavora più con loro"]
[52,"ABC ASSICURA",5907,19.2,0.18]
[53,"CREDEMASSICURAZIONI",5645,-6.8,0.17,"SI"]
[54,"BIPIEMME VITA",5572,4.9000000000000004,0.17]
[55,"HDI-GERLING INDUSTRIE",4493,38.6,0.13]
[56,"ZURITEL",4308,25.2,0.13]
[57,"BCC ASSICURAZIONI",4197,31.9,0.12]
[58,"FILO DIRETTO",4042,4.9000000000000004,0.12,null,"oggi 01/12/2014 ho parlato con DIBENEDETTO con cui mi devo sentire entro la fine della settimana; ho parlato con FUCA che mi farà sapere, dice che il dato lo hanno"]
[59,"ASSICURATRICE MILANESE",3943,17.899999999999999,0.12]
[60,"CF ASSICURAZIONI",3682,-4.5,0.11,"SI"]
[61,"GLOBAL ASSISTANCE",3670,72.5,0.11]
[62,"ALLIANZ GLOBAL C & S",3596,-25.4,0.11]
[63,"INTESA SANPAOLO VITA",3501,-41.9,0.1]
[64,"INCONTRA ASSICURAZIONI",3256,1.7,0.1]
[65,"DIRECT&QUIXA SEGUROS Y REASEGUROS S.A.U.",3033,11,0.09]
[66,"CREDIT AGRICOLE ASSICURAZIONI",2994,318.7,0.09]
[67,"CNP IAM",2689,-59.9,0.08]
[68,"INCHIARO ASSICURAZIONI",2637,-9.1,0.08]
[69,"AXA CORPORATE SOLUTIONS",2605,57.1,0.08]
[70,"POSTE ASSICURA - Gruppo Assicurativo Poste Vita",2431,1.3,7.0000000000000007E-2,"SI"]
[71,"NOBIS ASSICURAZIONI",2217,-34,7.0000000000000007E-2,"NO","oggi 31/03/2016 bovi stefano ha mandato email in cui comunica che almeno per quest'anno sono impossibilitati a inviare dati in quanto hanno cambiato sistema informativo"]
[72,"ASSICURATRICE VAL PIAVE",2044,9.5,0.06]
[73,"BIPIEMME ASSICURAZIONI",1873,72.900000000000006,0.06]
[74,"UNIQA ASSICURAZIONI",1701,0.5,0.05,null,"oggi 01/10/2015 ROSANNA MINUTE mi ha scritto che per il momento non possono inviare i dati; oggi 30/09/2015 ho provato a chiamare Radaelli e poi gli ho mandato email 02 268 583-357; oggi 05/02/2015 ho scritto a radaelli per avere news; OGGI  04/12/2014 ho sentito Radaelli che mi ha detto che invierà direttamente i dati del 2014 a fine gennaio; oggi 01/12/2014 Radaelli mi ha detto che mi telefonerà domani mattina; oggi 28/11/2014 ho scritto a Radaelli per essere chiamato in giornata o al max lunedì mattina; oggi 15/10/2014 ho inviato email di sollecito a Alberto Radaelli"]
[75,"AGA INTERNATIONAL",1419,-1.3,0.04,null,"oggi 15/10/2014 ho inviato email di sollecito a Giacomo Salvemini"]
[76,"ITAS ASSICURAZIONI",1358,1.4,0.04]
[77,"DUOMO UNI ONE",1327,163.80000000000001,0.04]
[78,"ANTONIANA VENETA POP. ASS.",1279,4.2,0.04]
[79,"GREAT LAKES REINS.",1234,"(.....)",0.04]
[80,"RBM SALUTE",1148,22,0.03,null,{"$f":"+'Quota Mal (2013)'!G12","v":"oggi 09112015 ho parlato con Vecchietti che mi manda i dati al max fra una settimana; oggi 15102015 ho parlato con Vecchietti che mi farà sapere nei prossimi giorni; oggi 11/12/2014 ho mandato email di sollecito a Vecchietti; oggi 03/12/2014 ho parlato con Vecchietti che mi ha detto mi farà sapere nei prox giorni tramite email; oggi 28/11/2014 ho scritto a Vecchietti per essere chiamato in giornata o al max lunedì mattina; oggi 15/10/2014 ho inviato email di sollecito a Vecchietti e Bruno"}]
[81,"ALA ASSICURAZIONI",1133,-68.5,0.03]
[82,"AVIVA ASSICURAZIONI",1087,-5.0999999999999996,0.03,"SI","oggi 10/12/2014 Claudio Roselli ha scritto che entro gennaio 2015 inviano i dati del 2014; oggi 05/12/2014 ho parlato con Fasolin che si attiva a sollecitare internamente, ci dobbiamo sentire nei prox giorni; oggi 14/10/2014 ho mandato email di sollecito a Laura Maria Fasolin e a Banfi; oggi 14032014 ho mandato email a Banfi per avere notizie."]
[83,"CATTOLICA PREVIDENZA",989,89.5,0.03]
[84,"LE ASSICURAZIONI DI ROMA",862,4.5,0.03,"SI","oggi 29/07/2015 Patrizia LaVia mi ha telefonato, non sono autorizzati ad esercitare il ramo infortuni e malattia, quindi abbiamo deciso di stoppare l'invio dei dati"]
[85,"SYSTEMA ASSICURAZIONI",836,-12.4,0.02]
[86,"BANCASSURANCE POPOLARI DANNI",815,47.4,0.02]
[87,"DIALOGO ASSICURAZIONI",732,-17.600000000000001,0.02]
[88,"NET INSURANCE",390,58.5,0.01]
[89,"TIROLER VERSICHERUNG VAG",357,1.4,0.01]
[90,"MITSUI SUMITOMO INSURANCE",331,15.3,0.01]
[91,"R+V ALLGEMEINE",326,-2.7,0.01]
[92,"CARDIF ASSURANCE VIE",280,-5.0999999999999996,0.01]
[93,"INTER PARTNER ASSISTANCE",261,-7.4,0.01]
[94,"AXERIA PREVOYANCE",221,-54.1,0.01]
[95,"ASSURANT LIFE",103,-78.8,0]
[96,"TOKIO MARINE EUROPE",91,24.7,0]
[97,"ASSURANT GENERAL INSURANCE",65,-91.8,0]
[98,"SACE BT",41,-8.9,0]
[99,"POPOLARE VITA",16,-30.4,0]
[100,"ISI INSURANCE Compagnia di Assicurazioni",4,-42.9,0,"SI"]
[101,"ASSICURAZIONI RISCHI AGRICOLI VMG 1857",2,0,0,"SI"]

{"sheet":"Quota Mal (2013)","index":2,"n_rows":95,"n_cols":7,"rows_kept":95,"cut":false,"hidden":true,"merged":[]}
["PREMI 2013",null,null,null,null,"  2   - MALATTIA"]
[]
["Imprese in ordine decrescente",null,"premi","variaz.","incid. sul","compagnie che "]
[null,null,null,"2013/2012","totale","hanno "]
[null,null,"(migliaia di EURO)","(%)","(%)","risposto"]
[]
[null,"QUOTA MERCATO",null,null,{"$f":"+SUMIF(F:F,\"SI\",E:E)&\"%\"","v":"75,86%"},{"$f":"+COUNTIF(F9:F116,\"SI\")","v":37}]
[]
[1,"GENERALI ITALIA",501830,-11.2,22.7,{"$f":"+'Quota Inf (2013)'!F10","v":"SI"},{"$f":"+'Quota Inf (2013)'!G10","v":"NO POLIZZE COLLETTIVE; oggi 06112015 mi ha scritto Memo Michele per dirmi che manderà dati entro 15 gg; oggi 08102015 mi ha scritto Andrea Zecchi (0110029705-3346468461) che mi fa sapere; oggi 05/10/2015 ho parlato con Tiralongo (ex inaassitalia, i dati del vecchio portafoglio per garanzia li avrebbero) e ci siamo detti che avrei mandato una mail di sollecito a ANDREA ZECCHI, capo anche di MIchele Memo di ex assicuraz. generali, per aver una risposta scritta sui futuri tempi; oggi 25/09/2015 ho parlato con Tiralongo che mi ha detto che il suo nuovo capo è Andrea Zecchi e mercoledì 30 verso 16:00 lo devo chiamare per avere news o farlo parlare con Desantis; oggi 14/09/2015 ho mandato email per avere un aggiornamento; oggi 23/03/2015 ho parlato con Carosi chiedendole di sentirsi nei prox giorni per avere qualche notizia in più sull'avanzamento dei lavori; oggi 11/03/2015 ho scritto a Carosi per avere news; oggi 24/12/2014 Raffaella Carosi mi ha scritto \"stiamo lavorando alle estrazioni richieste, non appena possibile provvederemo ad inviare i dati.\"; OGGI 22/12/2014 ho mandato email a Raffaella Carosi; oggi 19/12/2014 Tiralongo mi ha detto di parlare con il suo capo Raffaella Carosi (raffaella.carosi@generali.com/0684838049) ma non mi ha risposto, poi ho chiamto memo che mi ha detto che stanno facendo le prime estrapolazioni e che sono in contatto con Tiralongo di Roma; oggi 11/12/2014 ho mandato email di sollecito a Tiralongo; oggi 2/12/2014 Tiralongo mi ha detto che dall'alto è arrivato il mandato di preparare i dati, lui per inaassitalia, Memo per Generali e Boaglio per Toro, lunedì prox lo devo richiamare; oggi 28/11/2014 ho sentito Tiralongo che entro oggi o al max lunedi prox mi deve aggiornare sull'avanzamento dei lavori; oggi 14/11/2014 ho chiesto a Tiralongo di rispondermmi con una mail ufficiale sulla fattibilità o meno della trasmissione dei dati, ci dobbiamo sentire martedì prox; oggi 11/11/2014 ho mandato email per info a Tiralongo; OGGI 24/10/2014 Tiralongo ha inviato una email; oggi 22/10/2014 ho sentito Memo e Tiralongo che non avevano news da darmi, sono oberati di lavoro e appena possono mi fanno sapere (con Tiralongo mi sono messo d'accordo che ci saremmo sentiti martedì prossimo); oggi 21/10/2014 ho mandato email a Memo e Tiralongo per avere notizie sui tempi; oggi 08/10/2014 Memo mi ha ridetto che mi farà sapere se riesce a darmi i premi di portafoglio, non ha voluto che gli scrivessi alcuna email per sollecitare la questione(per ex Assicurazioni Generali); per INA ASSITALIA oggi 09/10/2014 ho parlato con Tiralongo che mi fa sapere; GENERTEL PERò LI INVIA; oggi 13032014 ho parlato con Memo Michele che mi farà sapere se utilizzando i premi di portafoglio riuscirebbe a plittare i premi per garanzia; l'8 gennaio 2013 Memo Michele mi ha confermato via email che non hanno la distribuzione dei premi per garanzia."}]
[2,"UNIPOLSAI ASSICURAZIONI",298913,-5,13.52,"SI","oggi 09/10/2014 ho parlato con Roberta Lolli che mi invierà i dati il più presto possibile, mi farà sapere i tempi nei prox giorni con una email "]
[3,"UNISALUTE",239472,6.7,10.83,"SI"]
[4,"RBM SALUTE",184360,47.6,8.34,"mandano dati fra max una settimana","oggi 09112015 ho parlato con Vecchietti che mi manda i dati al max fra una settimana; oggi 15102015 ho parlato con Vecchietti che mi farà sapere nei prossimi giorni; oggi 11/12/2014 ho mandato email di sollecito a Vecchietti; oggi 03/12/2014 ho parlato con Vecchietti che mi ha detto mi farà sapere nei prox giorni tramite email; oggi 28/11/2014 ho scritto a Vecchietti per essere chiamato in giornata o al max lunedì mattina; oggi 15/10/2014 ho inviato email di sollecito a Vecchietti e Bruno"]
[5,"ALLIANZ S.P.A.",172593,-1.3,7.81,"SI",{"$f":"+'Quota Inf (2013)'!G11","v":"oggi 15/03/2016 ho detto a Simona Colonna che ci saremmo risentiti verso metà maggio per i mesi di Dicembre; STIMATA SPACCATURA INDIVIDUALI E COLLETTIVE; oggi 03112015 Simona Colonna mi ha contattato per dirmi che fra 10 giorni dovrebbe mandare i dati; oggi 14102015 mi ha contattato Simona Colonna, devo risentirla fine della prossima settimana per vedere se mandare il dato parziale o complessivo; oggi 14102015 ho mandato email a Villa; oggi 16/09/2015 ho parlato con Silvana Villa che mi ha detto e scritto di riaggiornarci ad inizi ottobre; oggi 14/09/2015 ho mandato email per avere un aggiornamento; oggi 13/11/2014 mi ha mandato email Silvana Villa e Andrea Borea per dirmi che invieranno i dati non prima di metà dell'anno prossimo; oggi 11/11/2014 ho mandato email per info a Borea; oggi 21/10/2014 Andrea Borea mi ha detto di risentirci intorno al 28 ottobre; oggi 16/10/2014 ho parlato con Andrea Borea, coinvolto nella questione oggi, che mi farà sapere sulla fattibilità dei dati per il Gruppo Allianz; oggi 15/10/2014 non riuscendo a parlare con Roberto Giordano, gli ho scritto una email di sollecito;oggi 09/10/2014 ho parlato con Alberto Sartorio (0407781271), responsabile della parte contabile, il quale mi ha detto che non hanno questo dettaglio di informazione ma che probabilmente sono invece presenti nella sezione portafoglio con resp. GIORDANO ROBERTO che devo contattare io (0407781598-0272162345), oggi 12032014 ho parlato e mandato email a matteo zolia che mi fa avere il nome di un referente"}]
[6,"SOCIETA' REALE MUTUA",80245,-12,3.63,"SI"]
[7,"AXA ASSICURAZIONI",67657,14,3.06,"SI","oggi 14032014 ho mandato email a Vecchietti (dirigente) e Bruno per avere notizie."]
[8,"SOCIETA' CATTOLICA",63927,-16.399999999999999,2.89,null,"oggi 07102015 Castiglione mi ha detto di risentirci fra un mese perché stanno chiudendo la trimestrale; oggi 28/09/2015 ho parlato con Castiglione che mi ha detto che dall'ufficio contabilità non ha queste info e di risentirci verso fine settimana per sentire gli altri uffici; oggi 25/09/2015 ho inviato email a castiglione carmelita (0458391457) e parlato con Martini Arianna, le devo chiamare lunedì prox; oggi 14/09/2015 ho mandato email per avere un aggiornamento; oggi 23/03/2015 ho parlato con Obezzi Cristina che mi ha detto di risentirci nei prox giorni (le ho inoltrato nuovamente la richiesta dati); oggi 03/12/2014 ho parlato con Irene Murari (0458391224) che cercherà di contattare Obezzi Cristina; oggi 28/11/2014 ho scritto a Obezzi per essere chiamato in giornata o al max lunedì mattina; oggi 21/10/2014 le ho mandato email per avere news; oggi 13/10/2014 ho parlato con Obezzi Cristina che mi farà sapere, oggi 09/10/2014 ho provato a parlare con Obezzi Cristina e poi le ho mandato email di sollecito (0458391673), oggi 13032014 ho mandato email a Obezzi Cristina per avere notizie."]
[9,"EUROP ASSISTANCE ITALIA",54125,-33.700000000000003,2.4500000000000002,"NO","oggi 04/12/2014 Sarelini mi ha confermato che neanche dall'ufficio portafoglio sono in grado di avere il dato; oggi 28/11/2014 ho scritto a Sarelini per essere chiamato in giornata o al max lunedì mattina; oggi 14/10/2014 ho inviato email di sollecito a Umberto Sarelini, lui ci aveva risposto due anni fa che allo stato attuale non erano in grado di fornire il dato"]
[10,"UBI ASSICURAZIONI",46557,1.5,2.11,"SI"]
[11,"ZURICH INSURANCE PLC",41236,-6.8,1.87,"SI","i dati delle teste non sono disponibili; oggi 05/02/2015 ho scritto a Metadow per info; oggi 4/12/2014 mi ha telefonato Luisa Metadow 02 5966 2501 che dice manderà i dati entro il 12 gennaio dall'ufficioi Portafoglio; oggi 3/12/2014 ho parlato con Simona Schinelli e le ho inviato nuovamente la richiesta, mi deve far sapere; oggi 28/11/2014 ho scritto a delpino per essere chiamato in giornata o al max lunedì mattina; oggi 10/10/2014 gli ho inviato un nuovo sollecito proponendogli i premi di portafoglio invece di quelli contabilizzati, marco.delpino@it.zurich.com , oggi 14032014 ho parlato con Paola Di Candia che ci fa sapere, loro all'ufficio bilancio non hanno la spaccatura richiesta per garanzia mentre all'ufficio portafoglio forse riescono"]
[12,"ASSICURAZIONI GENERALI",37636,11.2,1.7]
[13,"UNIQA ASSICURAZIONI",33095,0.7,1.5,"NO","oggi 01/10/2015 ROSANNA MINUTE mi ha scritto che per il momento non possono inviare i dati; oggi 30/09/2015 ho provato a chiamare Radaelli e poi gli ho mandato email 02 268 583-357; oggi 05/02/2015 ho scritto a radaelli per avere news; OGGI  04/12/2014 ho sentito Radaelli che mi ha detto che invierà direttamente i dati del 2014 a fine gennaio; oggi 01/12/2014 Radaelli mi ha detto che mi telefonerà domani mattina; oggi 28/11/2014 ho scritto a Radaelli per essere chiamato in giornata o al max lunedì mattina; oggi 15/10/2014 ho inviato email di sollecito a Alberto Radaelli"]
[14,"INTESA SANPAOLO ASSICURA",31781,-22.2,1.44,"SI","oggi 14/10/2014 ho parlato con Granito che nei prossimi giorni mi farà sapere quando potrà inviare i dati che già hanno; oggi 14032014 ho mandato email a Granito per avere notizie."]
[15,"METLIFE EUROPE LIMITED",29014,-11.5,1.31,"SI","oggi 2/12/2014 Montanari ha scritto che invierà i dati per la fine di gennaio 2015; oggi 28/11/2014 ho scritto a Montanari per essere chiamato in giornata o al max lunedì mattina; oggi 14/10/2014 ho parlato con Stefania Montanari che mi farà sapere "]
[16,"CARDIF ASSURANCES RISQUES DIVERS",25148,-20.8,1.1399999999999999,null,"oggi 30/09/2015 ho mandato email di sollecito; oggi 23/03/2015 ho provato a contattare Pescatori, il centralino gli lascierà un messaggio per farmi richiamare, oggi 4/12/2014 ho chiesto al centralino di poter essere richiamato da Nadia Pogliani in quanto non riesco a contattare Pescatori; oggi 13/10/2014 ho sentito Nadia Pogliani che mi ha detto di inviare la mail di sollecito all'attuario Giovanni Pescatori"]
[17,"AGA INTERNATIONAL",20741,-8.3000000000000007,0.94,null,"oggi 15102015 ho parlato con Salvemini che mi ha detto che girerà la richiesta al collega dell'ufficio statistico Stefano Lodetti e mi farà sapere; oggi 15/10/2014 ho inviato email di sollecito a Giacomo Salvemini"]
[18,"GROUPAMA ASSICURAZIONI",20594,-15,0.93,"SI","oggi 09/10/2014 Puccioni mi ha detto che entro la prox settimana mi invia i premi contabilizzati ma non la nuova produzione vita,  oggi 13032014 ho mandato email a Nicolas Puccioni per avere notizie."]
[19,"FILO DIRETTO",19328,4.4000000000000004,0.87,null,"oggi 01/12/2014 ho parlato con DIBENEDETTO con cui mi devo sentire entro la fine della settimana; ho parlato con FUCA che mi farà sapere, dice che il dato lo hanno"]
[20,"AVIPOP ASSICURAZIONI",16766,-19.3,0.76,"SI","oggi 10/12/2014 Claudio Roselli ha scritto che entro gennaio 2015 inviano i dati del 2014; oggi 05/12/2014 ho parlato con Fasolin che si attiva a sollecitare internamente, ci dobbiamo sentire nei prox giorni; oggi 14/10/2014 ho mandato email di sollecito a Laura Maria Fasolin e a Banfi; oggi 14032014 ho mandato email a Banfi per avere notizie."]
[21,"ITALIANA ASSICURAZIONI",16336,-0.5,0.74,"SI"]
[22,"MEDIOLANUM ASSICURAZIONI",15529,31.5,0.7,null,"oggi 30/09/2015 ho mandato email di sollecito; oggi 14/10/2014 ho parlato con Elisa Pennati e inviato la richiesta, mi farà sapere nei prossimi giorni"]
[23,"ARCA ASSICURAZIONI",13292,11.6,0.6,"SI"]
[24,"VITTORIA ASSICURAZIONI",11835,9.3000000000000007,0.54,"SI"]
[25,"AXA MPS ASSICURAZIONI DANNI",10884,-24.1,0.49,null,"oggi 30/09/2015 ho parlato con Borgia, gli ho girato la email e gli devo telefonare fra qualche giorno per avere news; oggi 06/02/2015 ho riscritto a MIchele per avere info; oggi 22/12/2014 Di giova Paolo mi ha scritto \"e ricerche eseguite sul protocollo formale non hanno permesso purtroppo di rinvenire la comunicazione allegata. Lascio ai Colleghi in indirizzo disporre per l’attuazione.\"; OGGI 22/12/2014 ho mandato email a Stefano Digiovanpaolo; oggi 19/12/2014 Michele mi ha detto di sentire per le comunicazioni ANIA stefano.digiovanpaolo@axa-mps.it (0651760375); oggi 11/12/2014 ho scritto a Michele per avere il nominativo dell'ufficio legale da contattare; oggi 4/12/2014 ho scritto a Michele per avere una email ufficiale sulla loro disponibilità; oggi 26 novembre Michele mi ha scritto che per estrapolare i dati devono coinvolgere l'it e i tempi si allungherebbero molto; oggi 17/11/2014 Michele mi ha detto di risentirci fine settimana per fare il punto della situazione; oggi 11/11/2014 ho mandato email per info a Michele; oggi 14/10/2014 ho parlato con Michele che mi ha detto invierà i dati fine della prox settimana, oggi 13/10/2014 Michele mi ha detto di richiamarlo domani mattina, ho parlato oggi 12032014 con il mio amico Michele Delliquadri, dice che manderà i dati"]
[26,"ITAS MUTUA",10372,1.7,0.47,"SI"]
[27,"ACE EUROPEAN GROUP",8888,0,0.4,"SI","oggi 30/09/2015 ho parlato con la DERIENZO, la devo richiamare mercoledì prossimo per una risposta; oggi 04/12/2014 ho sentito la DERIENZO (0227095744) che mi richiama domani mattina; oggi 13/10/2014 ho proposto via telefono e via email a teresa derienzo di estrapolare le informazioni per garanzia dall'ufficio prortafoglio e non da quello contabilità, mi deve far sapere"]
[28,"CREDITRAS ASSICURAZIONI",8763,-1.6,0.4]
[29,"ASSIMOCO",8734,18.399999999999999,0.4,"SI","oggi 14/10/2014 ho parlato con Marianna Carretta che mi ha detto di avere il dato e di spedirlo il prima possibile"]
[30,"SARA ASSICURAZIONI",8654,-1.5,0.39,"SI","oggi 14/10/2014 Adolfo Priori, responsabile dell'estrazione dati, mi ha detto che mi invierà i dati per lunedì, martedì della prox settimana; oggi 13/10/2014 gli ho mandato una email; oggi 09/10/2014 Salvatore Stefano mi ha detto che se i dati domani non arrivano devo ritelefonargli"]
[31,"CATTOLICA PREVIDENZA",7938,-47.1,0.36]
[32,"CREDEMASSICURAZIONI",7860,-1.8,0.36,"SI"]
[33,"AVIVA ITALIA",7378,-2.2999999999999998,0.33,"SI","oggi 10/12/2014 Claudio Roselli ha scritto che entro gennaio 2015 inviano i dati del 2014; oggi 05/12/2014 ho parlato con Fasolin che si attiva a sollecitare internamente, ci dobbiamo sentire nei prox giorni; oggi 14/10/2014 ho mandato email di sollecito a Laura Maria Fasolin e a Banfi; oggi 14032014 ho mandato email a Banfi per avere notizie."]
[34,"AIG EUROPE LIMITED",7066,26,0.32,"SI"]
[35,"POSTE ASSICURA - Gruppo Assicurativo Poste Vita",5442,13.8,0.25,"SI"]
[36,"HELVETIA SA",5300,-5.8,0.24,"SI","il 31/07/2014 ci ha scritto Giuseppe Caruso per comunicare che a causa della migrazione in corso verso il nuovo sistema informativo per la gestione del portafoglio danni, Helvetia Rappresentanza non parteciperà alle rilevazione in oggetto al 30 giugno 2014"]
[37,"ALLEANZA ASSICURAZIONI S.p.A.",4743,1.3,0.21]
[38,"INCONTRA ASSICURAZIONI",4681,3.9,0.21]
[39,"CARIGE R.D. ASSICURAZIONI E RIASSICURAZIONI",4464,-20,0.2,"SI"]
[40,"BNP PARIBAS CARDIF VITA S.p.A.",4327,10.9,0.2]
[41,"BIPIEMME VITA",3405,-4.5999999999999996,0.15]
[42,"ERGO ASSICURAZIONI",3351,17.8,0.15,"SI"]
[43,"BIPIEMME ASSICURAZIONI",3306,46.1,0.15]
[44,"FATA ASSICURAZIONI DANNI",3082,12.9,0.14000000000000001]
[45,"GLOBAL ASSISTANCE",2990,23,0.14000000000000001]
[46,"HDI ASSICURAZIONI",2988,-2.4,0.14000000000000001,"SI"]
[47,"ANTONIANA VENETA POP. ASS.",2882,24.7,0.13]
[48,"ABC ASSICURA",2780,20.100000000000001,0.13]
[49,"CHIARA ASSICURAZIONI",2457,-23.7,0.11]
[50,"BCC ASSICURAZIONI",2417,0.5,0.11]
[51,"ARISCOM",2393,16.8,0.11]
[52,"INTER PARTNER ASSISTANCE",1991,128.1,0.09]
[53,"AVIVA ASSICURAZIONI",1962,-26.8,0.09,"SI","oggi 10/12/2014 Claudio Roselli ha scritto che entro gennaio 2015 inviano i dati del 2014; oggi 05/12/2014 ho parlato con Fasolin che si attiva a sollecitare internamente, ci dobbiamo sentire nei prox giorni; oggi 14/10/2014 ho mandato email di sollecito a Laura Maria Fasolin e a Banfi; oggi 14032014 ho mandato email a Banfi per avere notizie."]
[54,"CF ASSICURAZIONI",1947,-13.4,0.09,"SI"]
[55,"CBA VITA",1791,4.9000000000000004,0.08]
[56,"UNIQA PROTEZIONE",1740,-8.3000000000000007,0.08,"NO","oggi 9/12/2014 mi ha detto Minute che non posono inviarci i dati ma lo faranno per i dati del 2015; oggi 4/12/2014 ho mandato email di richiesta invio dati a ROSANNA MINUTE (0432536319), mi ha dato il suo riferimento Radaelli di UNIQA ASSICURAZIONI"]
[57,"SUN INSURANCE OFFICE LIMITED RSA",1389,-5.0999999999999996,0.06,"SI"]
[58,"TUA ASSICURAZIONI",1371,4.9000000000000004,0.06]
[59,"GENERTEL",1134,127.7,0.05,"SI"]
[60,"CNP IAM",1126,"(.....)",0.05]
[61,"NATIONALE SUISSE",914,-6.4,0.04,"SI"]
[62,"LIGURIA",760,-9.1,0.03]
[63,"POSTE VITA - Gruppo Assicurativo Poste Vita",665,-19.100000000000001,0.03,"SI"]
[64,"ALA ASSICURAZIONI",596,-23.1,0.03]
[65,"INCHIARO ASSICURAZIONI",536,-51.3,0.02]
[66,"INTESA SANPAOLO VITA",524,-77.400000000000006,0.02]
[67,"DUOMO UNI ONE",493,146.5,0.02]
[68,"ASSICURATRICE VAL PIAVE",354,13.1,0.02]
[69,"ITAS ASSICURAZIONI",224,-43.4,0.01]
[70,"ASSICURATRICE MILANESE",209,-22.6,0.01]
[71,"NOBIS COMPAGNIA DI ASSICURAZIONI",201,14.9,0.01,"NO","oggi 31/03/2016 bovi stefano ha mandato email in cui comunica che almeno per quest'anno sono impossibilitati a inviare dati in quanto hanno cambiato sistema informativo"]
[72,"LLOYD'S",198,147.5,0.01]
[73,"CARDIF ASSURANCE VIE",133,155.80000000000001,0.01]
[74,"BANCASSURANCE POPOLARI DANNI",120,60,0.01]
[75,"NET INSURANCE",110,685.7,0]
[76,"ASSURANT LIFE",103,-78.8,0]
[77,"ASSURANT GENERAL INSURANCE",65,-91.8,0]
[78,"HELVETIA ITALIA ASSICURAZIONI",58,-86.3,0,"SI"]
[79,"CF LIFE COMPAGNIA DI ASSICURAZIONI SULLA VITA",51,13.3,0,"SI"]
[80,"CHUBB INSURANCE COMPANY OF EUROPE",14,-93.9,0]
[81,"MAPFRE ASISTENCIA",13,"(.....)",0]
[82,"ISI INSURANCE Compagnia di Assicurazioni",8,-46.7,0,"SI"]
[83,"TOKIO MARINE EUROPE",3,0,0]
[84,"AFI ESCA IARD",2,"(.....)",0]
[85,"ASSICURAZIONI RISCHI AGRICOLI VMG 1857",1,0,0,"SI"]
[86,"GENIALLOYD",1,-50,0]
[87,"SYSTEMA ASSICURAZIONI",1,0,0]

{"sheet":"062015vs062014","index":3,"n_rows":49,"n_cols":5,"rows_kept":49,"cut":false,"hidden":true,"merged":[]}
["GIUGNO 2015",74.099999999999994,null,"GIUGNO 2014",60.8]
["003 - ALLIANZ S.P.A.",116652981.38012198,null,"003 - ALLIANZ S.P.A.",95355439.580082923]
["005 - GENERALI ITALIA",153938638,null,"005 - GENERALI ITALIA",18]
["007 - COMPAGNIA DI ASS. DI MILANO",null,null,"007 - COMPAGNIA DI ASS. DI MILANO"]
["014 - AXA ASSICURAZIONI",3.4,null,"014 - AXA ASSICURAZIONI",43599616]
["019 - HELVETIA SA",9013207.0912999995,null,"019 - HELVETIA SA",0.9]
["022 - ITAS MUTUA",17370371.102592185,null,"022 - ITAS MUTUA",16430939.99146146]
["023 - ITALIANA ASSICURAZIONI",17542127.654294029,null,"023 - ITALIANA ASSICURAZIONI",17066883.829679981]
["032 - SARA ASSICURAZIONI",22836858,null,"032 - SARA ASSICURAZIONI",20962326]
["034 - FONDIARIA - SAI",null,null,"034 - FONDIARIA - SAI"]
["034 - UNIPOLSAI ASSICURAZIONI",246824146.46238992,null,"034 - UNIPOLSAI ASSICURAZIONI",294385000.14609945]
["035 - SOCIETA' REALE MUTUA",32389001.790000003,null,"035 - SOCIETA' REALE MUTUA",31550581.634421747]
["038 - VITTORIA ASSICURAZIONI",33829167,null,"038 - VITTORIA ASSICURAZIONI",30372090]
["045 - ASSICURAZIONI RISCHI AGRICOLI VMG 1857",237,null,"045 - ASSICURAZIONI RISCHI AGRICOLI VMG 1857",237]
["080 - SUN INSURANCE OFFICE LIMITED RSA",5421290.1099992981,null,"080 - SUN INSURANCE OFFICE LIMITED RSA",5555208]
["082 - UNIPOL ASSICURAZIONI",null,null,"082 - UNIPOL ASSICURAZIONI"]
["086 - CARIGE R.D. ASSICURAZIONI E RIASSICURAZIONI",30741578,null,"086 - CARIGE R.D. ASSICURAZIONI E RIASSICURAZIONI",33826773]
["133 - HDI ASSICURAZIONI",8960615,null,"133 - HDI ASSICURAZIONI",8924275.4399999995]
["139 - GENIALLOYD",10401864.959999995,null,"139 - GENIALLOYD",9434871.0900000054]
["151 - GROUPAMA ASSICURAZIONI",3,null,"151 - GROUPAMA ASSICURAZIONI",90938748]
["208 - NATIONALE SUISSE",3237135.8692999999,null,"208 - NATIONALE SUISSE",3930146]
["225 - ISI INSURANCE Compagnia di Assicurazioni",null,null,"225 - ISI INSURANCE Compagnia di Assicurazioni"]
["243 - AXA MPS ASSICURAZIONI DANNI",null,null,"243 - AXA MPS ASSICURAZIONI DANNI"]
["247 - GENERTEL",10815321,null,"247 - GENERTEL",11393462]
["254 - ASSIMOCO",11888000,null,"254 - ASSIMOCO",11145000]
["292 - HELVETIA ITALIA ASSICURAZIONI",null,null,"292 - HELVETIA ITALIA ASSICURAZIONI",568892]
["293 - ERGO ASSICURAZIONI",4770088.6499998644,null,"293 - ERGO ASSICURAZIONI",8423758.7299989592]
["304 - CARGEAS ASSICURAZIONI",7365730,null,"304 - CARGEAS ASSICURAZIONI",6890208]
["304 - UBI ASSICURAZIONI",null,null,"304 - UBI ASSICURAZIONI"]
["342 - UNISALUTE",0,null,"342 - UNISALUTE",0]
["344 - AIG EUROPE LIMITED",3328610,null,"344 - AIG EUROPE LIMITED",2316416]
["344 - CHARTIS EUROPE S.A.",null,null,"344 - CHARTIS EUROPE S.A."]
["352 - AVIVA ITALIA",25791749,null,"352 - AVIVA ITALIA",1.3]
["378 - AVIVA ASSICURAZIONI",null,null,"378 - AVIVA ASSICURAZIONI"]
["417 - ARCA ASSICURAZIONI",9003219,null,"417 - ARCA ASSICURAZIONI",8972323]
["419 - INTESA SANPAOLO ASSICURA",3859460,null,"419 - INTESA SANPAOLO ASSICURA",3458788]
["426 - CNP UNICREDIT VITA",0,null,"426 - CNP UNICREDIT VITA",0]
["428 - CREDEMASSICURAZIONI",1296596.0899999801,null,"428 - CREDEMASSICURAZIONI",1416407.2099999601]
["431 - POSTE VITA - Gruppo Assicurativo Poste Vita",0,null,"431 - POSTE VITA - Gruppo Assicurativo Poste Vita",907640]
["432 - DIRECT LINE INSURANCE",17777333,null,"432 - DIRECT LINE INSURANCE",16046279.82]
["457 - AVIPOP ASSICURAZIONI",1585578,null,"457 - AVIPOP ASSICURAZIONI"]
["464 - CF ASSICURAZIONI",1176644,null,"464 - CF ASSICURAZIONI",1856310]
["469 - ARISCOM COMPAGNIA DI ASSICURAZIONI",null,null,"469 - ARISCOM COMPAGNIA DI ASSICURAZIONI"]
["474 - NOBIS COMPAGNIA DI ASSICURAZIONI",null,null,"474 - NOBIS COMPAGNIA DI ASSICURAZIONI",1136548]
["480 - POSTE ASSICURA - Gruppo Assicurativo Poste Vita",17758023,null,"480 - POSTE ASSICURA - Gruppo Assicurativo Poste Vita",15593]
["618 - METLIFE EUROPE LIMITED",8714740,null,"618 - METLIFE EUROPE LIMITED",6660065.9100000001]
["853 - ACE EUROPEAN GROUP LTD",null,null,"853 - ACE EUROPEAN GROUP LTD"]
["864 - ZURICH INSURANCE PLC",28996930,null,"864 - ZURICH INSURANCE PLC",28868401]
["Totale complessivo",863287241.15999722,null,"Totale complessivo",812409228.3817445]

{"sheet":"PREMI CONTAB.","index":4,"n_rows":78,"n_cols":10,"rows_kept":78,"cut":false,"hidden":true,"merged":[]}
[null,"PREMI PORTAFOGLIO DIRETTO AL IV TRIMESTRE 2015"]
[null,"Valori in milioni di euro"]
[null,"Rami","PREMI ITA ed EXTRA UE**","QUOTA MERCATO ITA ed EXTRA UE ","PREMI UE***","QUOTA MERCATO  UE ","PREMI TOTALI","VAR.* % PREMI ITA ed EXTRA UE","VAR.* % PREMI UE","VAR.* % PREMI TOTALI"]
[null,null,"al IV trim. 2015","al IV trim. 2015","al IV trim. 2015","al IV trim. 2015","al IV trim. 2015","2015/2014","2015/2014","2015/2014"]
[null,"R.C. Autoveicoli terrestri",14186.552,{"$f":"+C5/G5","v":0.94917063203967866},759.70899999999995,{"$f":"+E5/G5","v":5.0829367960321309E-2},{"$f":"+C5+E5","v":14946.261},-6.5411901733064437E-2,-5.4650908131623099E-2,-6.4870840434063548E-2]
[null,"Corpi di veicoli terrestri",2455.4690000000001,{"$f":"+C6/G6","v":0.91340695983599751},232.78399999999999,{"$f":"+E6/G6","v":8.6593040164002419E-2},{"$f":"+C6+E6","v":2688.2530000000002},2.8697913000928388E-2,8.4663628654235046E-2,3.3314729268575816E-2]
[null,"Totale settore Auto",{"$f":"SUM(C5:C6)","v":16642.021000000001},0.94371872113969235,{"$f":"SUM(E5:E6)","v":992.49299999999994},5.628127886030769E-2,17634.513999999999,-5.2624043645046359E-2,-2.5287701744771907E-2,-5.1126304031062109E-2]
[null,"Infortuni",2962.5120000000002,0.8728990473137358,431.36500000000001,0.12710095268626409,3393.8770000000004,-3.7830868778335747E-3,5.9562876428339795E-2,3.8448592347903876E-3]
[null,"Malattia",2142.6170000000002,0.93819832845613615,141.13999999999999,6.1801671543863894E-2,2283.7570000000001,4.187551665451017E-2,3.0241538135871604E-2,4.1148905150086845E-2]
[null,"Corpi di veicoli ferroviari",4.0490000000000004,0.94382284382284387,0.24099999999999999,5.6177156177156178E-2,4.29,-3.4457297563377232E-3,-0.57269503546099298,-7.2833369353792921E-2]
[null,"Corpi di veicoli aerei",18.361000000000001,0.63285423775548899,10.651999999999999,0.36714576224451106,29.012999999999998,2.4037925264919213E-2,-0.30301642347706603,-0.12645650799385788]
[null,"Corpi veicoli marittimi",230.18100000000001,0.70912199630314232,94.418999999999997,0.29087800369685762,324.60000000000002,-3.8673410151143672E-2,0.86094960285393296,0.118623741289829]
[null,"Merci trasportate",165.869,0.52538072673829317,149.84299999999999,0.47461927326170683,315.71199999999999,-3.1868510293061925E-2,1.63739834089629E-2,-9.5558385985606842E-3]
[null,"Incendio ed elementi naturali",2289.6869999999999,0.8645910623802765,358.60199999999998,0.13540893761972353,2648.2889999999998,-2.4110967963433261E-3,2.2867492904716347E-2,9.3846638793615433E-4]
[null,"Altri danni ai beni",2729.7660000000001,0.88042369749015803,370.74799999999999,0.11957630250984191,3100.5140000000001,-1.7054663287157323E-2,7.2093043430484949E-2,-7.1829612167485513E-3]
[null,"R.C. Aeromobili",10.265000000000001,0.54017786665263379,8.7379999999999995,0.45982213334736616,19.003,-0.28491814698711249,-0.21856555177964587,-0.25586404041195132]
[null,"R.C. Veicoli marittimi",31.47,0.93424372866260941,2.2149999999999999,6.5756271337390523E-2,33.685000000000002,-3.0096626009821215E-3,0.38871473354231978,1.5832328106152094E-2]
[null,"R.C. Generale",2871.3539999999998,0.69430318423654558,1264.2370000000001,0.30569681576345437,4135.5910000000003,1.4330285418759692E-2,0.13588536177545851,4.863500419013711E-2]
[null,"Credito",59.95,0.12347662388752609,425.56700000000001,0.876523376112474,485.517,-0.14834072053642455,6.4332589709986898E-2,3.2496448591770921E-2]
[null,"Cauzione",362.51900000000001,0.72606756380547621,136.77199999999999,0.27393243619452384,499.291,-5.570894958661754E-2,0.13359800419384515,-1.0440800778501624E-2]
[null,"Perdite pecuniarie ",551.31399999999996,0.72383215608014073,210.346,0.27616784391985927,761.66,7.5226917241029589E-2,-7.5544421737315126E-2,2.8885133537851271E-2]
[" ","Tutela Legale",326.79399999999998,0.86532417153221852,50.860999999999997,0.13467582846778145,377.65499999999997,6.3363714162065099E-2,3.1935398786698377E-2,5.9019988334529705E-2]
[null,"Assistenza",603.45600000000002,0.91819342352115962,53.765000000000001,8.1806576478840445E-2,657.221,0.102219851815051,7.0184518003941099E-2,9.9527295327911158E-2]
[null,"Totale altri rami danni",{"$f":"SUM(C8:C23)","v":15360.163999999999},0.80547591922777917,{"$f":"SUM(E8:E23)","v":3709.5109999999995},0.1945240807722208,19069.674999999999,8.2860072500634541E-3,8.2165257624290389E-2,2.1856391042330392E-2]
[null,"Totale rami danni",{"$f":"+C24+C7","v":32002.184999999998},0.87189462216424396,{"$f":"+E24+E7","v":4702.003999999999},0.12810537783575601,36704.188999999998,-2.4334738139491052E-2,5.7556484309176925E-2,-1.4559404419352329E-2]
[]
[null,"PREMI LAVORO DIRETTO AL II TRIMESTRE 2015"]
[null,"Valori in milioni di euro"]
[null,"Rami","PREMI ITA ed EXTRA UE**","QUOTA MERCATO ITA ed EXTRA UE ","PREMI UE***","QUOTA MERCATO  UE ","PREMI TOTALI","VAR.* % PREMI ITA ed EXTRA UE","VAR.* % PREMI UE","VAR.* % PREMI TOTALI"]
[null,null,"al II trim. 2015","al II trim. 2015","al II trim. 2015","al II trim. 2015","al II trim. 2015","2015/2014","2015/2014","2015/2014"]
[null,"R.C. Autoveicoli terrestri",7451.3209999999999,0.95102223146840525,383.74400000000003,4.8977768531594829E-2,7835.0649999999996,-7.0106181287413749E-2,-0.10441045364799451,-7.1847417008921277E-2]
[null,"Corpi di veicoli terrestri",1255.1110000000001,0.91231767072097258,120.628,8.7682329279027485E-2,1375.739,1.1798706140792925E-2,9.418114200190475E-2,1.8522713811892855E-2]
[null,"Totale settore Auto",8706.4320000000007,0.94524126232628558,504.37200000000001,5.4758737673714475E-2,9210.8040000000001,-5.9126522400074433E-2,-6.3770703900120074E-2,-5.938202402093895E-2]
[null,"Infortuni",1433.7760000000001,0.86250051132494521,228.572,0.13749948867505482,1662.348,-4.4300756306955291E-3,8.1183866344384681E-2,6.5289588965617984E-3]
[null,"Malattia",1032.7190000000001,0.93738506420066414,68.983000000000004,6.2614935799335941E-2,1101.702,1.9604842515564824E-2,0.1261427452004702,2.5680604924226191E-2]
[null,"Corpi di veicoli ferroviari",2.911,0.92530197075651621,0.23499999999999999,7.4698029243483788E-2,3.1459999999999999,0.19352193521935224,7.3059360730593603E-2,0.18359668924003003]
[null,"Corpi di veicoli aerei",12.968999999999999,0.65040120361083242,6.9710000000000001,0.34959879638916747,19.940000000000001,-0.27254879964101408,0.12200225333977155,-0.17058358637327897]
[null,"Corpi veicoli marittimi",112.39700000000001,0.76246845575665478,35.015000000000001,0.23753154424334519,147.41200000000001,7.2152852632281883E-2,0.66571523714380865,0.17129372129610498]
[null,"Merci trasportate",89.912999999999997,0.53852696138619194,77.048000000000002,0.46147303861380801,166.96100000000001,-2.2174612841482477E-2,6.6792202038103765E-2,1.696350258259427E-2]
[null,"Incendio ed elementi naturali",1026.5889999999999,0.86192003855424926,164.46,0.13807996144575077,1191.049,4.6307849337039464E-3,4.3788131401036878E-3,4.5959851551957698E-3]
[null,"Altri danni ai beni",1322.8389999999999,0.89862384448586752,149.233,0.10137615551413247,1472.0719999999999,-4.3871004645253953E-3,4.4829517608345526E-2,3.9007868172435956E-4]
[null,"R.C. Aeromobili",4.6580000000000004,0.54187994416007446,3.9380000000000002,0.45812005583992554,8.5960000000000001,-0.12787867440554201,-0.26351224985973443,-0.19573353293413176]
[null,"R.C. Veicoli marittimi",16.8,0.93038710749293918,1.2569999999999999,6.9612892507060972E-2,18.056999999999999,-9.7695902035555116E-2,0.23964497041420119,-8.0273009728518363E-2]
[null,"R.C. Generale",1377.99,0.68445263012020729,635.28300000000002,0.31554736987979276,2013.2729999999999,4.1384371110367191E-2,9.2708089661910131E-2,5.7050959958794722E-2]
[null,"Credito",31.67,0.12240512346800346,227.06100000000001,0.87759487653199664,258.73099999999999,-0.18224540384218135,8.5227191259337864E-2,4.3451082244098771E-2]
[null,"Cauzione",183.22300000000001,0.74209396516808424,63.677,0.25790603483191576,246.9,-2.2930520522815856E-2,0.1126507076708021,8.7721090241998922E-3]
[null,"Perdite pecuniarie ",269.25900000000001,0.71895768638204827,105.254,0.2810423136179519,374.51299999999998,8.2143718350614847E-2,-0.12742074545695714,1.3720618009765984E-2]
[" ","Tutela Legale",162.06800000000001,0.86883426702763566,24.466999999999999,0.13116573297236442,186.535,8.2105347497179126E-2,5.8764983339824273E-2,7.8985423415085521E-2]
[null,"Assistenza",303.28899999999999,0.91468372449318114,28.289000000000001,8.5316275506818917E-2,331.57799999999997,0.11201592737352328,9.4775541795665719E-2,0.11052388320639839]
[null,"Totale altri rami danni",7383.07,0.80226230827465472,1819.7429999999997,0.19773769172534525,9202.8130000000001,1.6200977679851958E-2,6.8744670204593739E-2,2.6177022088176072E-2]
[null,"Totale rami danni",16089.502,0.87378280975432487,2324.1149999999998,0.12621719024567526,18413.616999999998,"- 2,6%",3.6894485145347655E-2,"- 1,8%"]
[]
[null,"TAVOLA 1a - PREMI LAVORO DIRETTO AL 2° TRIMESTRE 2014"]
[null,"Valori in milioni di euro"]
[null,"Rami","PREMI ITA ed EXTRA UE**","QUOTA MERCATO ITA ed EXTRA UE ","PREMI UE***","QUOTA MERCATO  UE ","PREMI TOTALI","VAR.* % PREMI ITA ed EXTRA UE","VAR.* % PREMI UE","VAR.* % PREMI TOTALI"]
[null,null,2014,2014,2014,2014,2014,"2014/2013","2014/2013","2014/2013"]
[null,"R.C. Autoveicoli terrestri",8013.125,0.94954738710273368,425.76400000000001,5.0452612897266456E-2,8438.8889999999992,-6.6937704246106677E-2,-0.14730551394307412,-7.1353639545999381E-2]
[null,"Corpi di veicoli terrestri",1238.9010000000001,0.92893283406389238,94.781000000000006,7.1067165936107707E-2,1333.682,-2.6941501080346208E-2,-7.5668031987517037E-2,-3.0573297483614259E-2]
[null,"Totale settore Auto",9252.0259999999998,0.9467340784733107,520.54499999999996,5.3265921526689339E-2,9772.5709999999999,-6.1773692987092454E-2,-0.13510042269247124,-6.5991598620822045E-2]
[]
[null,"Infortuni",1433.7190000000001,0.87389651988138528,206.886,0.12610348011861477,1640.605,2.0079030168165257E-3,3.7303330224722542E-2,6.3258606433693743E-3]
[null,"Malattia",1011.109,0.94324884811972287,60.834000000000003,5.6751151880277219E-2,1071.943,-1.5725281646472244E-2,-0.17139082228911562,-2.6108405712832017E-2]
[null,"Corpi di veicoli ferroviari",2.4390000000000001,0.91760722347629797,0.219,8.2392776523702041E-2,2.6579999999999999,-9.5326409495548936E-2,-0.58679245283018866,-0.17606943583384993]
[null,"Corpi di veicoli aerei",17.827999999999999,0.74156649057859492,6.2130000000000001,0.25843350942140508,24.041,0.31368359000810542,-0.21770334928229662,0.11751034258355419]
[null,"Corpi veicoli marittimi",104.833,0.83297312759228948,21.021000000000001,0.16702687240771052,125.854,-0.16811090479137902,1.4768937589328957E-3,-0.14389693077927734]
[null,"Merci trasportate",91.948999999999998,0.56475566911529862,70.863,0.43524433088470132,162.81200000000001,-0.15379164365912024,4.7571882622514661E-2,-7.6532145996993872E-2]
[null,"Incendio ed elementi naturali",1022.599,0.86598551890587294,158.251,0.13401448109412711,1180.8499999999999,-1.7834377495299369E-3,1.977677823458901E-2,1.0528921472217068E-3]
[null,"Altri danni ai beni",1332.4449999999999,0.9040463596468612,141.423,9.5953640353138817E-2,1473.8679999999999,5.5256542860627533E-2,-1.3635285748162196E-2,4.823150210660776E-2]
[null,"R.C. Aeromobili",5.3410000000000002,0.49971931137724551,5.3470000000000004,0.50028068862275454,10.688000000000001,-2.0000000000000018E-2,-0.12229152987524627,-7.3990642869520062E-2]
[null,"R.C. Veicoli marittimi",18.619,0.94835226404522999,1.014,5.1647735954770034E-2,19.632999999999999,1.4880627929793944E-2,0.2320777642770353,2.4205748865355536E-2]
[null,"R.C. Generale",1321.1780000000001,0.73546115161818626,475.21600000000001,0.2645388483818138,1796.394,-1.7466803999509173E-2,2.8212135177648312E-2,-5.7824646537992797E-3]
[null,"Credito",38.728000000000002,0.15725126989089699,207.553,0.84274873010910301,246.28100000000001,-0.17318531169940221,4.9689472406538204E-2,7.0041869745838259E-3]
[null,"Cauzione",187.524,0.78853884581097666,50.287999999999997,0.21146115418902323,237.81200000000001,-3.0978870291806015E-2,-8.6088141753748348E-2,-4.3179477275653411E-2]
[null,"Perdite pecuniarie ",250.80799999999999,0.69033778130092038,112.504,0.30966221869907956,363.31200000000001,0.10694866181766827,0.14572025052192061,0.11867130993838737]
[null,"Tutela Legale",150.30000000000001,0.86702701455428588,23.050999999999998,0.13297298544571418,173.351,5.2336775774549205E-2,7.2738272524199621E-2,5.5004777467394517E-2]
[null,"Assistenza",272.02300000000002,0.91338363234044839,25.795999999999999,8.6616367659551594E-2,297.81900000000002,7.7480967432722592E-2,0.21995743674627577,8.8491887999941454E-2]
[null,"Totale altri rami danni",7261.4420000000009,0.82255403055827081,1566.479,0.17744596944172925,8827.9210000000003,4.7884018969848174E-3,2.3038094883565341E-2,7.9790683760292413E-3]
[null,"Totale rami danni",16513.468000000001,0.88779737654251312,2087.0239999999999,0.11220262345748704,18600.491999999998,-3.3623370752325132E-2,-2.1581681519357909E-2,-3.2287044788941177E-2]

{"sheet":"Quota Inf (2014)","index":5,"n_rows":107,"n_cols":8,"rows_kept":107,"cut":false,"hidden":true,"merged":[]}
["PREMI 2014",null,null,null,null,"  1   - INFORTUNI"]
[]
["Imprese in ordine decrescente",null,"premi","variaz.","incid. sul","compagnie che "]
[null,null,null,"2014/2013","totale","hanno "]
[null,null,"(migliaia di EURO)","(%)","(%)","risposto",null,"oggi 12032014 ho parlato con Boaglio che mi fa sapere qualcosa in merito, mi sembra che abbiano le informazioni per i premi di portafoglio ma non per i premi contabilizzati"]
[]
[null,"QUOTA MERCATO",null,null,{"$f":"+SUMIF(F:F,\"SI\",E:E)&\"%\"","v":"79,44%"},{"$f":"+COUNTIF(F108:F116,\"SI\")","v":0}]
[]
[1,"UNIPOLSAI ASSICURAZIONI",690405,-2.7,20.420000000000002,{"$f":"+VLOOKUP(B9,'Quota Inf (2013)'!$B$9:$G$109,5,FALSE)","v":"SI"},"ogg 22/10/2014 Roberta Lolli mi ha detto che fra 2 giorni inviano il dato; oggi 09/10/2014 ho parlato con Roberta Lolli che mi invierà i dati il più presto possibile, mi farà sapere i tempi nei prox giorni con una email "]
[2,"GENERALI ITALIA",607145,-6.4,17.96,{"$f":"+VLOOKUP(B10,'Quota Inf (2013)'!$B$9:$G$109,5,FALSE)","v":"SI"},"NO POLIZZE COLLETTIVE; oggi 06112015 mi ha scritto Memo Michele per dirmi che manderà dati entro 15 gg; oggi 08102015 mi ha scritto Andrea Zecchi (0110029705-3346468461) che mi fa sapere; oggi 05/10/2015 ho parlato con Tiralongo (ex inaassitalia, i dati del vecchio portafoglio per garanzia li avrebbero) e ci siamo detti che avrei mandato una mail di sollecito a ANDREA ZECCHI, capo anche di MIchele Memo di ex assicuraz. generali, per aver una risposta scritta sui futuri tempi; oggi 25/09/2015 ho parlato con Tiralongo che mi ha detto che il suo nuovo capo è Andrea Zecchi e mercoledì 30 verso 16:00 lo devo chiamare per avere news o farlo parlare con Desantis; oggi 14/09/2015 ho mandato email per avere un aggiornamento; oggi 23/03/2015 ho parlato con Carosi chiedendole di sentirsi nei prox giorni per avere qualche notizia in più sull'avanzamento dei lavori; oggi 11/03/2015 ho scritto a Carosi per avere news; oggi 24/12/2014 Raffaella Carosi mi ha scritto \"stiamo lavorando alle estrazioni richieste, non appena possibile provvederemo ad inviare i dati.\"; OGGI 22/12/2014 ho mandato email a Raffaella Carosi; oggi 19/12/2014 Tiralongo mi ha detto di parlare con il suo capo Raffaella Carosi (raffaella.carosi@generali.com/0684838049) ma non mi ha risposto, poi ho chiamto memo che mi ha detto che stanno facendo le prime estrapolazioni e che sono in contatto con Tiralongo di Roma; oggi 11/12/2014 ho mandato email di sollecito a Tiralongo; oggi 2/12/2014 Tiralongo mi ha detto che dall'alto è arrivato il mandato di preparare i dati, lui per inaassitalia, Memo per Generali e Boaglio per Toro, lunedì prox lo devo richiamare; oggi 28/11/2014 ho sentito Tiralongo che entro oggi o al max lunedi prox mi deve aggiornare sull'avanzamento dei lavori; oggi 14/11/2014 ho chiesto a Tiralongo di rispondermmi con una mail ufficiale sulla fattibilità o meno della trasmissione dei dati, ci dobbiamo sentire martedì prox; oggi 11/11/2014 ho mandato email per info a Tiralongo; OGGI 24/10/2014 Tiralongo ha inviato una email; oggi 22/10/2014 ho sentito Memo e Tiralongo che non avevano news da darmi, sono oberati di lavoro e appena possono mi fanno sapere (con Tiralongo mi sono messo d'accordo che ci saremmo sentiti martedì prossimo); oggi 21/10/2014 ho mandato email a Memo e Tiralongo per avere notizie sui tempi; oggi 08/10/2014 Memo mi ha ridetto che mi farà sapere se riesce a darmi i premi di portafoglio, non ha voluto che gli scrivessi alcuna email per sollecitare la questione(per ex Assicurazioni Generali); per INA ASSITALIA oggi 09/10/2014 ho parlato con Tiralongo che mi fa sapere; GENERTEL PERò LI INVIA; oggi 13032014 ho parlato con Memo Michele che mi farà sapere se utilizzando i premi di portafoglio riuscirebbe a plittare i premi per garanzia; l'8 gennaio 2013 Memo Michele mi ha confermato via email che non hanno la distribuzione dei premi per garanzia."]
[3,"ALLIANZ S.P.A.",308588,0.2,9.1300000000000008,{"$f":"+VLOOKUP(B11,'Quota Inf (2013)'!$B$9:$G$109,5,FALSE)","v":"SI"},"oggi 15/03/2016 ho detto a Simona Colonna che ci saremmo risentiti verso metà maggio per i mesi di Dicembre; STIMATA SPACCATURA INDIVIDUALI E COLLETTIVE; oggi 03112015 Simona Colonna mi ha contattato per dirmi che fra 10 giorni dovrebbe mandare i dati; oggi 14102015 mi ha contattato Simona Colonna, devo risentirla fine della prossima settimana per vedere se mandare il dato parziale o complessivo; oggi 14102015 ho mandato email a Villa; oggi 16/09/2015 ho parlato con Silvana Villa che mi ha detto e scritto di riaggiornarci ad inizi ottobre; oggi 14/09/2015 ho mandato email per avere un aggiornamento; oggi 13/11/2014 mi ha mandato email Silvana Villa e Andrea Borea per dirmi che invieranno i dati non prima di metà dell'anno prossimo; oggi 11/11/2014 ho mandato email per info a Borea; oggi 21/10/2014 Andrea Borea mi ha detto di risentirci intorno al 28 ottobre; oggi 16/10/2014 ho parlato con Andrea Borea, coinvolto nella questione oggi, che mi farà sapere sulla fattibilità dei dati per il Gruppo Allianz; oggi 15/10/2014 non riuscendo a parlare con Roberto Giordano, gli ho scritto una email di sollecito;oggi 09/10/2014 ho parlato con Alberto Sartorio (0407781271), responsabile della parte contabile, il quale mi ha detto che non hanno questo dettaglio di informazione ma che probabilmente sono invece presenti nella sezione portafoglio con resp. GIORDANO ROBERTO che devo contattare io (0407781598-0272162345), oggi 12032014 ho parlato e mandato email a matteo zolia che mi fa avere il nome di un referente"]
[4,"SOCIETA' CATTOLICA",152348,35.700000000000003,4.51,{"$f":"+VLOOKUP(B12,'Quota Inf (2013)'!$B$9:$G$109,5,FALSE)","v":"NO"},"oggi 09112015 ho sentito Castiglione (ufficio bilancio) che mi ha detto che non mi risponde alla email perché non è sua la competenza e che in questo periodo non hanno tempo per evadere questa richiesta, che anche Obezzi (dirigente controllo di gestione) sicuramente è nella stessa situazione, oggi 07102015 Castiglione mi ha detto di risentirci fra un mese perché stanno chiudendo la trimestrale; oggi 28/09/2015 ho parlato con Castiglione che mi ha detto che dall'ufficio contabilità non ha queste info e di risentirci verso fine settimana per sentire gli altri uffici; oggi 25/09/2015 ho inviato email a castiglione carmelita (0458391457) e parlato con Martini Arianna, le devo chiamare lunedì prox; oggi 14/09/2015 ho mandato email per avere un aggiornamento; oggi 23/03/2015 ho parlato con Obezzi Cristina che mi ha detto di risentirci nei prox giorni (le ho inoltrato nuovamente la richiesta dati); oggi 03/12/2014 ho parlato con Irene Murari (0458391224) che cercherà di contattare Obezzi Cristina; oggi 28/11/2014 ho scritto a Obezzi per essere chiamato in giornata o al max lunedì mattina; oggi 21/10/2014 le ho mandato email per avere news; oggi 13/10/2014 ho parlato con Obezzi Cristina che mi farà sapere, oggi 09/10/2014 ho provato a parlare con Obezzi Cristina e poi le ho mandato email di sollecito (0458391673), oggi 13032014 ho mandato email a Obezzi Cristina per avere notizie."]
[5,"AXA ASSICURAZIONI",113357,7,3.35,{"$f":"+VLOOKUP(B13,'Quota Inf (2013)'!$B$9:$G$109,5,FALSE)","v":"SI"},0]
[6,"GROUPAMA ASSICURAZIONI",100227,3.6,2.96,{"$f":"+VLOOKUP(B14,'Quota Inf (2013)'!$B$9:$G$109,5,FALSE)","v":"SI"},"oggi 30/03/2016 Puccioni mi ha detto che ha solo il numero delle polizze collettive e non il numero delle teste; oggi 09/10/2014 Puccioni mi ha detto che entro la prox settimana mi invia i premi contabilizzati ma non la nuova produzione vita,  oggi 13032014 ho mandato email a Nicolas Puccioni per avere notizie."]
[7,"ZURICH INSURANCE PLC",93105,1.5,2.75,{"$f":"+VLOOKUP(B15,'Quota Inf (2013)'!$B$9:$G$109,5,FALSE)","v":"SI"},"i dati delle teste non sono disponibili; oggi 05/02/2015 ho scritto a Metadow per info; oggi 4/12/2014 mi ha telefonato Luisa Metadow 02 5966 2501 che dice manderà i dati entro il 12 gennaio dall'ufficioi Portafoglio; oggi 3/12/2014 ho parlato con Simona Schinelli e le ho inviato nuovamente la richiesta, mi deve far sapere; oggi 28/11/2014 ho scritto a delpino per essere chiamato in giornata o al max lunedì mattina; oggi 10/10/2014 gli ho inviato un nuovo sollecito proponendogli i premi di portafoglio invece di quelli contabilizzati, marco.delpino@it.zurich.com , oggi 14032014 ho parlato con Paola Di Candia che ci fa sapere, loro all'ufficio bilancio non hanno la spaccatura richiesta per garanzia mentre all'ufficio portafoglio forse riescono"]
[8,"SOCIETA' REALE MUTUA",90569,0.7,2.68,{"$f":"+VLOOKUP(B16,'Quota Inf (2013)'!$B$9:$G$109,5,FALSE)","v":"SI"},0]
[9,"AIG EUROPE LIMITED",88467,2.2000000000000002,2.62,{"$f":"+VLOOKUP(B17,'Quota Inf (2013)'!$B$9:$G$109,5,FALSE)","v":"SI"},0]
[10,"VITTORIA ASSICURAZIONI",76094,7,2.25,{"$f":"+VLOOKUP(B18,'Quota Inf (2013)'!$B$9:$G$109,5,FALSE)","v":"SI"},0]
[11,"ACE EUROPEAN GROUP LTD",60882,-18.5,1.8,{"$f":"+VLOOKUP(B19,'Quota Inf (2013)'!$B$9:$G$109,5,FALSE)","v":{"$error":"#N/A"}},"oggi 15/04/2016 Derienzo mi ha detto che non invierà i dati Giugno 20140e giugno 2015, proverà a Luglio ad inviarci i dati giugno 2016; oggi 17/12/2015 mi ha detto che invieranno i dati del I semestre 2015 a fine gennaio; oggi 08102015 Derienzo con una collega mi hanno detto che invieranno i dati 2014 entro metà novembre; domani 08102015 mi chiama alle 11.00 la DERIENZO; oggi 30/09/2015 ho parlato con la DERIENZO, la devo richiamare mercoledì prossimo per una risposta; oggi 23/03/2015 ho sentito la derienzo chiedendole di risentirci nei prox giorni dopo averle inviato nuovamente i documenti della rilevazione; oggi 04/12/2014 ho sentito la DERIENZO (0227095744) che mi richiama domani mattina; oggi 13/10/2014 ho proposto via telefono e via email a teresa derienzo di estrapolare le informazioni per garanzia dall'ufficio prortafoglio e non da quello contabilità, mi deve far sapere"]
[12,"AXA MPS ASSICURAZIONI DANNI",45175,9.1,1.34,{"$f":"+VLOOKUP(B20,'Quota Inf (2013)'!$B$9:$G$109,5,FALSE)","v":"estrazione dati a gennaio 2016"},"oggi 28/01/2016 ZUENA mi ha scritto per comunicare che invieranno i dati per  luglio 2016, insieme a quelli di AXA ASSICURAZIONE e QUADRA ASSICURAZIONE. oggi 19/10/2015 Borgia mi ha scritto che hanno programmato un'estrazione dei dati per gennaio 2016; oggi 16102015 gli ho mandato email per sapere qualcosa; oggi 14102015, non riuscendo a parlare con Borgia, gli ho scritto una email, mi ha risposto che mi avrebbe richiamato; oggi 30/09/2015 ho parlato con Borgia, gli ho girato la email e gli devo telefonare fra qualche giorno per avere news; oggi 13/04/2015 ho inviato a Borgia una email dopo averlo chiamto durante una riunione, oggi 19/03/2015 Michele mi ha detto che l'incaricato alla rilevazione è Pierluigi Borgia 0651760233; oggi 06/02/2015 ho riscritto a MIchele per avere info; oggi 22/12/2014 Di giova Paolo mi ha scritto \"e ricerche eseguite sul protocollo formale non hanno permesso purtroppo di rinvenire la comunicazione allegata. Lascio ai Colleghi in indirizzo disporre per l’attuazione.\"; OGGI 22/12/2014 ho mandato email a Stefano Digiovanpaolo; oggi 19/12/2014 Michele mi ha detto di sentire per le comunicazioni ANIA stefano.digiovanpaolo@axa-mps.it (0651760375); oggi 11/12/2014 ho scritto a Michele per avere il nominativo dell'ufficio legale da contattare; oggi 4/12/2014 ho scritto a Michele per avere una email ufficiale sulla loro disponibilità; oggi 26 novembre Michele mi ha scritto che per estrapolare i dati devono coinvolgere l'it e i tempi si allungherebbero molto; oggi 17/11/2014 Michele mi ha detto di risentirci fine settimana per fare il punto della situazione; oggi 11/11/2014 ho mandato email per info a Michele; oggi 14/10/2014 ho parlato con Michele che mi ha detto invierà i dati fine della prox settimana, oggi 13/10/2014 Michele mi ha detto di richiamarlo domani mattina, ho parlato oggi 12032014 con il mio amico Michele Delliquadri, dice che manderà i dati"]
[13,"SARA ASSICURAZIONI",43476,3.1,1.29,{"$f":"+VLOOKUP(B21,'Quota Inf (2013)'!$B$9:$G$109,5,FALSE)","v":"SI"}," oggi 14/10/2014 Adolfo Priori, responsabile dell'estrazione dati, mi ha detto che mi invierà i dati per lunedì, martedì della prox settimana; oggi 13/10/2014 gli ho mandato una email; oggi 09/10/2014 Salvatore Stefano mi ha detto che se i dati domani non arrivano devo ritelefonargli"]
[14,"ITALIANA ASSICURAZIONI",43155,-2.2999999999999998,1.28,{"$f":"+VLOOKUP(B22,'Quota Inf (2013)'!$B$9:$G$109,5,FALSE)","v":"SI"},0]
[15,"AVIVA ITALIA",42212,5,1.25,{"$f":"+VLOOKUP(B23,'Quota Inf (2013)'!$B$9:$G$109,5,FALSE)","v":"SI"},"oggi 10/12/2014 Claudio Roselli ha scritto che entro gennaio 2015 inviano i dati del 2014; oggi 05/12/2014 ho parlato con Fasolin che si attiva a sollecitare internamente, ci dobbiamo sentire nei prox giorni; oggi 14/10/2014 ho mandato email di sollecito a Laura Maria Fasolin e a Banfi; oggi 14032014 ho mandato email a Banfi per avere notizie."]
[16,"CARGEAS ASSICURAZIONI",37180,7.4,1.1000000000000001,{"$f":"+VLOOKUP(B24,'Quota Inf (2013)'!$B$9:$G$109,5,FALSE)","v":"SI"},0]
[17,"CARIGE R.D. ASSICURAZIONI E RIASSICURAZIONI",36720,-13.7,1.0900000000000001,{"$f":"+VLOOKUP(B25,'Quota Inf (2013)'!$B$9:$G$109,5,FALSE)","v":"SI"},0]
[18,"CARDIF ASSURANCES RISQUES DIVERS",35525,13.2,1.05,{"$f":"+VLOOKUP(B26,'Quota Inf (2013)'!$B$9:$G$109,5,FALSE)","v":0},"oggi 30/09/2015 ho mandato email di sollecito; oggi 23/03/2015 ho provato a contattare Pescatori, il centralino gli lascierà un messaggio per farmi richiamare, oggi 4/12/2014 ho chiesto al centralino di poter essere richiamato da Nadia Pogliani in quanto non riesco a contattare Pescatori; oggi 13/10/2014 ho sentito Nadia Pogliani che mi ha detto di inviare la mail di sollecito all'attuario Giovanni Pescatori"]
[19,"ITAS MUTUA",35082,0,1.04,{"$f":"+VLOOKUP(B27,'Quota Inf (2013)'!$B$9:$G$109,5,FALSE)","v":"SI"},0]
[20,"ASSICURAZIONI GENERALI",34170,3.3,1.01,{"$f":"+VLOOKUP(B28,'Quota Inf (2013)'!$B$9:$G$109,5,FALSE)","v":0},0]
[21,"POSTE ASSICURA - Gruppo Assicurativo Poste Vita",32282,22.5,0.95,{"$f":"+VLOOKUP(B29,'Quota Inf (2013)'!$B$9:$G$109,5,FALSE)","v":"SI"},0]
[22,"DIRECT LINE INSURANCE",31380,11,0.93,{"$f":"+VLOOKUP(B30,'Quota Inf (2013)'!$B$9:$G$109,5,FALSE)","v":"SI"},0]
[23,"HELVETIA SA",30793,1.2,0.91,{"$f":"+VLOOKUP(B31,'Quota Inf (2013)'!$B$9:$G$109,5,FALSE)","v":"SI"},"oggi 16/12/2015 Caruso mi ha detto che Helvetia parteciperà mentre helveti Italia non invierà più i dati; il 31/07/2014 ci ha scritto Giuseppe Caruso per comunicare che a causa della migrazione in corso verso il nuovo sistema informativo per la gestione del portafoglio danni, Helvetia Rappresentanza non parteciperà alle rilevazione in oggetto al 30 giugno 2014"]
[24,"METLIFE EUROPE LIMITED",29750,-2.4,0.88,{"$f":"+VLOOKUP(B32,'Quota Inf (2013)'!$B$9:$G$109,5,FALSE)","v":"SI"},"oggi 2/12/2014 Montanari ha scritto che invierà i dati per la fine di gennaio 2015; oggi 28/11/2014 ho scritto a Montanari per essere chiamato in giornata o al max lunedì mattina; oggi 14/10/2014 ho parlato con Stefania Montanari che mi farà sapere "]
[25,"ASSIMOCO",27233,5.3,0.81,{"$f":"+VLOOKUP(B33,'Quota Inf (2013)'!$B$9:$G$109,5,FALSE)","v":"SI"},"oggi 11/11/2014 ho mandato email per info a Carretta; oggi 14/10/2014 ho parlato con Marianna Carretta che mi ha detto di avere il dato e di spedirlo il prima possibile"]
[26,"LLOYD'S",26483,37.799999999999997,0.78,{"$f":"+VLOOKUP(B34,'Quota Inf (2013)'!$B$9:$G$109,5,FALSE)","v":0},"oggi 30/09/2015 ho mandato email di sollecito; oggi ho parlato con Giovanni Toniutti che mi ha fatto capire che sarà molto difficile per loro estrapolare questo tipo di dati"]
[27,"MEDIOLANUM ASSICURAZIONI",24247,18,0.72,{"$f":"+VLOOKUP(B35,'Quota Inf (2013)'!$B$9:$G$109,5,FALSE)","v":0},"oggi 30/09/2015 ho mandato email di sollecito; oggi 14/10/2014 ho parlato con Elisa Pennati e inviato la richiesta, mi farà sapere nei prossimi giorni"]
[28,"GENERTEL",23083,12.3,0.68,{"$f":"+VLOOKUP(B36,'Quota Inf (2013)'!$B$9:$G$109,5,FALSE)","v":"SI"},0]
[29,"HELVETIA ITALIA ASSICURAZIONI",22606,6.9,0.67,{"$f":"+VLOOKUP(B37,'Quota Inf (2013)'!$B$9:$G$109,5,FALSE)","v":"NO"},"oggi 16/12/2015 Caruso mi ha detto che Helvetia parteciperà mentre helveti Italia non invierà più i dati; oggi 21/10/2014 Caruso ha scritto che manderà i dati entro la fine di questa settimna; oggi 15/10/2014 Giuseppe Caruso mi ha detto che non pensa riesca a darmi nessuna informazione neanche per Helvetia italiana ma mi fa sapere lunedì prox; oggi 13/10/2014 ho mandato email a Giuseppe Caruso per sapere se ci possono mandare i dati almeno per quest'altra compagnia"]
[30,"EUROP ASSISTANCE ITALIA",20423,-8.9,0.6,{"$f":"+VLOOKUP(B38,'Quota Inf (2013)'!$B$9:$G$109,5,FALSE)","v":"NO"},"OGGI 04/12/2014 Sarelini mi ha confermato che neanche dall'ufficio portafoglio sono in grado di avere il dato; oggi 28/11/2014 ho scritto a Sarelini per essere chiamato in giornata o al max lunedì mattina; oggi 14/10/2014 ho inviato email di sollecito a Umberto Sarelini, lui ci aveva risposto due anni fa che allo stato attuale non erano in grado di fornire il dato"]
[31,"FATA ASSICURAZIONI DANNI",20021,-3.3,0.59,{"$f":"+VLOOKUP(B39,'Quota Inf (2013)'!$B$9:$G$109,5,FALSE)","v":0},"oggi 30/09/2015 ho mandato email di sollecito; oggi 01/12/2014 mi ha scritto Bucca dicendomi \"Ho tante cose urgenti da fare ti richiamo io appena finisco ma non prima di 10 giorni, dobbiamo prima ultimare il piano strategico\"; oggi 28/11/2014 ho scritto a Bucca per sentirci lunedì mattina, oggi 13/11/2014 Bucca ha scritto che proveranno ad estrapolare i dati prox settimana; oggi 11/11/2014 ho mandato email per info a Bucca; oggi 14/10/2014 ho parlato con Bucca che mi ha detto che hanno i dati e che mi farà sapere quando riuscirà ad inviarli"]
[32,"HDI ASSICURAZIONI",18763,5.0999999999999996,0.55000000000000004,{"$f":"+VLOOKUP(B40,'Quota Inf (2013)'!$B$9:$G$109,5,FALSE)","v":"SI"},0]
[33,"CHUBB INSURANCE COMPANY OF EUROPE",18720,-17.399999999999999,0.55000000000000004,{"$f":"+VLOOKUP(B41,'Quota Inf (2013)'!$B$9:$G$109,5,FALSE)","v":0},"oggi 30/09/2015 ho mandato email di sollecito; oggi 14/10/2014 ho inviato email di sollecito a Andrea Beia, lui ci aveva risposto due anni fa che non avevano il dato né per garanzia né per tipologia individuali e collettive"]
[34,"INTESA SANPAOLO ASSICURA",18456,-7,0.55000000000000004,{"$f":"+VLOOKUP(B42,'Quota Inf (2013)'!$B$9:$G$109,5,FALSE)","v":"SI"},"oggi 25/11/2014 ho risposto a Granito ad una email dove chiedeva chiarimenti prima di inviare il file; in cui oggi 11/11/2014 ho mandato email per info a Granito; oggi 14/10/2014 ho parlato con Granito che nei prossimi giorni mi farà sapere quando potrà inviare i dati che già hanno; oggi 14032014 ho mandato email a Granito per avere notizie."]
[35,"GENIALLOYD",18337,14.5,0.54,{"$f":"+VLOOKUP(B43,'Quota Inf (2013)'!$B$9:$G$109,5,FALSE)","v":0},"oggi 09/12/2015 Simona Colonna di allianz mi ha detto di mandare una email al direttore generale Alessandra Valentini; oggi andrea borea di Allianz mi ha detto che genyalloyd ha un altro database e quindi di contattare loro; oggi 15/10/2014 ho parlato con Luigi Tomassoli che non lavora più in Genialloyd ma nella capgruppo Allianz; dice di contattare i colleghi di Allianz dell'ufficio Portafoglio"]
[36,"ARCA ASSICURAZIONI",17327,0.5,0.51,{"$f":"+VLOOKUP(B44,'Quota Inf (2013)'!$B$9:$G$109,5,FALSE)","v":"SI"},0]
[37,"UNIQA ASSICURAZIONI",16257,12.3,0.48,{"$f":"+VLOOKUP(B45,'Quota Inf (2013)'!$B$9:$G$109,5,FALSE)","v":0},"oggi 01/10/2015 ROSANNA MINUTE mi ha scritto che per il momento non possono inviare i dati; oggi 30/09/2015 ho provato a chiamare Radaelli e poi gli ho mandato email 02 268 583-357; oggi 05/02/2015 ho scritto a radaelli per avere news; OGGI  04/12/2014 ho sentito Radaelli che mi ha detto che invierà direttamente i dati del 2014 a fine gennaio; oggi 01/12/2014 Radaelli mi ha detto che mi telefonerà domani mattina; oggi 28/11/2014 ho scritto a Radaelli per essere chiamato in giornata o al max lunedì mattina; oggi 15/10/2014 ho inviato email di sollecito a Alberto Radaelli"]
[38,"ALLEANZA ASSICURAZIONI",15857,7.3,0.47,{"$f":"+VLOOKUP(B46,'Quota Inf (2013)'!$B$9:$G$109,5,FALSE)","v":0},0]
[39,"ERGO ASSICURAZIONI",15363,-21.5,0.45,{"$f":"+VLOOKUP(B47,'Quota Inf (2013)'!$B$9:$G$109,5,FALSE)","v":"SI"},0]
[40,"SUN INSURANCE OFFICE LIMITED RSA",15306,-8.1,0.45,{"$f":"+VLOOKUP(B48,'Quota Inf (2013)'!$B$9:$G$109,5,FALSE)","v":{"$error":"#N/A"}},{"$error":"#N/A"}]
[41,"CHIARA ASSICURAZIONI",14505,3.2,0.43,{"$f":"+VLOOKUP(B49,'Quota Inf (2013)'!$B$9:$G$109,5,FALSE)","v":0},"Tiziana Rosaria Pilla 0263288120"]
[42,"TUA ASSICURAZIONI",14483,18.100000000000001,0.43,{"$f":"+VLOOKUP(B50,'Quota Inf (2013)'!$B$9:$G$109,5,FALSE)","v":0},0]
[43,"DONAU VERSICHERUNG AG VIENNA",12576,-34.200000000000003,0.37,{"$f":"+VLOOKUP(B51,'Quota Inf (2013)'!$B$9:$G$109,5,FALSE)","v":0},"oggi 30/09/2015 ho mandato email di sollecito; oggi 14/10/2014 ho mandato email di sollecito a Basile, mi sono fatto dare il contatto da Marfoli"]
[44,"LIGURIA",11901,-5.7,0.35,{"$f":"+VLOOKUP(B52,'Quota Inf (2013)'!$B$9:$G$109,5,FALSE)","v":0},0]
[45,"AVIPOP ASSICURAZIONI",9007,-2.1,0.27,{"$f":"+VLOOKUP(B53,'Quota Inf (2013)'!$B$9:$G$109,5,FALSE)","v":"SI"},"oggi 10/12/2014 Claudio Roselli ha scritto che entro gennaio 2015 inviano i dati del 2014; oggi 05/12/2014 ho parlato con Fasolin che si attiva a sollecitare internamente, ci dobbiamo sentire nei prox giorni; oggi 14/10/2014 ho mandato email di sollecito a Laura Maria Fasolin e a Banfi; oggi 14032014 ho mandato email a Banfi per avere notizie."]
[46,"NATIONALE SUISSE",8533,-8.3000000000000007,0.25,{"$f":"+VLOOKUP(B54,'Quota Inf (2013)'!$B$9:$G$109,5,FALSE)","v":"SI"},0]
[47,"COMPAGNIA ASS. LINEAR",8478,-4.8,0.25,{"$f":"+VLOOKUP(B55,'Quota Inf (2013)'!$B$9:$G$109,5,FALSE)","v":0},0]
[48,"CREDITRAS ASSICURAZIONI",8249,2.7,0.24,{"$f":"+VLOOKUP(B56,'Quota Inf (2013)'!$B$9:$G$109,5,FALSE)","v":0},"oggi 09/12/2015 Simona Colonna di allianz mi ha detto di mandare una email a Elena Tonelli; "]
[49,"UNISALUTE",7462,1.5,0.22,{"$f":"+VLOOKUP(B57,'Quota Inf (2013)'!$B$9:$G$109,5,FALSE)","v":"SI"},0]
[50,"ARISCOM",6248,1.6,0.18,{"$f":"+VLOOKUP(B58,'Quota Inf (2013)'!$B$9:$G$109,5,FALSE)","v":0},"oggi 15/10/2014 ho parlato con il responsabile Borrelli e gli ho mandato l'ultimo invio che ci hanno fatto; dice provvederà al più presto, il ritardo è dovuto al fatto che radaelli non lavora più con loro"]
[51,"CREDEMASSICURAZIONI",6004,6.4,0.18,{"$f":"+VLOOKUP(B59,'Quota Inf (2013)'!$B$9:$G$109,5,FALSE)","v":"SI"},0]
[52,"CREDIT AGRICOLE ASSICURAZIONI",5879,96.4,0.17,{"$f":"+VLOOKUP(B60,'Quota Inf (2013)'!$B$9:$G$109,5,FALSE)","v":0},0]
[53,"BNP PARIBAS CARDIF VITA",5749,-21.2,0.17,{"$f":"+VLOOKUP(B61,'Quota Inf (2013)'!$B$9:$G$109,5,FALSE)","v":0},0]
[54,"BIPIEMME VITA",5580,0.1,0.17,{"$f":"+VLOOKUP(B62,'Quota Inf (2013)'!$B$9:$G$109,5,FALSE)","v":0},0]
[55,"INCONTRA ASSICURAZIONI",5191,59.4,0.15,{"$f":"+VLOOKUP(B63,'Quota Inf (2013)'!$B$9:$G$109,5,FALSE)","v":0},0]
[56,"GLOBAL ASSISTANCE",4964,35.299999999999997,0.15,{"$f":"+VLOOKUP(B64,'Quota Inf (2013)'!$B$9:$G$109,5,FALSE)","v":0},0]
[57,"HDI-GERLING INDUSTRIE",4781,6.4,0.14000000000000001,{"$f":"+VLOOKUP(B65,'Quota Inf (2013)'!$B$9:$G$109,5,FALSE)","v":0},0]
[58,"ZURITEL",4722,9.6,0.14000000000000001,{"$f":"+VLOOKUP(B66,'Quota Inf (2013)'!$B$9:$G$109,5,FALSE)","v":0},0]
[59,"BCC ASSICURAZIONI",4220,0.5,0.12,{"$f":"+VLOOKUP(B67,'Quota Inf (2013)'!$B$9:$G$109,5,FALSE)","v":0},0]
[60,"WIENER STADTISCHE VERSIC.",3998,"(.....)",0.12]
[61,"CF ASSICURAZIONI",3808,3.4,0.11,{"$f":"+VLOOKUP(B69,'Quota Inf (2013)'!$B$9:$G$109,5,FALSE)","v":"SI"},"CF LIFE non partecipa in quanto contabilizza premi come assicurazioni complementari di ramo I"]
[62,"ASSICURATRICE MILANESE",3335,-15.4,0.1,{"$f":"+VLOOKUP(B70,'Quota Inf (2013)'!$B$9:$G$109,5,FALSE)","v":0},0]
[63,"FILO DIRETTO",3159,-21.8,0.09,{"$f":"+VLOOKUP(B71,'Quota Inf (2013)'!$B$9:$G$109,5,FALSE)","v":0},"oggi 01/12/2014 ho parlato con DIBENEDETTO con cui mi devo sentire entro la fine della settimana; ho parlato con FUCA che mi farà sapere, dice che il dato lo hanno"]
[64,"FINANCIAL INSURANCE COMPANY",3106,412.5,0.09]
[65,"ABC ASSICURA",2985,-49.5,0.09,{"$f":"+VLOOKUP(B73,'Quota Inf (2013)'!$B$9:$G$109,5,FALSE)","v":0},0]
[66,"BIPIEMME ASSICURAZIONI",2976,58.9,0.09,{"$f":"+VLOOKUP(B74,'Quota Inf (2013)'!$B$9:$G$109,5,FALSE)","v":0},0]
[67,"NOBIS COMPAGNIA DI ASSICURAZIONI",2964,33.700000000000003,0.09,{"$f":"+VLOOKUP(B75,'Quota Inf (2013)'!$B$9:$G$109,5,FALSE)","v":{"$error":"#N/A"}},{"$error":"#N/A"}]
[68,"DIRECT&QUIXA SEGUROS Y REASEGUROS S.A.U.",2903,-4.3,0.09,{"$f":"+VLOOKUP(B76,'Quota Inf (2013)'!$B$9:$G$109,5,FALSE)","v":0},0]
[69,"INCHIARO ASSICURAZIONI",2873,8.9,0.08,{"$f":"+VLOOKUP(B77,'Quota Inf (2013)'!$B$9:$G$109,5,FALSE)","v":0},0]
[70,"ALLIANZ GLOBAL C & S",2771,-22.9,0.08,{"$f":"+VLOOKUP(B78,'Quota Inf (2013)'!$B$9:$G$109,5,FALSE)","v":0},0]
[71,"ASSICURATRICE VAL PIAVE",2329,13.9,7.0000000000000007E-2,{"$f":"+VLOOKUP(B79,'Quota Inf (2013)'!$B$9:$G$109,5,FALSE)","v":0},0]
[72,"AXA CORPORATE SOLUTIONS",2074,-20.399999999999999,0.06,{"$f":"+VLOOKUP(B80,'Quota Inf (2013)'!$B$9:$G$109,5,FALSE)","v":0},0]
[73,"CNP IAM",2048,-23.8,0.06,{"$f":"+VLOOKUP(B81,'Quota Inf (2013)'!$B$9:$G$109,5,FALSE)","v":0},0]
[74,"GREAT LAKES REINS.",1684,36.5,0.05,{"$f":"+VLOOKUP(B82,'Quota Inf (2013)'!$B$9:$G$109,5,FALSE)","v":0},0]
[75,"AGA INTERNATIONAL",1518,7,0.04,{"$f":"+VLOOKUP(B83,'Quota Inf (2013)'!$B$9:$G$109,5,FALSE)","v":0},"oggi 15/10/2014 ho inviato email di sollecito a Giacomo Salvemini"]
[76,"INTESA SANPAOLO VITA",1466,-58.1,0.04,{"$f":"+VLOOKUP(B84,'Quota Inf (2013)'!$B$9:$G$109,5,FALSE)","v":0},0]
[77,"ITAS ASSICURAZIONI",1460,7.5,0.04,{"$f":"+VLOOKUP(B85,'Quota Inf (2013)'!$B$9:$G$109,5,FALSE)","v":0},0]
[78,"POSTE VITA - Gruppo Assicurativo Poste Vita",1178,-51.5,0.03,{"$f":"+VLOOKUP(B86,'Quota Inf (2013)'!$B$9:$G$109,5,FALSE)","v":{"$error":"#N/A"}},{"$error":"#N/A"}]
[79,"ALA ASSICURAZIONI",1148,1.3,0.03,{"$f":"+VLOOKUP(B87,'Quota Inf (2013)'!$B$9:$G$109,5,FALSE)","v":0},0]
[80,"CATTOLICA PREVIDENZA",866,-12.4,0.03,{"$f":"+VLOOKUP(B88,'Quota Inf (2013)'!$B$9:$G$109,5,FALSE)","v":0},0]
[81,"RBM SALUTE",845,-26.4,0.02,{"$f":"+VLOOKUP(B89,'Quota Inf (2013)'!$B$9:$G$109,5,FALSE)","v":0},"oggi 09112015 ho parlato con Vecchietti che mi manda i dati al max fra una settimana; oggi 15102015 ho parlato con Vecchietti che mi farà sapere nei prossimi giorni; oggi 11/12/2014 ho mandato email di sollecito a Vecchietti; oggi 03/12/2014 ho parlato con Vecchietti che mi ha detto mi farà sapere nei prox giorni tramite email; oggi 28/11/2014 ho scritto a Vecchietti per essere chiamato in giornata o al max lunedì mattina; oggi 15/10/2014 ho inviato email di sollecito a Vecchietti e Bruno"]
[82,"BANCASSURANCE POPOLARI DANNI",833,2.2000000000000002,0.02,{"$f":"+VLOOKUP(B90,'Quota Inf (2013)'!$B$9:$G$109,5,FALSE)","v":0},0]
[83,"LE ASSICURAZIONI DI ROMA",696,-19.3,0.02,{"$f":"+VLOOKUP(B91,'Quota Inf (2013)'!$B$9:$G$109,5,FALSE)","v":"SI"},"oggi 29/07/2015 Patrizia LaVia mi ha telefonato, non sono autorizzati ad esercitare il ramo infortuni e malattia, quindi abbiamo deciso di stoppare l'invio dei dati"]
[84,"DIALOGO ASSICURAZIONI",598,-18.3,0.02,{"$f":"+VLOOKUP(B92,'Quota Inf (2013)'!$B$9:$G$109,5,FALSE)","v":0},0]
[85,"NET INSURANCE",550,41,0.02,{"$f":"+VLOOKUP(B93,'Quota Inf (2013)'!$B$9:$G$109,5,FALSE)","v":0},0]
[86,"TIROLER VERSICHERUNG VAG",371,3.9,0.01,{"$f":"+VLOOKUP(B94,'Quota Inf (2013)'!$B$9:$G$109,5,FALSE)","v":0},0]
[87,"MSIG INSURANCE EUROPE AG",355,7.3,0.01]
[88,"R+V ALLGEMEINE",340,4.3,0.01,{"$f":"+VLOOKUP(B96,'Quota Inf (2013)'!$B$9:$G$109,5,FALSE)","v":0},0]
[89,"AXERIA PREVOYANCE",267,20.8,0.01,{"$f":"+VLOOKUP(B97,'Quota Inf (2013)'!$B$9:$G$109,5,FALSE)","v":0},0]
[90,"SYSTEMA ASSICURAZIONI",149,-82.2,0,{"$f":"+VLOOKUP(B98,'Quota Inf (2013)'!$B$9:$G$109,5,FALSE)","v":0},0]
[91,"TOKIO MARINE EUROPE",68,-25.3,0,{"$f":"+VLOOKUP(B99,'Quota Inf (2013)'!$B$9:$G$109,5,FALSE)","v":0},0]
[92,"SACE BT",21,-48.8,0,{"$f":"+VLOOKUP(B100,'Quota Inf (2013)'!$B$9:$G$109,5,FALSE)","v":0},0]
[93,"POPOLARE VITA",14,-12.5,0,{"$f":"+VLOOKUP(B101,'Quota Inf (2013)'!$B$9:$G$109,5,FALSE)","v":0},0]
[94,"ASSURANT LIFE",12,-88.3,0,{"$f":"+VLOOKUP(B102,'Quota Inf (2013)'!$B$9:$G$109,5,FALSE)","v":0},0]
[95,"ASSURANT GENERAL INSURANCE",6,-90.8,0,{"$f":"+VLOOKUP(B103,'Quota Inf (2013)'!$B$9:$G$109,5,FALSE)","v":0},0]
[96,"ASSICURAZIONI RISCHI AGRICOLI VMG 1857",2,0,0,{"$f":"+VLOOKUP(B104,'Quota Inf (2013)'!$B$9:$G$109,5,FALSE)","v":"SI"},0]
[97,"MAPFRE ASISTENCIA",2,-84.6,0]
[98,"CBA VITA",1,0,0]
[99,"INTER PARTNER ASSISTANCE",-3,-101.1,0,{"$f":"+VLOOKUP(B107,'Quota Inf (2013)'!$B$9:$G$109,5,FALSE)","v":0},0]

{"sheet":"Quota Mal (2014)","index":6,"n_rows":107,"n_cols":8,"rows_kept":107,"cut":false,"hidden":true,"merged":[]}
["PREMI 2014",null,null,null,null,"  2   - MALATTIA"]
[]
["Imprese in ordine decrescente",null,"premi","variaz.","incid. sul","compagnie che "]
[null,null,null,"2014/2013","totale","hanno "]
[null,null,"(migliaia di EURO)","(%)","(%)","risposto",null,"oggi 12032014 ho parlato con Boaglio che mi fa sapere qualcosa in merito, mi sembra che abbiano le informazioni per i premi di portafoglio ma non per i premi contabilizzati"]
[]
[null,"QUOTA MERCATO",null,null,{"$f":"+SUMIF(F:F,\"SI\",E:E)&\"%\"","v":"70,12%"},{"$f":"+COUNTIF(F108:F116,\"SI\")","v":0}]
[]
[1,"GENERALI ITALIA",458900,-8.6,20.54,{"$f":"+VLOOKUP(B9,'Quota Inf (2013)'!$B$9:$G$109,5,FALSE)","v":"SI"},"NO POLIZZE COLLETTIVE; oggi 06112015 mi ha scritto Memo Michele per dirmi che manderà dati entro 15 gg; oggi 08102015 mi ha scritto Andrea Zecchi (0110029705-3346468461) che mi fa sapere; oggi 05/10/2015 ho parlato con Tiralongo (ex inaassitalia, i dati del vecchio portafoglio per garanzia li avrebbero) e ci siamo detti che avrei mandato una mail di sollecito a ANDREA ZECCHI, capo anche di MIchele Memo di ex assicuraz. generali, per aver una risposta scritta sui futuri tempi; oggi 25/09/2015 ho parlato con Tiralongo che mi ha detto che il suo nuovo capo è Andrea Zecchi e mercoledì 30 verso 16:00 lo devo chiamare per avere news o farlo parlare con Desantis; oggi 14/09/2015 ho mandato email per avere un aggiornamento; oggi 23/03/2015 ho parlato con Carosi chiedendole di sentirsi nei prox giorni per avere qualche notizia in più sull'avanzamento dei lavori; oggi 11/03/2015 ho scritto a Carosi per avere news; oggi 24/12/2014 Raffaella Carosi mi ha scritto \"stiamo lavorando alle estrazioni richieste, non appena possibile provvederemo ad inviare i dati.\"; OGGI 22/12/2014 ho mandato email a Raffaella Carosi; oggi 19/12/2014 Tiralongo mi ha detto di parlare con il suo capo Raffaella Carosi (raffaella.carosi@generali.com/0684838049) ma non mi ha risposto, poi ho chiamto memo che mi ha detto che stanno facendo le prime estrapolazioni e che sono in contatto con Tiralongo di Roma; oggi 11/12/2014 ho mandato email di sollecito a Tiralongo; oggi 2/12/2014 Tiralongo mi ha detto che dall'alto è arrivato il mandato di preparare i dati, lui per inaassitalia, Memo per Generali e Boaglio per Toro, lunedì prox lo devo richiamare; oggi 28/11/2014 ho sentito Tiralongo che entro oggi o al max lunedi prox mi deve aggiornare sull'avanzamento dei lavori; oggi 14/11/2014 ho chiesto a Tiralongo di rispondermmi con una mail ufficiale sulla fattibilità o meno della trasmissione dei dati, ci dobbiamo sentire martedì prox; oggi 11/11/2014 ho mandato email per info a Tiralongo; OGGI 24/10/2014 Tiralongo ha inviato una email; oggi 22/10/2014 ho sentito Memo e Tiralongo che non avevano news da darmi, sono oberati di lavoro e appena possono mi fanno sapere (con Tiralongo mi sono messo d'accordo che ci saremmo sentiti martedì prossimo); oggi 21/10/2014 ho mandato email a Memo e Tiralongo per avere notizie sui tempi; oggi 08/10/2014 Memo mi ha ridetto che mi farà sapere se riesce a darmi i premi di portafoglio, non ha voluto che gli scrivessi alcuna email per sollecitare la questione(per ex Assicurazioni Generali); per INA ASSITALIA oggi 09/10/2014 ho parlato con Tiralongo che mi fa sapere; GENERTEL PERò LI INVIA; oggi 13032014 ho parlato con Memo Michele che mi farà sapere se utilizzando i premi di portafoglio riuscirebbe a plittare i premi per garanzia; l'8 gennaio 2013 Memo Michele mi ha confermato via email che non hanno la distribuzione dei premi per garanzia."]
[2,"RBM SALUTE",261779,42,11.72,{"$f":"+VLOOKUP(B10,'Quota Inf (2013)'!$B$9:$G$109,5,FALSE)","v":0},"oggi 21/11/2016 ho parlato con la segretaria Sonia Sordi che gli girerà la mia email di sollecito inviata il 17/11/2016; oggi 09112015 ho parlato con Vecchietti che mi manda i dati al max fra una settimana; oggi 15102015 ho parlato con Vecchietti che mi farà sapere nei prossimi giorni; oggi 11/12/2014 ho mandato email di sollecito a Vecchietti; oggi 03/12/2014 ho parlato con Vecchietti che mi ha detto mi farà sapere nei prox giorni tramite email; oggi 28/11/2014 ho scritto a Vecchietti per essere chiamato in giornata o al max lunedì mattina; oggi 15/10/2014 ho inviato email di sollecito a Vecchietti e Bruno"]
[3,"UNISALUTE",261428,9.1999999999999993,11.7,{"$f":"+VLOOKUP(B11,'Quota Inf (2013)'!$B$9:$G$109,5,FALSE)","v":"SI"},0]
[4,"UNIPOLSAI ASSICURAZIONI",240858,-19.399999999999999,10.78,{"$f":"+VLOOKUP(B12,'Quota Inf (2013)'!$B$9:$G$109,5,FALSE)","v":"SI"},"ogg 22/10/2014 Roberta Lolli mi ha detto che fra 2 giorni inviano il dato; oggi 09/10/2014 ho parlato con Roberta Lolli che mi invierà i dati il più presto possibile, mi farà sapere i tempi nei prox giorni con una email "]
[5,"ALLIANZ S.P.A.",172275,-1.8,7.71,{"$f":"+VLOOKUP(B13,'Quota Inf (2013)'!$B$9:$G$109,5,FALSE)","v":"SI"},"oggi 15/03/2016 ho detto a Simona Colonna che ci saremmo risentiti verso metà maggio per i mesi di Dicembre; STIMATA SPACCATURA INDIVIDUALI E COLLETTIVE; oggi 03112015 Simona Colonna mi ha contattato per dirmi che fra 10 giorni dovrebbe mandare i dati; oggi 14102015 mi ha contattato Simona Colonna, devo risentirla fine della prossima settimana per vedere se mandare il dato parziale o complessivo; oggi 14102015 ho mandato email a Villa; oggi 16/09/2015 ho parlato con Silvana Villa che mi ha detto e scritto di riaggiornarci ad inizi ottobre; oggi 14/09/2015 ho mandato email per avere un aggiornamento; oggi 13/11/2014 mi ha mandato email Silvana Villa e Andrea Borea per dirmi che invieranno i dati non prima di metà dell'anno prossimo; oggi 11/11/2014 ho mandato email per info a Borea; oggi 21/10/2014 Andrea Borea mi ha detto di risentirci intorno al 28 ottobre; oggi 16/10/2014 ho parlato con Andrea Borea, coinvolto nella questione oggi, che mi farà sapere sulla fattibilità dei dati per il Gruppo Allianz; oggi 15/10/2014 non riuscendo a parlare con Roberto Giordano, gli ho scritto una email di sollecito;oggi 09/10/2014 ho parlato con Alberto Sartorio (0407781271), responsabile della parte contabile, il quale mi ha detto che non hanno questo dettaglio di informazione ma che probabilmente sono invece presenti nella sezione portafoglio con resp. GIORDANO ROBERTO che devo contattare io (0407781598-0272162345), oggi 12032014 ho parlato e mandato email a matteo zolia che mi fa avere il nome di un referente"]
[6,"SOCIETA' REALE MUTUA",84660,5.5,3.79,{"$f":"+VLOOKUP(B14,'Quota Inf (2013)'!$B$9:$G$109,5,FALSE)","v":"SI"},0]
[7,"SOCIETA' CATTOLICA",62515,-2.2000000000000002,2.8,{"$f":"+VLOOKUP(B15,'Quota Inf (2013)'!$B$9:$G$109,5,FALSE)","v":"NO"},"oggi 09112015 ho sentito Castiglione (ufficio bilancio) che mi ha detto che non mi risponde alla email perché non è sua la competenza e che in questo periodo non hanno tempo per evadere questa richiesta, che anche Obezzi (dirigente controllo di gestione) sicuramente è nella stessa situazione, oggi 07102015 Castiglione mi ha detto di risentirci fra un mese perché stanno chiudendo la trimestrale; oggi 28/09/2015 ho parlato con Castiglione che mi ha detto che dall'ufficio contabilità non ha queste info e di risentirci verso fine settimana per sentire gli altri uffici; oggi 25/09/2015 ho inviato email a castiglione carmelita (0458391457) e parlato con Martini Arianna, le devo chiamare lunedì prox; oggi 14/09/2015 ho mandato email per avere un aggiornamento; oggi 23/03/2015 ho parlato con Obezzi Cristina che mi ha detto di risentirci nei prox giorni (le ho inoltrato nuovamente la richiesta dati); oggi 03/12/2014 ho parlato con Irene Murari (0458391224) che cercherà di contattare Obezzi Cristina; oggi 28/11/2014 ho scritto a Obezzi per essere chiamato in giornata o al max lunedì mattina; oggi 21/10/2014 le ho mandato email per avere news; oggi 13/10/2014 ho parlato con Obezzi Cristina che mi farà sapere, oggi 09/10/2014 ho provato a parlare con Obezzi Cristina e poi le ho mandato email di sollecito (0458391673), oggi 13032014 ho mandato email a Obezzi Cristina per avere notizie."]
[8,"EUROP ASSISTANCE ITALIA",53564,-1,2.4,{"$f":"+VLOOKUP(B16,'Quota Inf (2013)'!$B$9:$G$109,5,FALSE)","v":"NO"},"OGGI 04/12/2014 Sarelini mi ha confermato che neanche dall'ufficio portafoglio sono in grado di avere il dato; oggi 28/11/2014 ho scritto a Sarelini per essere chiamato in giornata o al max lunedì mattina; oggi 14/10/2014 ho inviato email di sollecito a Umberto Sarelini, lui ci aveva risposto due anni fa che allo stato attuale non erano in grado di fornire il dato"]
[9,"AXA ASSICURAZIONI",51449,-24,2.2999999999999998,{"$f":"+VLOOKUP(B17,'Quota Inf (2013)'!$B$9:$G$109,5,FALSE)","v":"SI"},0]
[10,"ZURICH INSURANCE PLC",50942,23.5,2.2799999999999998,{"$f":"+VLOOKUP(B18,'Quota Inf (2013)'!$B$9:$G$109,5,FALSE)","v":"SI"},"i dati delle teste non sono disponibili; oggi 05/02/2015 ho scritto a Metadow per info; oggi 4/12/2014 mi ha telefonato Luisa Metadow 02 5966 2501 che dice manderà i dati entro il 12 gennaio dall'ufficioi Portafoglio; oggi 3/12/2014 ho parlato con Simona Schinelli e le ho inviato nuovamente la richiesta, mi deve far sapere; oggi 28/11/2014 ho scritto a delpino per essere chiamato in giornata o al max lunedì mattina; oggi 10/10/2014 gli ho inviato un nuovo sollecito proponendogli i premi di portafoglio invece di quelli contabilizzati, marco.delpino@it.zurich.com , oggi 14032014 ho parlato con Paola Di Candia che ci fa sapere, loro all'ufficio bilancio non hanno la spaccatura richiesta per garanzia mentre all'ufficio portafoglio forse riescono"]
[11,"CARGEAS ASSICURAZIONI",47899,2.9,2.14,{"$f":"+VLOOKUP(B19,'Quota Inf (2013)'!$B$9:$G$109,5,FALSE)","v":"SI"},0]
[12,"CACI NON LIFE",40856,24.7,1.83,{"$f":"+VLOOKUP(B20,'Quota Inf (2013)'!$B$9:$G$109,5,FALSE)","v":{"$error":"#N/A"}},{"$error":"#N/A"}]
[13,"ASSICURAZIONI GENERALI",39275,4.4000000000000004,1.76,{"$f":"+VLOOKUP(B21,'Quota Inf (2013)'!$B$9:$G$109,5,FALSE)","v":0},0]
[14,"UNIQA ASSICURAZIONI",35857,2.9,1.6,{"$f":"+VLOOKUP(B22,'Quota Inf (2013)'!$B$9:$G$109,5,FALSE)","v":0},"oggi 01/10/2015 ROSANNA MINUTE mi ha scritto che per il momento non possono inviare i dati; oggi 30/09/2015 ho provato a chiamare Radaelli e poi gli ho mandato email 02 268 583-357; oggi 05/02/2015 ho scritto a radaelli per avere news; OGGI  04/12/2014 ho sentito Radaelli che mi ha detto che invierà direttamente i dati del 2014 a fine gennaio; oggi 01/12/2014 Radaelli mi ha detto che mi telefonerà domani mattina; oggi 28/11/2014 ho scritto a Radaelli per essere chiamato in giornata o al max lunedì mattina; oggi 15/10/2014 ho inviato email di sollecito a Alberto Radaelli"]
[15,"INTESA SANPAOLO ASSICURA",27649,-13,1.24,{"$f":"+VLOOKUP(B23,'Quota Inf (2013)'!$B$9:$G$109,5,FALSE)","v":"SI"},"oggi 25/11/2014 ho risposto a Granito ad una email dove chiedeva chiarimenti prima di inviare il file; in cui oggi 11/11/2014 ho mandato email per info a Granito; oggi 14/10/2014 ho parlato con Granito che nei prossimi giorni mi farà sapere quando potrà inviare i dati che già hanno; oggi 14032014 ho mandato email a Granito per avere notizie."]
[16,"CARDIF ASSURANCES RISQUES DIVERS",24621,-2.1,1.1000000000000001,{"$f":"+VLOOKUP(B24,'Quota Inf (2013)'!$B$9:$G$109,5,FALSE)","v":0},"oggi 30/09/2015 ho mandato email di sollecito; oggi 23/03/2015 ho provato a contattare Pescatori, il centralino gli lascierà un messaggio per farmi richiamare, oggi 4/12/2014 ho chiesto al centralino di poter essere richiamato da Nadia Pogliani in quanto non riesco a contattare Pescatori; oggi 13/10/2014 ho sentito Nadia Pogliani che mi ha detto di inviare la mail di sollecito all'attuario Giovanni Pescatori"]
[17,"AGA INTERNATIONAL",22587,8.9,1.01,{"$f":"+VLOOKUP(B25,'Quota Inf (2013)'!$B$9:$G$109,5,FALSE)","v":0},"oggi 15/10/2014 ho inviato email di sollecito a Giacomo Salvemini"]
[18,"MEDIOLANUM ASSICURAZIONI",20189,30,0.9,{"$f":"+VLOOKUP(B26,'Quota Inf (2013)'!$B$9:$G$109,5,FALSE)","v":0},"oggi 30/09/2015 ho mandato email di sollecito; oggi 14/10/2014 ho parlato con Elisa Pennati e inviato la richiesta, mi farà sapere nei prossimi giorni"]
[19,"GROUPAMA ASSICURAZIONI",19572,-5,0.88,{"$f":"+VLOOKUP(B27,'Quota Inf (2013)'!$B$9:$G$109,5,FALSE)","v":"SI"},"oggi 30/03/2016 Puccioni mi ha detto che ha solo il numero delle polizze collettive e non il numero delle teste; oggi 09/10/2014 Puccioni mi ha detto che entro la prox settimana mi invia i premi contabilizzati ma non la nuova produzione vita,  oggi 13032014 ho mandato email a Nicolas Puccioni per avere notizie."]
[20,"ITALIANA ASSICURAZIONI",16920,3.6,0.76,{"$f":"+VLOOKUP(B28,'Quota Inf (2013)'!$B$9:$G$109,5,FALSE)","v":"SI"},0]
[21,"CREDITRAS ASSICURAZIONI",16105,83.8,0.72,{"$f":"+VLOOKUP(B29,'Quota Inf (2013)'!$B$9:$G$109,5,FALSE)","v":0},"oggi 09/12/2015 Simona Colonna di allianz mi ha detto di mandare una email a Elena Tonelli; "]
[22,"FILO DIRETTO",15274,-21,0.68,{"$f":"+VLOOKUP(B30,'Quota Inf (2013)'!$B$9:$G$109,5,FALSE)","v":0},"oggi 01/12/2014 ho parlato con DIBENEDETTO con cui mi devo sentire entro la fine della settimana; ho parlato con FUCA che mi farà sapere, dice che il dato lo hanno"]
[23,"AVIPOP ASSICURAZIONI",15205,-9.3000000000000007,0.68,{"$f":"+VLOOKUP(B31,'Quota Inf (2013)'!$B$9:$G$109,5,FALSE)","v":"SI"},"oggi 10/12/2014 Claudio Roselli ha scritto che entro gennaio 2015 inviano i dati del 2014; oggi 05/12/2014 ho parlato con Fasolin che si attiva a sollecitare internamente, ci dobbiamo sentire nei prox giorni; oggi 14/10/2014 ho mandato email di sollecito a Laura Maria Fasolin e a Banfi; oggi 14032014 ho mandato email a Banfi per avere notizie."]
[24,"ACE EUROPEAN GROUP LTD",13556,52.5,0.61,{"$f":"+VLOOKUP(B32,'Quota Inf (2013)'!$B$9:$G$109,5,FALSE)","v":{"$error":"#N/A"}},{"$error":"#N/A"}]
[25,"METLIFE EUROPE LIMITED",12630,-56.5,0.56999999999999995,{"$f":"+VLOOKUP(B33,'Quota Inf (2013)'!$B$9:$G$109,5,FALSE)","v":"SI"},"oggi 2/12/2014 Montanari ha scritto che invierà i dati per la fine di gennaio 2015; oggi 28/11/2014 ho scritto a Montanari per essere chiamato in giornata o al max lunedì mattina; oggi 14/10/2014 ho parlato con Stefania Montanari che mi farà sapere "]
[26,"ARCA ASSICURAZIONI",12621,-5.0999999999999996,0.56000000000000005,{"$f":"+VLOOKUP(B34,'Quota Inf (2013)'!$B$9:$G$109,5,FALSE)","v":"SI"},0]
[27,"AVIVA ITALIA",12045,29,0.54,{"$f":"+VLOOKUP(B35,'Quota Inf (2013)'!$B$9:$G$109,5,FALSE)","v":"SI"},"oggi 10/12/2014 Claudio Roselli ha scritto che entro gennaio 2015 inviano i dati del 2014; oggi 05/12/2014 ho parlato con Fasolin che si attiva a sollecitare internamente, ci dobbiamo sentire nei prox giorni; oggi 14/10/2014 ho mandato email di sollecito a Laura Maria Fasolin e a Banfi; oggi 14032014 ho mandato email a Banfi per avere notizie."]
[28,"VITTORIA ASSICURAZIONI",11903,0.6,0.53,{"$f":"+VLOOKUP(B36,'Quota Inf (2013)'!$B$9:$G$109,5,FALSE)","v":"SI"},0]
[29,"AXA MPS ASSICURAZIONI DANNI",11011,1.2,0.49,{"$f":"+VLOOKUP(B37,'Quota Inf (2013)'!$B$9:$G$109,5,FALSE)","v":"estrazione dati a gennaio 2016"},"oggi 28/01/2016 ZUENA mi ha scritto per comunicare che invieranno i dati per  luglio 2016, insieme a quelli di AXA ASSICURAZIONE e QUADRA ASSICURAZIONE. oggi 19/10/2015 Borgia mi ha scritto che hanno programmato un'estrazione dei dati per gennaio 2016; oggi 16102015 gli ho mandato email per sapere qualcosa; oggi 14102015, non riuscendo a parlare con Borgia, gli ho scritto una email, mi ha risposto che mi avrebbe richiamato; oggi 30/09/2015 ho parlato con Borgia, gli ho girato la email e gli devo telefonare fra qualche giorno per avere news; oggi 13/04/2015 ho inviato a Borgia una email dopo averlo chiamto durante una riunione, oggi 19/03/2015 Michele mi ha detto che l'incaricato alla rilevazione è Pierluigi Borgia 0651760233; oggi 06/02/2015 ho riscritto a MIchele per avere info; oggi 22/12/2014 Di giova Paolo mi ha scritto \"e ricerche eseguite sul protocollo formale non hanno permesso purtroppo di rinvenire la comunicazione allegata. Lascio ai Colleghi in indirizzo disporre per l’attuazione.\"; OGGI 22/12/2014 ho mandato email a Stefano Digiovanpaolo; oggi 19/12/2014 Michele mi ha detto di sentire per le comunicazioni ANIA stefano.digiovanpaolo@axa-mps.it (0651760375); oggi 11/12/2014 ho scritto a Michele per avere il nominativo dell'ufficio legale da contattare; oggi 4/12/2014 ho scritto a Michele per avere una email ufficiale sulla loro disponibilità; oggi 26 novembre Michele mi ha scritto che per estrapolare i dati devono coinvolgere l'it e i tempi si allungherebbero molto; oggi 17/11/2014 Michele mi ha detto di risentirci fine settimana per fare il punto della situazione; oggi 11/11/2014 ho mandato email per info a Michele; oggi 14/10/2014 ho parlato con Michele che mi ha detto invierà i dati fine della prox settimana, oggi 13/10/2014 Michele mi ha detto di richiamarlo domani mattina, ho parlato oggi 12032014 con il mio amico Michele Delliquadri, dice che manderà i dati"]
[30,"ITAS MUTUA",10135,-2.2999999999999998,0.45,{"$f":"+VLOOKUP(B38,'Quota Inf (2013)'!$B$9:$G$109,5,FALSE)","v":"SI"},0]
[31,"ASSIMOCO",9370,7.3,0.42,{"$f":"+VLOOKUP(B39,'Quota Inf (2013)'!$B$9:$G$109,5,FALSE)","v":"SI"},"oggi 11/11/2014 ho mandato email per info a Carretta; oggi 14/10/2014 ho parlato con Marianna Carretta che mi ha detto di avere il dato e di spedirlo il prima possibile"]
[32,"POSTE ASSICURA - Gruppo Assicurativo Poste Vita",7532,38.4,0.34,{"$f":"+VLOOKUP(B40,'Quota Inf (2013)'!$B$9:$G$109,5,FALSE)","v":"SI"},0]
[33,"CREDEMASSICURAZIONI",7521,-4.3,0.34,{"$f":"+VLOOKUP(B41,'Quota Inf (2013)'!$B$9:$G$109,5,FALSE)","v":"SI"},0]
[34,"SARA ASSICURAZIONI",7212,-16.7,0.32,{"$f":"+VLOOKUP(B42,'Quota Inf (2013)'!$B$9:$G$109,5,FALSE)","v":"SI"}," oggi 14/10/2014 Adolfo Priori, responsabile dell'estrazione dati, mi ha detto che mi invierà i dati per lunedì, martedì della prox settimana; oggi 13/10/2014 gli ho mandato una email; oggi 09/10/2014 Salvatore Stefano mi ha detto che se i dati domani non arrivano devo ritelefonargli"]
[35,"AIG EUROPE LIMITED",7147,1.1000000000000001,0.32,{"$f":"+VLOOKUP(B43,'Quota Inf (2013)'!$B$9:$G$109,5,FALSE)","v":"SI"},0]
[36,"HELVETIA SA",5289,-0.2,0.24,{"$f":"+VLOOKUP(B44,'Quota Inf (2013)'!$B$9:$G$109,5,FALSE)","v":"SI"},"oggi 16/12/2015 Caruso mi ha detto che Helvetia parteciperà mentre helveti Italia non invierà più i dati; il 31/07/2014 ci ha scritto Giuseppe Caruso per comunicare che a causa della migrazione in corso verso il nuovo sistema informativo per la gestione del portafoglio danni, Helvetia Rappresentanza non parteciperà alle rilevazione in oggetto al 30 giugno 2014"]
[37,"ALLEANZA ASSICURAZIONI",5111,7.8,0.23,{"$f":"+VLOOKUP(B45,'Quota Inf (2013)'!$B$9:$G$109,5,FALSE)","v":0},0]
[38,"CARIGE R.D. ASSICURAZIONI E RIASSICURAZIONI",4409,-1.2,0.2,{"$f":"+VLOOKUP(B46,'Quota Inf (2013)'!$B$9:$G$109,5,FALSE)","v":"SI"},0]
[39,"BIPIEMME ASSICURAZIONI",3840,16.2,0.17,{"$f":"+VLOOKUP(B47,'Quota Inf (2013)'!$B$9:$G$109,5,FALSE)","v":0},0]
[40,"BNP PARIBAS CARDIF VITA",3630,-16.100000000000001,0.16,{"$f":"+VLOOKUP(B48,'Quota Inf (2013)'!$B$9:$G$109,5,FALSE)","v":0},0]
[41,"FATA ASSICURAZIONI DANNI",3363,9.1,0.15,{"$f":"+VLOOKUP(B49,'Quota Inf (2013)'!$B$9:$G$109,5,FALSE)","v":0},"oggi 30/09/2015 ho mandato email di sollecito; oggi 01/12/2014 mi ha scritto Bucca dicendomi \"Ho tante cose urgenti da fare ti richiamo io appena finisco ma non prima di 10 giorni, dobbiamo prima ultimare il piano strategico\"; oggi 28/11/2014 ho scritto a Bucca per sentirci lunedì mattina, oggi 13/11/2014 Bucca ha scritto che proveranno ad estrapolare i dati prox settimana; oggi 11/11/2014 ho mandato email per info a Bucca; oggi 14/10/2014 ho parlato con Bucca che mi ha detto che hanno i dati e che mi farà sapere quando riuscirà ad inviarli"]
[42,"ERGO ASSICURAZIONI",3146,-6.1,0.14000000000000001,{"$f":"+VLOOKUP(B50,'Quota Inf (2013)'!$B$9:$G$109,5,FALSE)","v":"SI"},0]
[43,"BIPIEMME VITA",3118,-8.4,0.14000000000000001,{"$f":"+VLOOKUP(B51,'Quota Inf (2013)'!$B$9:$G$109,5,FALSE)","v":0},0]
[44,"GLOBAL ASSISTANCE",3091,3.4,0.14000000000000001,{"$f":"+VLOOKUP(B52,'Quota Inf (2013)'!$B$9:$G$109,5,FALSE)","v":0},0]
[45,"CATTOLICA PREVIDENZA",3073,-61.3,0.14000000000000001,{"$f":"+VLOOKUP(B53,'Quota Inf (2013)'!$B$9:$G$109,5,FALSE)","v":0},0]
[46,"HDI ASSICURAZIONI",2810,-6,0.13,{"$f":"+VLOOKUP(B54,'Quota Inf (2013)'!$B$9:$G$109,5,FALSE)","v":"SI"},0]
[47,"INTER PARTNER ASSISTANCE",2806,40.9,0.13,{"$f":"+VLOOKUP(B55,'Quota Inf (2013)'!$B$9:$G$109,5,FALSE)","v":0},0]
[48,"INCONTRA ASSICURAZIONI",2739,-41.5,0.12,{"$f":"+VLOOKUP(B56,'Quota Inf (2013)'!$B$9:$G$109,5,FALSE)","v":0},0]
[49,"CHIARA ASSICURAZIONI",2532,3.1,0.11,{"$f":"+VLOOKUP(B57,'Quota Inf (2013)'!$B$9:$G$109,5,FALSE)","v":0},"Tiziana Rosaria Pilla 0263288120"]
[50,"BCC ASSICURAZIONI",2308,-4.5,0.1,{"$f":"+VLOOKUP(B58,'Quota Inf (2013)'!$B$9:$G$109,5,FALSE)","v":0},0]
[51,"ABC ASSICURA",2285,-17.8,0.1,{"$f":"+VLOOKUP(B59,'Quota Inf (2013)'!$B$9:$G$109,5,FALSE)","v":0},0]
[52,"CF ASSICURAZIONI",2102,8,0.09,{"$f":"+VLOOKUP(B60,'Quota Inf (2013)'!$B$9:$G$109,5,FALSE)","v":"SI"},0]
[53,"ARISCOM",2032,-15.1,0.09,{"$f":"+VLOOKUP(B61,'Quota Inf (2013)'!$B$9:$G$109,5,FALSE)","v":0},"oggi 15/10/2014 ho parlato con il responsabile Borrelli e gli ho mandato l'ultimo invio che ci hanno fatto; dice provvederà al più presto, il ritardo è dovuto al fatto che radaelli non lavora più con loro"]
[54,"GENERTEL",1992,75.7,0.09,{"$f":"+VLOOKUP(B62,'Quota Inf (2013)'!$B$9:$G$109,5,FALSE)","v":"SI"},0]
[55,"TUA ASSICURAZIONI",1700,-8.8000000000000007,0.08,{"$f":"+VLOOKUP(B63,'Quota Inf (2013)'!$B$9:$G$109,5,FALSE)","v":0},0]
[56,"CBA VITA",1662,-9.1,7.0000000000000007E-2,{"$f":"+VLOOKUP(B64,'Quota Inf (2013)'!$B$9:$G$109,5,FALSE)","v":{"$error":"#N/A"}},{"$error":"#N/A"}]
[57,"SUN INSURANCE OFFICE LIMITED RSA",1111,-20,0.05,{"$f":"+VLOOKUP(B65,'Quota Inf (2013)'!$B$9:$G$109,5,FALSE)","v":{"$error":"#N/A"}},{"$error":"#N/A"}]
[58,"CNP IAM",1009,-10.4,0.05,{"$f":"+VLOOKUP(B66,'Quota Inf (2013)'!$B$9:$G$109,5,FALSE)","v":0},0]
[59,"NATIONALE SUISSE",810,-11.4,0.04,{"$f":"+VLOOKUP(B67,'Quota Inf (2013)'!$B$9:$G$109,5,FALSE)","v":"SI"},0]
[60,"LIGURIA",775,2,0.03]
[61,"INCHIARO ASSICURAZIONI",682,27.2,0.03,{"$f":"+VLOOKUP(B69,'Quota Inf (2013)'!$B$9:$G$109,5,FALSE)","v":0},0]
[62,"ALA ASSICURAZIONI",607,1.8,0.03,{"$f":"+VLOOKUP(B70,'Quota Inf (2013)'!$B$9:$G$109,5,FALSE)","v":0},0]
[63,"ITAS ASSICURAZIONI",517,130.80000000000001,0.02,{"$f":"+VLOOKUP(B71,'Quota Inf (2013)'!$B$9:$G$109,5,FALSE)","v":0},0]
[64,"FINANCIAL INSURANCE COMPANY",464,21.8,0.02]
[65,"ASSICURATRICE VAL PIAVE",427,20.6,0.02,{"$f":"+VLOOKUP(B73,'Quota Inf (2013)'!$B$9:$G$109,5,FALSE)","v":0},0]
[66,"POSTE VITA - Gruppo Assicurativo Poste Vita",416,-37.4,0.02,{"$f":"+VLOOKUP(B74,'Quota Inf (2013)'!$B$9:$G$109,5,FALSE)","v":{"$error":"#N/A"}},{"$error":"#N/A"}]
[67,"NOBIS COMPAGNIA DI ASSICURAZIONI",330,64.2,0.01,{"$f":"+VLOOKUP(B75,'Quota Inf (2013)'!$B$9:$G$109,5,FALSE)","v":{"$error":"#N/A"}},{"$error":"#N/A"}]
[68,"BANCASSURANCE POPOLARI DANNI",321,167.5,0.01,{"$f":"+VLOOKUP(B76,'Quota Inf (2013)'!$B$9:$G$109,5,FALSE)","v":0},0]
[69,"HELVETIA ITALIA ASSICURAZIONI",166,186.2,0.01,{"$f":"+VLOOKUP(B77,'Quota Inf (2013)'!$B$9:$G$109,5,FALSE)","v":"NO"},"oggi 16/12/2015 Caruso mi ha detto che Helvetia parteciperà mentre helveti Italia non invierà più i dati; oggi 21/10/2014 Caruso ha scritto che manderà i dati entro la fine di questa settimna; oggi 15/10/2014 Giuseppe Caruso mi ha detto che non pensa riesca a darmi nessuna informazione neanche per Helvetia italiana ma mi fa sapere lunedì prox; oggi 13/10/2014 ho mandato email a Giuseppe Caruso per sapere se ci possono mandare i dati almeno per quest'altra compagnia"]
[70,"ASSICURATRICE MILANESE",163,-22,0.01,{"$f":"+VLOOKUP(B78,'Quota Inf (2013)'!$B$9:$G$109,5,FALSE)","v":0},0]
[71,"NET INSURANCE",140,27.3,0.01,{"$f":"+VLOOKUP(B79,'Quota Inf (2013)'!$B$9:$G$109,5,FALSE)","v":0},0]
[72,"LLOYD'S",70,-64.599999999999994,0,{"$f":"+VLOOKUP(B80,'Quota Inf (2013)'!$B$9:$G$109,5,FALSE)","v":0},"oggi 30/09/2015 ho mandato email di sollecito; oggi ho parlato con Giovanni Toniutti che mi ha fatto capire che sarà molto difficile per loro estrapolare questo tipo di dati"]
[73,"POPOLARE VITA",70,"(.....)",0,{"$f":"+VLOOKUP(B81,'Quota Inf (2013)'!$B$9:$G$109,5,FALSE)","v":0},0]
[74,"CREDIT AGRICOLE ASSICURAZIONI",65,"(.....)",0,{"$f":"+VLOOKUP(B82,'Quota Inf (2013)'!$B$9:$G$109,5,FALSE)","v":0},0]
[75,"MAPFRE ASISTENCIA",46,"(.....)",0,{"$f":"+VLOOKUP(B83,'Quota Inf (2013)'!$B$9:$G$109,5,FALSE)","v":{"$error":"#N/A"}},{"$error":"#N/A"}]
[76,"LE ASSICURAZIONI DI ROMA",45,-11.8,0,{"$f":"+VLOOKUP(B84,'Quota Inf (2013)'!$B$9:$G$109,5,FALSE)","v":"SI"},"oggi 29/07/2015 Patrizia LaVia mi ha telefonato, non sono autorizzati ad esercitare il ramo infortuni e malattia, quindi abbiamo deciso di stoppare l'invio dei dati"]
[77,"AFI ESCA IARD",18,800,0,{"$f":"+VLOOKUP(B85,'Quota Inf (2013)'!$B$9:$G$109,5,FALSE)","v":{"$error":"#N/A"}},{"$error":"#N/A"}]
[78,"ASSURANT LIFE",12,-88.3,0,{"$f":"+VLOOKUP(B86,'Quota Inf (2013)'!$B$9:$G$109,5,FALSE)","v":0},0]
[79,"INTESA SANPAOLO VITA",8,-98.5,0,{"$f":"+VLOOKUP(B87,'Quota Inf (2013)'!$B$9:$G$109,5,FALSE)","v":0},0]
[80,"ASSURANT GENERAL INSURANCE",6,-90.8,0,{"$f":"+VLOOKUP(B88,'Quota Inf (2013)'!$B$9:$G$109,5,FALSE)","v":0},0]
[81,"HDI-GERLING INDUSTRIE",3,"(.....)",0,{"$f":"+VLOOKUP(B89,'Quota Inf (2013)'!$B$9:$G$109,5,FALSE)","v":0},0]
[82,"TOKIO MARINE EUROPE",3,0,0,{"$f":"+VLOOKUP(B90,'Quota Inf (2013)'!$B$9:$G$109,5,FALSE)","v":0},0]
[83,"CHUBB INSURANCE COMPANY OF EUROPE",2,-85.7,0,{"$f":"+VLOOKUP(B91,'Quota Inf (2013)'!$B$9:$G$109,5,FALSE)","v":0},"oggi 30/09/2015 ho mandato email di sollecito; oggi 14/10/2014 ho inviato email di sollecito a Andrea Beia, lui ci aveva risposto due anni fa che non avevano il dato né per garanzia né per tipologia individuali e collettive"]
[84,"ASSICURAZIONI RISCHI AGRICOLI VMG 1857",1,0,0,{"$f":"+VLOOKUP(B92,'Quota Inf (2013)'!$B$9:$G$109,5,FALSE)","v":"SI"},0]
[85,"GENIALLOYD",1,0,0,{"$f":"+VLOOKUP(B93,'Quota Inf (2013)'!$B$9:$G$109,5,FALSE)","v":0},"oggi 09/12/2015 Simona Colonna di allianz mi ha detto di mandare una email al direttore generale Alessandra Valentini; oggi andrea borea di Allianz mi ha detto che genyalloyd ha un altro database e quindi di contattare loro; oggi 15/10/2014 ho parlato con Luigi Tomassoli che non lavora più in Genialloyd ma nella capgruppo Allianz; dice di contattare i colleghi di Allianz dell'ufficio Portafoglio"]
[86,"ZURITEL",1,"(.....)",0,{"$f":"+VLOOKUP(B94,'Quota Inf (2013)'!$B$9:$G$109,5,FALSE)","v":0},0]
[87,"MSIG INSURANCE EUROPE AG",355,7.3,0.01]
[88,"R+V ALLGEMEINE",340,4.3,0.01,{"$f":"+VLOOKUP(B96,'Quota Inf (2013)'!$B$9:$G$109,5,FALSE)","v":0},0]
[89,"AXERIA PREVOYANCE",267,20.8,0.01,{"$f":"+VLOOKUP(B97,'Quota Inf (2013)'!$B$9:$G$109,5,FALSE)","v":0},0]
[90,"SYSTEMA ASSICURAZIONI",149,-82.2,0,{"$f":"+VLOOKUP(B98,'Quota Inf (2013)'!$B$9:$G$109,5,FALSE)","v":0},0]
[91,"TOKIO MARINE EUROPE",68,-25.3,0,{"$f":"+VLOOKUP(B99,'Quota Inf (2013)'!$B$9:$G$109,5,FALSE)","v":0},0]
[92,"SACE BT",21,-48.8,0,{"$f":"+VLOOKUP(B100,'Quota Inf (2013)'!$B$9:$G$109,5,FALSE)","v":0},0]
[93,"POPOLARE VITA",14,-12.5,0,{"$f":"+VLOOKUP(B101,'Quota Inf (2013)'!$B$9:$G$109,5,FALSE)","v":0},0]
[94,"ASSURANT LIFE",12,-88.3,0,{"$f":"+VLOOKUP(B102,'Quota Inf (2013)'!$B$9:$G$109,5,FALSE)","v":0},0]
[95,"ASSURANT GENERAL INSURANCE",6,-90.8,0,{"$f":"+VLOOKUP(B103,'Quota Inf (2013)'!$B$9:$G$109,5,FALSE)","v":0},0]
[96,"ASSICURAZIONI RISCHI AGRICOLI VMG 1857",2,0,0,{"$f":"+VLOOKUP(B104,'Quota Inf (2013)'!$B$9:$G$109,5,FALSE)","v":"SI"},0]
[97,"MAPFRE ASISTENCIA",2,-84.6,0]
[98,"CBA VITA",1,0,0]
[99,"INTER PARTNER ASSISTANCE",-3,-101.1,0,{"$f":"+VLOOKUP(B107,'Quota Inf (2013)'!$B$9:$G$109,5,FALSE)","v":0},0]

{"sheet":"Quota Mal 2012","index":7,"n_rows":98,"n_cols":7,"rows_kept":98,"cut":false,"hidden":true,"merged":[]}
["PREMI 2012",null,null,null,null,"  2   - MALATTIA"]
[]
["Imprese in ordine decrescente",null,"premi","variaz.","incid. sul","compagnie che "]
[null,null,null,"2012/2011","totale","hanno "]
[null,null,"(migliaia di EURO)","(%)","(%)","risposto"]
[]
[null,"QUOTA MERCATO",null,null,{"$f":"+SUMIF(F:F,\"SI\",E:E)&\"%\"","v":"53,25%"},{"$f":"+COUNTIF(F9:F116,\"SI\")","v":33}]
[]
[1,"ASSICURAZIONI GENERALI",357397,9.6999999999999993,15.63,{"$f":"+IF(VLOOKUP(B9,'Quota Inf 2012'!$B$9:$F$116,5,FALSE)=\"SI\",\"SI\",\"\")","v":"SI"}]
[2,"UNISALUTE",224530,10.3,9.82,{"$f":"+IF(VLOOKUP(B10,'Quota Inf 2012'!$B$9:$F$116,5,FALSE)=\"SI\",\"SI\",\"\")","v":"SI"}]
[3,"INA ASSITALIA",187639,-7.6,8.1999999999999993,{"$f":"+IF(VLOOKUP(B11,'Quota Inf 2012'!$B$9:$F$116,5,FALSE)=\"SI\",\"SI\",\"\")","v":""}]
[4,"ALLIANZ",174925,-1.1000000000000001,7.65,{"$f":"+IF(VLOOKUP(B12,'Quota Inf 2012'!$B$9:$F$116,5,FALSE)=\"SI\",\"SI\",\"\")","v":""}]
[5,"UNIPOL ASSICURAZIONI",140463,2.8,6.14,{"$f":"+IF(VLOOKUP(B13,'Quota Inf 2012'!$B$9:$F$116,5,FALSE)=\"SI\",\"SI\",\"\")","v":"SI"}]
[6,"FONDIARIA - SAI",131833,-14.5,5.76,{"$f":"+IF(VLOOKUP(B14,'Quota Inf 2012'!$B$9:$F$116,5,FALSE)=\"SI\",\"SI\",\"\")","v":"SI"}]
[7,"RBM SALUTE",124878,121.2,5.46,{"$f":"+IF(VLOOKUP(B15,'Quota Inf 2012'!$B$9:$F$116,5,FALSE)=\"SI\",\"SI\",\"\")","v":""},"oggi 14032014 ho mandato email a Vecchietti (dirigente) e Bruno per avere notizie."]
[8,"SOCIETA' REALE MUTUA",91225,10.199999999999999,3.99,{"$f":"+IF(VLOOKUP(B16,'Quota Inf 2012'!$B$9:$F$116,5,FALSE)=\"SI\",\"SI\",\"\")","v":"SI"}]
[9,"EUROP ASSISTANCE ITALIA",81684,-12.6,3.57,{"$f":"+IF(VLOOKUP(B17,'Quota Inf 2012'!$B$9:$F$116,5,FALSE)=\"SI\",\"SI\",\"\")","v":""}]
[10,"SOCIETA' CATTOLICA",72911,-1.7,3.19,{"$f":"+IF(VLOOKUP(B18,'Quota Inf 2012'!$B$9:$F$116,5,FALSE)=\"SI\",\"SI\",\"\")","v":""}]
[11,"AXA ASSICURAZIONI",59336,-6.3,2.59,{"$f":"+IF(VLOOKUP(B19,'Quota Inf 2012'!$B$9:$F$116,5,FALSE)=\"SI\",\"SI\",\"\")","v":"SI"}]
[12,"ALLEANZA TORO",58480,-10.4,2.56,{"$f":"+IF(VLOOKUP(B20,'Quota Inf 2012'!$B$9:$F$116,5,FALSE)=\"SI\",\"SI\",\"\")","v":""}]
[13,"UBI ASSICURAZIONI",45852,-11,2,{"$f":"+IF(VLOOKUP(B21,'Quota Inf 2012'!$B$9:$F$116,5,FALSE)=\"SI\",\"SI\",\"\")","v":"SI"}]
[14,"ZURICH INSURANCE PLC",44256,-10.5,1.93,{"$f":"+IF(VLOOKUP(B22,'Quota Inf 2012'!$B$9:$F$116,5,FALSE)=\"SI\",\"SI\",\"\")","v":""}]
[15,"COMPAGNIA DI ASS. DI MILANO",42400,-16.2,1.85,{"$f":"+IF(VLOOKUP(B23,'Quota Inf 2012'!$B$9:$F$116,5,FALSE)=\"SI\",\"SI\",\"\")","v":"SI"}]
[16,"INTESA SANPAOLO ASSICURA",40840,-11.6,1.79,{"$f":"+IF(VLOOKUP(B24,'Quota Inf 2012'!$B$9:$F$116,5,FALSE)=\"SI\",\"SI\",\"\")","v":""},"oggi 14032014 ho mandato email a Granito per avere notizie."]
[17,"UNIQA ASSICURAZIONI",32853,0.6,1.44,{"$f":"+IF(VLOOKUP(B25,'Quota Inf 2012'!$B$9:$F$116,5,FALSE)=\"SI\",\"SI\",\"\")","v":""}]
[18,"METLIFE EUROPE",32773,-8.3000000000000007,1.43,{"$f":"+IF(VLOOKUP(B26,'Quota Inf 2012'!$B$9:$F$116,5,FALSE)=\"SI\",\"SI\",\"\")","v":""}]
[19,"CARDIF - ASSURANCES RISQUES DIVERS",31737,-38.700000000000003,1.39,{"$f":"+IF(VLOOKUP(B27,'Quota Inf 2012'!$B$9:$F$116,5,FALSE)=\"SI\",\"SI\",\"\")","v":""}]
[20,"GROUPAMA ASSICURAZIONI",24214,-36.1,1.06,{"$f":"+IF(VLOOKUP(B28,'Quota Inf 2012'!$B$9:$F$116,5,FALSE)=\"SI\",\"SI\",\"\")","v":""},"oggi 13032014 ho mandato email a Nicolas Puccioni per avere notizie."]
[21,"AGA INTERNATIONAL",22612,-5.7,0.99,{"$f":"+IF(VLOOKUP(B29,'Quota Inf 2012'!$B$9:$F$116,5,FALSE)=\"SI\",\"SI\",\"\")","v":""}]
[22,"AVIPOP ASSICURAZIONI",20772,-42.8,0.91,{"$f":"+IF(VLOOKUP(B30,'Quota Inf 2012'!$B$9:$F$116,5,FALSE)=\"SI\",\"SI\",\"\")","v":""}]
[23,"FILO DIRETTO",18514,-10.9,0.81,{"$f":"+IF(VLOOKUP(B31,'Quota Inf 2012'!$B$9:$F$116,5,FALSE)=\"SI\",\"SI\",\"\")","v":""}]
[24,"ITALIANA ASSICURAZIONI",16423,7.4,0.72,{"$f":"+IF(VLOOKUP(B32,'Quota Inf 2012'!$B$9:$F$116,5,FALSE)=\"SI\",\"SI\",\"\")","v":"SI"}]
[25,"CATTOLICA PREVIDENZA",14994,-8.5,0.66,{"$f":"+IF(VLOOKUP(B33,'Quota Inf 2012'!$B$9:$F$116,5,FALSE)=\"SI\",\"SI\",\"\")","v":""}]
[26,"AXA MPS ASSICURAZIONI DANNI",14346,-13.9,0.63,{"$f":"+IF(VLOOKUP(B34,'Quota Inf 2012'!$B$9:$F$116,5,FALSE)=\"SI\",\"SI\",\"\")","v":"SI"}]
[27,"ARCA ASSICURAZIONI",11911,19.600000000000001,0.52,{"$f":"+IF(VLOOKUP(B35,'Quota Inf 2012'!$B$9:$F$116,5,FALSE)=\"SI\",\"SI\",\"\")","v":"SI"}]
[28,"MEDIOLANUM ASSICURAZIONI",11808,67.3,0.52,{"$f":"+IF(VLOOKUP(B36,'Quota Inf 2012'!$B$9:$F$116,5,FALSE)=\"SI\",\"SI\",\"\")","v":""}]
[29,"VITTORIA ASSICURAZIONI",10831,2.1,0.47,{"$f":"+IF(VLOOKUP(B37,'Quota Inf 2012'!$B$9:$F$116,5,FALSE)=\"SI\",\"SI\",\"\")","v":"SI"}]
[30,"ITAS MUTUA",10198,8.1,0.45,{"$f":"+IF(VLOOKUP(B38,'Quota Inf 2012'!$B$9:$F$116,5,FALSE)=\"SI\",\"SI\",\"\")","v":"SI"}]
[31,"CREDITRAS ASSICURAZIONI",8904,-39.200000000000003,0.39,{"$f":"+IF(VLOOKUP(B39,'Quota Inf 2012'!$B$9:$F$116,5,FALSE)=\"SI\",\"SI\",\"\")","v":""}]
[32,"ACE EUROPEAN GROUP",8887,262.10000000000002,0.39,{"$f":"+IF(VLOOKUP(B40,'Quota Inf 2012'!$B$9:$F$116,5,FALSE)=\"SI\",\"SI\",\"\")","v":"SI"}]
[33,"SARA ASSICURAZIONI",8782,-6.8,0.38,{"$f":"+IF(VLOOKUP(B41,'Quota Inf 2012'!$B$9:$F$116,5,FALSE)=\"SI\",\"SI\",\"\")","v":"SI"}]
[34,"CREDEMASSICURAZIONI",8008,1.2,0.35,{"$f":"+IF(VLOOKUP(B42,'Quota Inf 2012'!$B$9:$F$116,5,FALSE)=\"SI\",\"SI\",\"\")","v":"SI"}]
[35,"AVIVA ITALIA",7553,-31.2,0.33,{"$f":"+IF(VLOOKUP(B43,'Quota Inf 2012'!$B$9:$F$116,5,FALSE)=\"SI\",\"SI\",\"\")","v":""}]
[36,"ASSIMOCO",7379,-23.2,0.32,{"$f":"+IF(VLOOKUP(B44,'Quota Inf 2012'!$B$9:$F$116,5,FALSE)=\"SI\",\"SI\",\"\")","v":""}]
[37,"HELVETIA SA",5625,-10.6,0.25,{"$f":"+IF(VLOOKUP(B45,'Quota Inf 2012'!$B$9:$F$116,5,FALSE)=\"SI\",\"SI\",\"\")","v":"SI"}]
[38,"CHARTIS EUROPE S.A.",5607,26.7,0.25,{"$f":"+IF(VLOOKUP(B46,'Quota Inf 2012'!$B$9:$F$116,5,FALSE)=\"SI\",\"SI\",\"\")","v":"SI"}]
[39,"CARIGE R.D. ASSICURAZIONI E RIASSICURAZIONI",5582,-14.8,0.24,{"$f":"+IF(VLOOKUP(B47,'Quota Inf 2012'!$B$9:$F$116,5,FALSE)=\"SI\",\"SI\",\"\")","v":"SI"}]
[40,"POSTE ASSICURA - Gruppo Assicurativo Poste Vita",4783,-9.3000000000000007,0.21,{"$f":"+IF(VLOOKUP(B48,'Quota Inf 2012'!$B$9:$F$116,5,FALSE)=\"SI\",\"SI\",\"\")","v":"SI"}]
[41,"INCONTRA ASSICURAZIONI",4504,-36.5,0.2,{"$f":"+IF(VLOOKUP(B49,'Quota Inf 2012'!$B$9:$F$116,5,FALSE)=\"SI\",\"SI\",\"\")","v":""}]
[42,"CARDIF ASSICURAZIONI",3903,-25,0.17,{"$f":"+IF(VLOOKUP(B50,'Quota Inf 2012'!$B$9:$F$116,5,FALSE)=\"SI\",\"SI\",\"\")","v":""}]
[43,"BIPIEMME VITA",3571,5.7,0.16,{"$f":"+IF(VLOOKUP(B51,'Quota Inf 2012'!$B$9:$F$116,5,FALSE)=\"SI\",\"SI\",\"\")","v":""}]
[44,"RISPARMIO  &  PREVIDENZA",3524,-9.1999999999999993,0.15,{"$f":"+IF(VLOOKUP(B52,'Quota Inf 2012'!$B$9:$F$116,5,FALSE)=\"SI\",\"SI\",\"\")","v":""}]
[45,"CHIARA ASSICURAZIONI",3220,-12.7,0.14000000000000001,{"$f":"+IF(VLOOKUP(B53,'Quota Inf 2012'!$B$9:$F$116,5,FALSE)=\"SI\",\"SI\",\"\")","v":""}]
[46,"HDI ASSICURAZIONI",3061,12.4,0.13,{"$f":"+IF(VLOOKUP(B54,'Quota Inf 2012'!$B$9:$F$116,5,FALSE)=\"SI\",\"SI\",\"\")","v":"SI"}]
[47,"ERGO ASSICURAZIONI",2845,-36.4,0.12,{"$f":"+IF(VLOOKUP(B55,'Quota Inf 2012'!$B$9:$F$116,5,FALSE)=\"SI\",\"SI\",\"\")","v":"SI"}]
[48,"FATA ASSICURAZIONI DANNI",2731,-0.7,0.12,{"$f":"+IF(VLOOKUP(B56,'Quota Inf 2012'!$B$9:$F$116,5,FALSE)=\"SI\",\"SI\",\"\")","v":""}]
[49,"AVIVA ASSICURAZIONI",2680,-2.8,0.12,{"$f":"+IF(VLOOKUP(B57,'Quota Inf 2012'!$B$9:$F$116,5,FALSE)=\"SI\",\"SI\",\"\")","v":""}]
[50,"GLOBAL ASSISTANCE",2431,17.2,0.11,{"$f":"+IF(VLOOKUP(B58,'Quota Inf 2012'!$B$9:$F$116,5,FALSE)=\"SI\",\"SI\",\"\")","v":""}]
[51,"BCC ASSICURAZIONI",2406,30.8,0.11,{"$f":"+IF(VLOOKUP(B59,'Quota Inf 2012'!$B$9:$F$116,5,FALSE)=\"SI\",\"SI\",\"\")","v":""}]
[52,"INTESA SANPAOLO VITA",2320,-22.5,0.1,{"$f":"+IF(VLOOKUP(B60,'Quota Inf 2012'!$B$9:$F$116,5,FALSE)=\"SI\",\"SI\",\"\")","v":""}]
[53,"ABC ASSICURA",2314,-29.1,0.1,{"$f":"+IF(VLOOKUP(B61,'Quota Inf 2012'!$B$9:$F$116,5,FALSE)=\"SI\",\"SI\",\"\")","v":""}]
[54,"ANTONIANA VENETA POP. ASS.",2312,8.5,0.1,{"$f":"+IF(VLOOKUP(B62,'Quota Inf 2012'!$B$9:$F$116,5,FALSE)=\"SI\",\"SI\",\"\")","v":""}]
[55,"BIPIEMME ASSICURAZIONI",2263,"(.....)",0.1,{"$f":"+IF(VLOOKUP(B63,'Quota Inf 2012'!$B$9:$F$116,5,FALSE)=\"SI\",\"SI\",\"\")","v":""}]
[56,"CF ASSICURAZIONI",2249,25.9,0.1,{"$f":"+IF(VLOOKUP(B64,'Quota Inf 2012'!$B$9:$F$116,5,FALSE)=\"SI\",\"SI\",\"\")","v":"SI"}]
[57,"ARISCOM COMPAGNIA DI ASSICURAZIONI",2048,71.5,0.09,{"$f":"+IF(VLOOKUP(B65,'Quota Inf 2012'!$B$9:$F$116,5,FALSE)=\"SI\",\"SI\",\"\")","v":"SI"}]
[58,"UNIQA PROTEZIONE",1897,-5.0999999999999996,0.08,{"$f":"+IF(VLOOKUP(B66,'Quota Inf 2012'!$B$9:$F$116,5,FALSE)=\"SI\",\"SI\",\"\")","v":""}]
[59,"CBA VITA",1672,-2.4,7.0000000000000007E-2,{"$f":"+IF(VLOOKUP(B67,'Quota Inf 2012'!$B$9:$F$116,5,FALSE)=\"SI\",\"SI\",\"\")","v":""}]
[60,"SUN INSURANCE OFFICE LIMITED RSA",1464,-8.6,0.06,{"$f":"+IF(VLOOKUP(B68,'Quota Inf 2012'!$B$9:$F$116,5,FALSE)=\"SI\",\"SI\",\"\")","v":"SI"}]
[61,"TUA ASSICURAZIONI",1307,12,0.06,{"$f":"+IF(VLOOKUP(B69,'Quota Inf 2012'!$B$9:$F$116,5,FALSE)=\"SI\",\"SI\",\"\")","v":""}]
[62,"INCHIARO ASSICURAZIONI",1101,-9.1,0.05,{"$f":"+IF(VLOOKUP(B70,'Quota Inf 2012'!$B$9:$F$116,5,FALSE)=\"SI\",\"SI\",\"\")","v":""}]
[63,"NATIONALE SUISSE",976,-1.7,0.04,{"$f":"+IF(VLOOKUP(B71,'Quota Inf 2012'!$B$9:$F$116,5,FALSE)=\"SI\",\"SI\",\"\")","v":"SI"}]
[64,"INTER PARTNER ASSISTANCE",873,818.9,0.04,{"$f":"+IF(VLOOKUP(B72,'Quota Inf 2012'!$B$9:$F$116,5,FALSE)=\"SI\",\"SI\",\"\")","v":""}]
[65,"LIGURIA",836,-11.3,0.04,{"$f":"+IF(VLOOKUP(B73,'Quota Inf 2012'!$B$9:$F$116,5,FALSE)=\"SI\",\"SI\",\"\")","v":""}]
[66,"POSTE VITA - Gruppo Assicurativo Poste Vita",822,-26.9,0.04,{"$f":"+IF(VLOOKUP(B74,'Quota Inf 2012'!$B$9:$F$116,5,FALSE)=\"SI\",\"SI\",\"\")","v":"SI"}]
[67,"ALA ASSICURAZIONI",775,11.2,0.03,{"$f":"+IF(VLOOKUP(B75,'Quota Inf 2012'!$B$9:$F$116,5,FALSE)=\"SI\",\"SI\",\"\")","v":""}]
[68,"GENERTEL",498,159.4,0.02,{"$f":"+IF(VLOOKUP(B76,'Quota Inf 2012'!$B$9:$F$116,5,FALSE)=\"SI\",\"SI\",\"\")","v":"SI"}]
[69,"FINANCIAL INSURANCE COMPANY",435,-40.1,0.02,{"$f":"+IF(VLOOKUP(B77,'Quota Inf 2012'!$B$9:$F$116,5,FALSE)=\"SI\",\"SI\",\"\")","v":""}]
[70,"PADANA ASSICURAZIONI",424,-94.2,0.02,{"$f":"+IF(VLOOKUP(B78,'Quota Inf 2012'!$B$9:$F$116,5,FALSE)=\"SI\",\"SI\",\"\")","v":""}]
[71,"ITAS ASSICURAZIONI",396,-14.1,0.02,{"$f":"+IF(VLOOKUP(B79,'Quota Inf 2012'!$B$9:$F$116,5,FALSE)=\"SI\",\"SI\",\"\")","v":""}]
[72,"ASSICURATRICE VAL PIAVE",313,11.8,0.01,{"$f":"+IF(VLOOKUP(B80,'Quota Inf 2012'!$B$9:$F$116,5,FALSE)=\"SI\",\"SI\",\"\")","v":""}]
[73,"ASSICURATRICE MILANESE",270,-19.2,0.01,{"$f":"+IF(VLOOKUP(B81,'Quota Inf 2012'!$B$9:$F$116,5,FALSE)=\"SI\",\"SI\",\"\")","v":""}]
[74,"CHUBB INSURANCE COMPANY OF EUROPE",231,-84.8,0.01,{"$f":"+IF(VLOOKUP(B82,'Quota Inf 2012'!$B$9:$F$116,5,FALSE)=\"SI\",\"SI\",\"\")","v":""}]
[75,"DUOMO UNI ONE",200,-83.8,0.01,{"$f":"+IF(VLOOKUP(B83,'Quota Inf 2012'!$B$9:$F$116,5,FALSE)=\"SI\",\"SI\",\"\")","v":""}]
[76,"NOBIS COMPAGNIA DI ASSICURAZIONI",175,92.3,0.01,{"$f":"+IF(VLOOKUP(B84,'Quota Inf 2012'!$B$9:$F$116,5,FALSE)=\"SI\",\"SI\",\"\")","v":"SI"}]
[77,"AXERIA PREVOYANCE",102,1357.1,0,{"$f":"+IF(VLOOKUP(B85,'Quota Inf 2012'!$B$9:$F$116,5,FALSE)=\"SI\",\"SI\",\"\")","v":""}]
[78,"LLOYD'S",80,1233.3,0,{"$f":"+IF(VLOOKUP(B86,'Quota Inf 2012'!$B$9:$F$116,5,FALSE)=\"SI\",\"SI\",\"\")","v":""}]
[79,"BANCASSURANCE POPOLARI DANNI",74,-91.2,0,{"$f":"+IF(VLOOKUP(B87,'Quota Inf 2012'!$B$9:$F$116,5,FALSE)=\"SI\",\"SI\",\"\")","v":""}]
[80,"CREDIT AGRICOLE ASSICURAZIONI",71,-34.299999999999997,0,{"$f":"+IF(VLOOKUP(B88,'Quota Inf 2012'!$B$9:$F$116,5,FALSE)=\"SI\",\"SI\",\"\")","v":""}]
[81,"CARDIF - ASSURANCE VIE",52,15.6,0,{"$f":"+IF(VLOOKUP(B89,'Quota Inf 2012'!$B$9:$F$116,5,FALSE)=\"SI\",\"SI\",\"\")","v":""}]
[82,"LE ASSICURAZIONI DI ROMA",45,21.6,0,{"$f":"+IF(VLOOKUP(B90,'Quota Inf 2012'!$B$9:$F$116,5,FALSE)=\"SI\",\"SI\",\"\")","v":""}]
[83,"ISI INSURANCE Compagnia di Assicurazioni",15,-34.799999999999997,0,{"$f":"+IF(VLOOKUP(B91,'Quota Inf 2012'!$B$9:$F$116,5,FALSE)=\"SI\",\"SI\",\"\")","v":"SI"}]
[84,"NET INSURANCE",14,-26.3,0,{"$f":"+IF(VLOOKUP(B92,'Quota Inf 2012'!$B$9:$F$116,5,FALSE)=\"SI\",\"SI\",\"\")","v":""}]
[85,"BENTOS ASSICURAZIONI",10,-52.4,0,{"$f":"+IF(VLOOKUP(B93,'Quota Inf 2012'!$B$9:$F$116,5,FALSE)=\"SI\",\"SI\",\"\")","v":""}]
[86,"TOKIO MARINE EUROPE",3,-57.1,0,{"$f":"+IF(VLOOKUP(B94,'Quota Inf 2012'!$B$9:$F$116,5,FALSE)=\"SI\",\"SI\",\"\")","v":""}]
[87,"GENIALLOYD",2,100,0,{"$f":"+IF(VLOOKUP(B95,'Quota Inf 2012'!$B$9:$F$116,5,FALSE)=\"SI\",\"SI\",\"\")","v":"SI"}]
[88,"ASSICURAZIONI RISCHI AGRICOLI VMG 1857",1,0,0,{"$f":"+IF(VLOOKUP(B96,'Quota Inf 2012'!$B$9:$F$116,5,FALSE)=\"SI\",\"SI\",\"\")","v":"SI"}]
[89,"SYSTEMA ASSICURAZIONI",1,0,0,{"$f":"+IF(VLOOKUP(B97,'Quota Inf 2012'!$B$9:$F$116,5,FALSE)=\"SI\",\"SI\",\"\")","v":""}]
[90,"CNP UNICREDIT VITA",1,0,0,{"$f":"+IF(VLOOKUP(B98,'Quota Inf 2012'!$B$9:$F$116,5,FALSE)=\"SI\",\"SI\",\"\")","v":"SI"}]

{"sheet":"Quota Inf (2)","index":8,"n_rows":117,"n_cols":9,"rows_kept":117,"cut":false,"hidden":true,"merged":[]}
[null,"PREMI 2011",null,null,"  1   - INFORTUNI"]
[]
[null,"Imprese in ordine decrescente","premi","variaz.","incid. sul"]
[null,null,null,"2011/2010","totale"]
[null,null,"(migliaia di EURO)","(%)","(%)"]
[]
[null,"QUOTA MERCATO",null,null,{"$f":"+SUMIF(F:F,\"SI\",E:E)","v":56.23},{"$f":"+COUNTIF(F9:F117,\"SI\")","v":33},"OSSERVAZIONI",null," "]
[]
[1,"UNIPOL ASSICURAZIONI",340641,-0.5,10.06,"SI"]
[2,"ASSICURAZIONI GENERALI",328894,-0.7,9.7100000000000009,"SI","ho parlato con Memo non dispongono della distribuzione per garanzia"]
[3,"ALLIANZ",310009,-6.8,9.16,"CI FANNO SAPERE","oggi 09102012 ho parlato con Pavlic che solleciterà nuovamente il suo responsabile dott. Natali affinché ci risponda - ho mandato e-mail a NATALI che non risponde, il giorno 04 ottobre l'ho mandata a Tom Pavlic che la rigira all'ufficio competente, "]
[4,"INA ASSITALIA",293742,-3.4,8.68,"NO"]
[5,"FONDIARIA - SAI",235119,-1.4,6.94,"SI"]
[6,"COMPAGNIA DI ASS. DI MILANO",161500,-6.5,4.7699999999999996,"SI"]
[7,"AXA ASSICURAZIONI",117899,-5.0999999999999996,3.48,"SI"]
[8,"ALLEANZA TORO",114263,-2,3.37,"NO","il 280912 Boaglio ha mandato e-mail in cui scrive che per il momento i dati non sono disponibili, ci farà saper lui quando saranno pronti"]
[9,"SOCIETA' CATTOLICA",107261,26.8,3.17,"NO PER QUESTO SEMESTRE"]
[10,"GROUPAMA ASSICURAZIONI",107041,6.7,3.16,"NO"]
[11,"ZURICH INSURANCE",93338,-6.2,2.76,"CI FANNO SAPERE","oggi 09102012 ho parlato con Di Candia per sollecitare una risposta da parte loro, mi ha anticipato che al momento non hanno questo tipo di dati, ci fanno sapere tramite e-mail"]
[12,"SOCIETA' REALE MUTUA",91594,0.9,2.71,"SI"]
[13,"ACE EUROPEAN GROUP LTD",83577,7.8,2.4700000000000002,"SI","non dispongono della distribuzione per garanzia"]
[14,"CARIGE R.D. ASSICURAZIONI E RIASSICURAZIONI",57032,3.6,1.68,"SI"]
[15,"VITTORIA ASSICURAZIONI",49728,26,1.47,"SI"]
[16,"ITALIANA ASSICURAZIONI",49652,-2,1.47,"SI"]
[17,"CHARTIS EUROPE S.A.",47922,-0.9,1.42,"SI"]
[18,"AVIVA ITALIA",41646,12.1,1.23,"CI FANNO SAPERE","oggi 09102012 ho parlato con LauraMaria Fasolin 022775398 che mi deve far sapere, ci fanno sapere"]
[19,"SARA ASSICURAZIONI",41403,-5.8,1.22,"SI"]
[20,"AXA MPS ASSICURAZIONI DANNI",38353,12.7,1.1299999999999999,"SI","ci hanno comunicato i dati ma ad oggi non hanno ancora le informazioni sulle polizze collettive"]
[21,"CHUBB INSURANCE COMPANY OF EUROPE",34233,5.6,1.01,"NO"]
[22,"UBI ASSICURAZIONI",33885,7.3,1,"SI"]
[23,"ALICO ITALIA",33587,17.399999999999999,0.99,"CI FANNO SAPERE","stefania montanari ci fa sapere"]
[24,"ITAS MUTUA",33186,10.1,0.98,"SI","hanno problemi con le polizze collettive"]
[25,"HELVETIA SA",31695,3.9,0.94,"SI"]
[26,"INTESA SANPAOLO ASSICURA",26995,-7.3,0.8,"CI FANNO SAPERE","oggi 09102012 ho parlato con Granito che parlerà con quelli dell'IT per avere una tempistica e mi farà sapere, ci fanno sapere"]
[27,"CARDIF - ASSURANCES RISQUES DIVERS",25938,60.9,0.77,"NO"]
[28,"ASSIMOCO",25913,4.9000000000000004,0.77,"NO"]
[29,"ERGO ASSICURAZIONI",21746,-0.9,0.64,"SI"]
[30,"FATA ASSICURAZIONI DANNI",21043,0.8,0.62,"CI FANNO SAPERE","il giorno 04102012 ho parlato con Bucca e mandato e-mail, dice che mi farà sapere"]
[31,"PADANA ASSICURAZIONI",20070,1.5,0.59,"CI FANNO SAPERE","devo telefonare a Cavalliere Marco 025351800"]
[32,"SUN INSURANCE OFFICE LIMITED RSA",19158,-5.0999999999999996,0.56999999999999995,"SI","oggi 09102012 ho parlato con Parodi che sta sollecitando il loto IT ma per il momento sanno solo che ci stanno lavorando ma non sanno dare dei tempi"]
[33,"AVIPOP ASSICURAZIONI",17353,-19.100000000000001,0.51,"CI FANNO SAPERE","oggi 09102012 ho parlato con LauraMaria Fasolin 022775398 che mi deve far sapere, ci fanno sapere"]
[34,"HDI ASSICURAZIONI",16999,9.6,0.5,"SI"]
[35,"ARCA ASSICURAZIONI",15814,-25.2,0.47,"SI"]
[36,"POSTE ASSICURA - Gruppo Assicurativo Poste Vita",15291,109.6,0.45,"SI"]
[37,"DIRECT LINE INSURANCE",14393,22.9,0.43,"SI"]
[38,"GENERTEL",14303,18.5,0.42,"SI"]
[39,"LIGURIA",14183,-10.1,0.42,"CI FANNO SAPERE","ci devono contattare"]
[40,"DONAU VERSICHERUNG AG VIENNA",13855,550.5,0.41]
[41,"CHIARA ASSICURAZIONI",13687,20.7,0.4]
[42,"LLOYD'S",12518,10.3,0.37]
[43,"MEDIOLANUM ASSICURAZIONI",11510,8,0.34,"CI FANNO SAPERE","entro il 10 ottobre"]
[44,"UNIQA Protezione",11340,2.5,0.33]
[45,"DUOMO UNI ONE",10540,-71.099999999999994,0.31]
[46,"NATIONALE SUISSE",10514,6.6,0.31,"SI"]
[47,"GENIALLOYD",10308,26.8,0.3,"SI","DEVO CHIEDERE PERO' SPIEGAZIONI SUI DATI"]
[48,"CARDIF ASSICURAZIONI",9861,-29.4,0.28999999999999998]
[49,"COMPAGNIA ASS. LINEAR",8516,6.7,0.25]
[50,"INTESA SANPAOLO VITA",8427,-27.7,0.25]
[51,"CREDEMASSICURAZIONI",7782,-7.5,0.23,"SI","Schiarea mi ha mandato e-mail, non hanno distribuzione per le polizze individuali, dice che per INFORTUNI si potrebbero dividere i premi tra MR e IP, mentre per MALATTIA tra IP e DIARIA"]
[52,"CREDITRAS ASSICURAZIONI",7755,53.3,0.23]
[53,"EUROP ASSISTANCE ITALIA",7481,64,0.22]
[54,"UNISALUTE",6994,37.4,0.21,"SI"]
[55,"TUA ASSICURAZIONI",6825,5.8,0.2]
[56,"ARISCOM COMPAGNIA DI ASSICURAZIONI",4635,31.2,0.14000000000000001]
[57,"INCONTRA ASSICURAZIONI",4569,-25.4,0.13]
[58,"ABC ASSICURA",4530,21.1,0.13]
[59,"BIPIEMME VITA",4513,28.1,0.13]
[60,"ALA ASSICURAZIONI",4427,48.8,0.13]
[61,"ALLIANZ GLOBAL C&S",4338,95.5,0.13]
[62,"ASSICURATRICE MILANESE",3872,18.2,0.11]
[63,"POSTE VITA - Gruppo Assicurativo Poste Vita",3729,-32.1,0.11,"SI"]
[64,"FILO DIRETTO",3488,0.9,0.1,"NO"]
[65,"CNP IAM",3075,-13.6,0.09]
[66,"CF ASSICURAZIONI",2737,675.4,0.08,"SI"]
[67,"ZURITEL",2717,-8.6,0.08,"CI FANNO SAPERE","oggi 09102012 ho parlato con Di Candia per sollecitare una risposta da parte loro, mi ha anticipato che al momento non hanno questo tipo di dati, ci fanno sapere tramite e-mail"]
[68,"INCHIARO ASSICURAZIONI",2630,36.700000000000003,0.08]
[69,"HDI-GERLING INDUSTRIE",2359,17,7.0000000000000007E-2]
[70,"BCC ASSICURAZIONI",2217,174.7,7.0000000000000007E-2]
[71,"AXA CORPORATE SOLUTIONS",2095,16.100000000000001,0.06]
[72,"NOBIS COMPAGNIA DI ASSICURAZIONI",2083,83.7,0.06,"SI"]
[73,"AVIVA ASSICURAZIONI",1768,-19.3,0.05,"CI FANNO SAPERE","oggi 09102012 ho parlato con LauraMaria Fasolin 022775398 che mi deve far sapere, ci fanno sapere"]
[74,"QUIXA",1751,77.2,0.05]
[75,"AGA INTERNATIONAL",1744,1.5,0.05]
[76,"ASSICURATRICE VAL PIAVE",1700,9,0.05]
[77,"UNIQA ASSICURAZIONI",1549,15.7,0.05]
[78,"GLOBAL ASSISTANCE",1460,-0.8,0.04]
[79,"ITAS ASSICURAZIONI",1324,10.4,0.04]
[80,"BANCASSURANCE POPOLARI DANNI",1322,-40.700000000000003,0.04]
[81,"RBM SALUTE",1280,700,0.04]
[82,"DIALOGO ASSICURAZIONI",1206,9.4,0.04]
[83,"ANTONIANA VENETA DANNI",1125,8.1,0.03]
[84,"FINANCIAL INSURANCE COMPANY",890,-13.7,0.03]
[85,"SYSTEMA ASSICURAZIONI",825,129.80000000000001,0.02]
[86,"LE ASSICURAZIONI DI ROMA",783,-3.6,0.02]
[87,"AXERIA PREVOYANCE",733,47.5,0.02]
[88,"R+V ALLGEMEINE",630,25.7,0.02]
[89,"CREDIT AGRICOLE ASSICURAZIONI",623,43.5,0.02]
[90,"CARDIF - ASSURANCE VIE",426,"(.....)",0.01]
[91,"INTERNAT. INS. CO. OF HANNOVER",377,-50.2,0.01]
[92,"CATTOLICA PREVIDENZA",373,-22,0.01]
[93,"TIROLER VERSICHERUNG VAG",343,26.6,0.01]
[94,"INTER PARTNER ASSISTANCE",268,32.700000000000003,0.01]
[95,"MITSUI SUMITOMO INSURANCE",241,-5.0999999999999996,0.01]
[96,"NET INSURANCE",236,-20.3,0.01]
[97,"BENTOS ASSICURAZIONI",158,-56.7,0]
[98,"RB VITA",107,-9.3000000000000007,0]
[99,"UNIQA Previdenza",88,-23.5,0]
[100,"TOKIO MARINE EUROPE",83,48.2,0]
[101,"SACE BT",64,-16.899999999999999,0]
[102,"POPOLARE VITA",57,-13.6,0]
[103,"SIAT",14,"(.....)",0]
[104,"WIENER STADTISCHE VERSIC.",13,"(.....)",0]
[105,"ISI INSURANCE Compagnia di Assicurazioni",10,-50,0,"SI"]
[106,"RISPARMIO & PREVIDENZA",8,0,0]
[107,"ASSICURAZIONI RISCHI AGRICOLI VMG 1857",2,-50,0,"SI"]
[108,"CBA VITA",1,0,0]
[109,"CNP UNICREDIT VITA",1,0,0,"SI"]

{"sheet":"Quota Mal (2)","index":9,"n_rows":102,"n_cols":7,"rows_kept":102,"cut":false,"hidden":true,"merged":[]}
[null,"PREMI 2011",null,null,"  2   - MALATTIA"]
[]
[null,"Imprese in ordine decrescente","premi","variaz.","incid. sul"]
[null,null,null,"2011/2010","totale"]
[null,null,"(migliaia di EURO)","(%)","(%)"]
[null,null,null,null,null,{"$f":"37-36.77","v":0.22999999999999687}]
[null,"QUOTA MERCATO",null,null,{"$f":"+SUMIF(F:F,\"SI\",E:E)","v":51.169999999999973},{"$f":"+COUNTIF(F9:F117,\"SI\")","v":32},"OSSERVAZIONI"]
[]
[1,"ASSICURAZIONI GENERALI",325866,-4.5,14.06,"si","ho parlato con Memo non dispongono della distribuzione per garanzia"]
[2,"UNISALUTE",203636,19.399999999999999,8.7899999999999991,"SI"]
[3,"INA ASSITALIA",203005,-3.7,8.76,"NO"]
[4,"ALLIANZ S.P.A.",176933,10.199999999999999,7.64,"CI FANNO SAPERE","oggi 09102012 ho parlato con Pavlic che solleciterà nuovamente il suo responsabile dott. Natali affinché ci risponda - ho mandato e-mail a NATALI che non risponde, il giorno 04 ottobre l'ho mandata a Tom Pavlic che la rigira all'ufficio competente, "]
[5,"FONDIARIA - SAI",154170,-11.3,6.65,"SI"]
[6,"UNIPOL ASSICURAZIONI",136689,-11,5.9,"SI"]
[7,"EUROP ASSISTANCE ITALIA",93451,2.2999999999999998,4.03,"NO"]
[8,"SOCIETA' REALE MUTUA",82790,8.3000000000000007,3.57,"SI"]
[9,"SOCIETA' CATTOLICA",74169,6.7,3.2,"NO PER QUESTO SEMESTRE"]
[10,"ALLEANZA TORO",65271,-18.5,2.82,"NO","il 280912 Boaglio ha mandato e-mail in cui scrive che per il momento i dati non sono disponibili, ci farà saper lui quando saranno pronti"]
[11,"AXA ASSICURAZIONI",63303,0.8,2.73,"SI"]
[12,"RBM SALUTE",56869,53.6,2.4500000000000002,"CI FANNO SAPERE","entro il mese di Ottobre_Roland David 0291431768"]
[13,"CARDIF ASSURANCES RISQUES DIVERS",51761,19.5,2.23,"NO"]
[14,"UBI ASSICURAZIONI",51508,13.2,2.2200000000000002,"SI"]
[15,"COMPAGNIA DI ASS. DI MILANO",50583,-9.3000000000000007,2.1800000000000002,"SI"]
[16,"ZURICH INSURANCE PLC",49450,-3.7,2.13,"CI FANNO SAPERE","oggi 09102012 ho parlato con Di Candia per sollecitare una risposta da parte loro, mi ha anticipato che al momento non hanno questo tipo di dati, ci fanno sapere tramite e-mail"]
[17,"INTESA SANPAOLO ASSICURA",46188,-4.8,1.99,"CI FANNO SAPERE","oggi 09102012 ho parlato con Granito che parlerà con quelli dell'IT per avere una tempistica e mi farà sapere, ci fanno sapere"]
[18,"GROUPAMA ASSICURAZIONI",37883,18,1.63,"NO"]
[19,"AVIPOP ASSICURAZIONI",36305,-21.7,1.57,"CI FANNO SAPERE","oggi 09102012 ho parlato con LauraMaria Fasolin 022775398 che mi deve far sapere, ci fanno sapere"]
[20,"ALICO ITALIA",35734,27.2,1.54,"CI FANNO SAPERE","stefania montanari ci fa sapere"]
[21,"UNIQA  ASSICURAZIONI",32669,2.4,1.41,"NO","NO per il momento, forse nel 2013 Alberto Radaelli 02268583358"]
[22,"AGA INTERNATIONAL",24104,0.5,1.04,"NO"]
[23,"FILO DIRETTO",20943,13.8,0.9,"NO","ci fa sapere"]
[24,"AXA MPS ASSICURAZIONI DANNI",16653,-1.4,0.72,"SI","ci hanno comunicato i dati ma ad oggi non hanno ancora le informazioni sulle polizze collettive"]
[25,"CATTOLICA PREVIDENZA",16386,-30.9,0.71,"NO PER QUESTO SEMESTRE"]
[26,"ITALIANA ASSICURAZIONI",15290,-4.4000000000000004,0.66,"SI"]
[27,"CREDITRAS",14639,43.8,0.63,"NO"]
[28,"AVIVA ITALIA",10986,48.7,0.47,"CI FANNO SAPERE","oggi 09102012 ho parlato con LauraMaria Fasolin 022775398 che mi deve far sapere, ci fanno sapere"]
[29,"VITTORIA ASSICURAZIONI",10605,4.7,0.46,"SI"]
[30,"ARCA ASSICURAZIONI",9959,14.1,0.43,"SI"]
[31,"ASSIMOCO",9614,32.9,0.41,"NO"]
[32,"ITAS MUTUA",9430,6,0.41,"SI","problemi con le polizze collettive"]
[33,"SARA ASSICURAZIONI",9425,-2.2000000000000002,0.41,"SI"]
[34,"CREDEMASSICURAZIONI",7911,34.1,0.34,"SI","Schiarea mi ha mandato e-mail, non hanno distribuzione per le polizze individuali, dice che per INFORTUNI si potrebbero dividere i premi tra MR e IP, mentre per MALATTIA tra IP e DIARIA"]
[35,"PADANA ASSICURAZIONI",7263,4.5999999999999996,0.31,"CI FANNO SAPERE","devo telefonare a Cavalliere Marco 025351800"]
[36,"INCONTRA ASSICURAZIONI",7097,-42.5,0.31,"NO"]
[37,"MEDIOLANUM  ASSICURAZIONI",7056,2.4,0.3,"CI FANNO SAPERE","stanno elaborando i dati, entro il 10 ottobre"]
[38,"CARIGE R.D. ASSICURAZIONI E RIASSICURAZIONI",6550,-12,0.28000000000000003,"SI"]
[39,"HELVETIA SA",6290,6.6,0.27,"SI"]
[40,"POSTE ASSICURA - Gruppo Assicurativo Poste Vita",5271,468,0.23,"SI"]
[41,"CARDIF ASSICURAZIONI",5205,-56.6,0.22]
[42,"CNP IAM S.A.",4873,-10.1,0.21]
[43,"ERGO ASSICURAZIONI",4472,-6.2,0.19,"SI"]
[44,"CHARTIS EUROPE S.A.",4425,5.5,0.19,"SI"]
[45,"RISPARMIO &  PREVIDENZA",3882,-1,0.17]
[46,"CHIARA ASSICURAZIONI",3690,8.4,0.16]
[47,"BIPIEMME VITA",3377,13.2,0.15]
[48,"ABC ASSICURA",3263,-6.1,0.14000000000000001]
[49,"INTESA SANPAOLO VITA",2995,-32.799999999999997,0.13]
[50,"AVIVA ASSICURAZIONI",2757,60.5,0.12,"CI FANNO SAPERE","oggi 09102012 ho parlato con LauraMaria Fasolin 022775398 che mi deve far sapere, ci fanno sapere"]
[51,"FATA ASSICURAZIONI DANNI",2749,-6.1,0.12,"CI FANNO SAPERE","il giorno 04102012 ho parlato con Bucca e mandato e-mail, dice che mi farà sapere"]
[52,"HDI ASSICURAZIONI",2722,-27.5,0.12,"SI"]
[53,"ACE EUROPEAN GROUP LTD",2454,13.7,0.11,"si","non hanno premi contabilizzati nel semestre e cmq non dispongono della distribuzione per garanzia"]
[54,"ANTONIANA VENETA POPOLARE ASSICURAZIONI",2131,14.9,0.09]
[55,"GLOBAL ASSISTANCE",2075,25.3,0.09]
[56,"UNIQA Protezione",1998,-7,0.09]
[57,"BCC ASSICURAZIONI",1839,1232.5999999999999,0.08]
[58,"CF ASSICURAZIONI",1786,540.1,0.08,"SI"]
[59,"CBA VITA",1713,4.7,7.0000000000000007E-2]
[60,"SUN INSURANCE OFFICE LIMITED RSA",1601,-14.4,7.0000000000000007E-2,"SI","oggi 09102012 ho parlato con Parodi che sta sollecitando il loto IT ma per il momento sanno solo che ci stanno lavorando ma non sanno dare dei tempi"]
[61,"CHUBB INSURANCE COMPANY OF EUROPE",1523,-46.7,7.0000000000000007E-2]
[62,"DUOMO UNI ONE",1231,-76.3,0.05]
[63,"INCHIARO ASSICURAZIONI",1211,30.1,0.05]
[64,"ARISCOM COMPAGNIA DI ASSICURAZIONI",1194,38.799999999999997,0.05]
[65,"TUA ASSICURAZIONI",1167,-4.3,0.05]
[66,"POSTE VITA - Gruppo Assicurativo Poste Vita",1124,-29,0.05,"SI"]
[67,"NATIONALE SUISSE",993,-9.1999999999999993,0.04,"SI"]
[68,"BANCASSURANCE POPOLARI DANNI",947,-52.3,0.04]
[69,"LIGURIA",942,-10.4,0.04]
[70,"FINANCIAL INSURANCE COMPANY",726,-28.5,0.03]
[71,"ALA ASSICURAZIONI",697,-14.7,0.03]
[72,"ITAS ASSICURAZIONI",461,-39.200000000000003,0.02]
[73,"ASSICURATRICE MILANESE",334,-11.4,0.01]
[74,"ASSICURATRICE VAL PIAVE",280,12.9,0.01]
[75,"GENERTEL",192,-24.7,0.01,"SI"]
[76,"CREDIT AGRICOLE ASSICURAZIONI",108,184.2,0]
[77,"INTER PARTNER ASSISTANCE",95,-54.1,0]
[78,"NOBIS COMPAGNIA DI ASSICURAZIONI",91,5.8,0,"SI"]
[79,"RB VITA",72,-8.9,0]
[80,"UNIQA Previdenza",55,-36.799999999999997,0]
[81,"CARDIF - ASSURANCE VIE",45,"(.....)",0]
[82,"LE ASSICURAZIONI DI ROMA",37,8.8000000000000007,0]
[83,"ISI INSURANCE Compagnia di Assicurazioni",23,-51.1,0,"SI"]
[84,"BENTOS ASSICURAZIONI",21,-72,0]
[85,"NET INSURANCE",17,-43.3,0]
[86,"POPOLARE VITA",12,-14.3,0]
[87,"TOKIO MARINE EUROPE",7,40,0]
[88,"AXERIA PREVOYANCE",7,-99.2,0]
[89,"LLOYD'S",6,-60,0]
[90,"ASSICURAZIONI RISCHI AGRICOLI VMG 1857",1,0,0,"SI"]
[91,"GENIALLOYD",1,"(.....)",0,"SI","DEVO CHIEDERE PERO' SPIEGAZIONI SUI DATI"]
[92,"SARA VITA",1,-75,0]
[93,"SYSTEMA ASSICURAZIONI",1,0,0]
[94,"CNP UNICREDIT VITA",1,0,0,"SI"]

{"sheet":"Quota Inf (2015)","index":10,"n_rows":104,"n_cols":6,"rows_kept":104,"cut":false,"hidden":true,"merged":[]}
["PREMI 2015",null,null,null,null,"  1   - INFORTUNI"]
[]
["Imprese in ordine decrescente",null,"premi","variaz.","incid. sul","compagnie che "]
[null,null,null,"2015/2014","totale","hanno "]
[null,null,"(migliaia di EURO)","(%)","(%)","risposto"]
[]
[null,"QUOTA MERCATO",null,null,{"$f":"+SUMIF(F:F,\"SI\",E:E)&\"%\"","v":"77,5%"},{"$f":"+COUNTIF(F108:F116,\"SI\")","v":0}]
[]
[1,"UNIPOLSAI ASSICURAZIONI",631023,-10.199999999999999,18.59,{"$f":"+VLOOKUP(B9,'Quota Inf (2013)'!$B$9:$G$109,5,FALSE)","v":"SI"}]
[2,"GENERALI ITALIA",604080,-0.5,17.8,{"$f":"+VLOOKUP(B10,'Quota Inf (2013)'!$B$9:$G$109,5,FALSE)","v":"SI"}]
[3,"ALLIANZ S.P.A.",367290,19,10.82,{"$f":"+VLOOKUP(B11,'Quota Inf (2013)'!$B$9:$G$109,5,FALSE)","v":"SI"}]
[4,"SOCIETA' CATTOLICA",152798,-0.3,4.5,{"$f":"+VLOOKUP(B12,'Quota Inf (2013)'!$B$9:$G$109,5,FALSE)","v":"NO"}]
[5,"AXA ASSICURAZIONI",110969,-2.1,3.27,"NO"]
[6,"GROUPAMA ASSICURAZIONI",102142,1.9,3.01,{"$f":"+VLOOKUP(B14,'Quota Inf (2013)'!$B$9:$G$109,5,FALSE)","v":"SI"}]
[7,"AIG EUROPE LIMITED",94981,7.4,2.8,{"$f":"+VLOOKUP(B15,'Quota Inf (2013)'!$B$9:$G$109,5,FALSE)","v":"SI"}]
[8,"ZURICH INSURANCE PLC",93992,1,2.77,{"$f":"+VLOOKUP(B16,'Quota Inf (2013)'!$B$9:$G$109,5,FALSE)","v":"SI"}]
[9,"SOCIETA' REALE MUTUA",93622,3.4,2.76,{"$f":"+VLOOKUP(B17,'Quota Inf (2013)'!$B$9:$G$109,5,FALSE)","v":"SI"}]
[10,"VITTORIA ASSICURAZIONI",80099,5.3,2.36,{"$f":"+VLOOKUP(B18,'Quota Inf (2013)'!$B$9:$G$109,5,FALSE)","v":"SI"}]
[11,"ACE EUROPEAN GROUP LTD",57077,-6.2,1.68,{"$f":"+VLOOKUP(B19,'Quota Inf (2013)'!$B$9:$G$109,5,FALSE)","v":{"$error":"#N/A"}}]
[12,"METLIFE EUROPE LIMITED",51562,73.3,1.52,{"$f":"+VLOOKUP(B20,'Quota Inf (2013)'!$B$9:$G$109,5,FALSE)","v":"SI"}]
[13,"AXA MPS ASSICURAZIONI DANNI",48954,8.4,1.44,{"$f":"+VLOOKUP(B21,'Quota Inf (2013)'!$B$9:$G$109,5,FALSE)","v":"estrazione dati a gennaio 2016"}]
[14,"SARA ASSICURAZIONI",47593,6.7,1.4,{"$f":"+VLOOKUP(B22,'Quota Inf (2013)'!$B$9:$G$109,5,FALSE)","v":"SI"}]
[15,"ITALIANA ASSICURAZIONI",44480,3.1,1.31,{"$f":"+VLOOKUP(B23,'Quota Inf (2013)'!$B$9:$G$109,5,FALSE)","v":"SI"}]
[16,"AVIVA ITALIA",43493,3,1.28,{"$f":"+VLOOKUP(B24,'Quota Inf (2013)'!$B$9:$G$109,5,FALSE)","v":"SI"}]
[17,"POSTE ASSICURA - GRUPPO ASSICURATIVO POSTE VITA",38670,19.8,1.1399999999999999,{"$f":"+VLOOKUP(B25,'Quota Inf (2013)'!$B$9:$G$109,5,FALSE)","v":"SI"}]
[18,"CARDIF ASSURANCES RISQUES DIVERS",38376,8,1.1299999999999999,{"$f":"+VLOOKUP(B26,'Quota Inf (2013)'!$B$9:$G$109,5,FALSE)","v":0}]
[19,"ITAS MUTUA",37290,6.3,1.1000000000000001,{"$f":"+VLOOKUP(B27,'Quota Inf (2013)'!$B$9:$G$109,5,FALSE)","v":"SI"}]
[20,"DIRECT LINE INSURANCE",35945,14.5,1.06,{"$f":"+VLOOKUP(B28,'Quota Inf (2013)'!$B$9:$G$109,5,FALSE)","v":"SI"}]
[21,"CARIGE R.D. ASSICURAZIONI E RIASSICURAZIONI",35828,-2.4,1.06,{"$f":"+VLOOKUP(B29,'Quota Inf (2013)'!$B$9:$G$109,5,FALSE)","v":"SI"}]
[22,"CARGEAS ASSICURAZIONI",32109,-13.6,0.95,{"$f":"+VLOOKUP(B30,'Quota Inf (2013)'!$B$9:$G$109,5,FALSE)","v":"SI"}]
[23,"HELVETIA SA",29740,-3.4,0.88,{"$f":"+VLOOKUP(B31,'Quota Inf (2013)'!$B$9:$G$109,5,FALSE)","v":"SI"}]
[24,"ASSIMOCO",28198,3.5,0.83,{"$f":"+VLOOKUP(B32,'Quota Inf (2013)'!$B$9:$G$109,5,FALSE)","v":"SI"}]
[25,"LLOYD'S",26168,-1.2,0.77,{"$f":"+VLOOKUP(B33,'Quota Inf (2013)'!$B$9:$G$109,5,FALSE)","v":0}]
[26,"INTESA SANPAOLO ASSICURA",25056,35.799999999999997,0.74,{"$f":"+VLOOKUP(B34,'Quota Inf (2013)'!$B$9:$G$109,5,FALSE)","v":"SI"}]
[27,"MEDIOLANUM  ASSICURAZIONI",24981,3,0.74,{"$f":"+VLOOKUP(B35,'Quota Inf (2013)'!$B$9:$G$109,5,FALSE)","v":{"$error":"#N/A"}}]
[28,"HELVETIA ITALIA ASSICURAZIONI",23481,3.9,0.69,{"$f":"+VLOOKUP(B36,'Quota Inf (2013)'!$B$9:$G$109,5,FALSE)","v":"NO"}]
[29,"GENERTEL",22392,-3,0.66,{"$f":"+VLOOKUP(B37,'Quota Inf (2013)'!$B$9:$G$109,5,FALSE)","v":"SI"}]
[30,"GENIALLOYD",20689,12.8,0.61,{"$f":"+VLOOKUP(B38,'Quota Inf (2013)'!$B$9:$G$109,5,FALSE)","v":0}]
[31,"FATA ASSICURAZIONI DANNI",20162,0.7,0.59,{"$f":"+VLOOKUP(B39,'Quota Inf (2013)'!$B$9:$G$109,5,FALSE)","v":0}]
[32,"HDI ASSICURAZIONI",19020,1.4,0.56000000000000005,{"$f":"+VLOOKUP(B40,'Quota Inf (2013)'!$B$9:$G$109,5,FALSE)","v":"SI"}]
[33,"ARCA ASSICURAZIONI",18978,9.5,0.56000000000000005,{"$f":"+VLOOKUP(B41,'Quota Inf (2013)'!$B$9:$G$109,5,FALSE)","v":"SI"}]
[34,"CHUBB INSURANCE COMPANY OF EUROPE",16923,-9.6,0.5,{"$f":"+VLOOKUP(B42,'Quota Inf (2013)'!$B$9:$G$109,5,FALSE)","v":0}]
[35,"TUA ASSICURAZIONI",16704,15.3,0.49,{"$f":"+VLOOKUP(B43,'Quota Inf (2013)'!$B$9:$G$109,5,FALSE)","v":0}]
[36,"UNIQA ASSICURAZIONI",16277,0.1,0.48,{"$f":"+VLOOKUP(B44,'Quota Inf (2013)'!$B$9:$G$109,5,FALSE)","v":0}]
[37,"UNISALUTE",15979,114.1,0.47,{"$f":"+VLOOKUP(B45,'Quota Inf (2013)'!$B$9:$G$109,5,FALSE)","v":"SI"}]
[38,"CHIARA ASSICURAZIONI",15038,3.7,0.44,{"$f":"+VLOOKUP(B46,'Quota Inf (2013)'!$B$9:$G$109,5,FALSE)","v":0}]
[39,"ALLEANZA ASSICURAZIONI",14954,-5.7,0.44,{"$f":"+VLOOKUP(B47,'Quota Inf (2013)'!$B$9:$G$109,5,FALSE)","v":0}]
[40,"SUN INSURANCE OFFICE LIMITED RSA",14703,-3.9,0.43,{"$f":"+VLOOKUP(B48,'Quota Inf (2013)'!$B$9:$G$109,5,FALSE)","v":{"$error":"#N/A"}}]
[41,"AVIPOP ASSICURAZIONI",10403,15.5,0.31,{"$f":"+VLOOKUP(B49,'Quota Inf (2013)'!$B$9:$G$109,5,FALSE)","v":"SI"}]
[42,"WIENER STADTISCHE VERSIC.",9932,148.4,0.28999999999999998,{"$f":"+VLOOKUP(B50,'Quota Inf (2013)'!$B$9:$G$109,5,FALSE)","v":{"$error":"#N/A"}}]
[43,"CREDIT AGRICOLE ASSICURAZIONI",9345,59,0.28000000000000003,{"$f":"+VLOOKUP(B51,'Quota Inf (2013)'!$B$9:$G$109,5,FALSE)","v":0}]
[44,"ERGO ASSICURAZIONI",9100,-40.799999999999997,0.27,{"$f":"+VLOOKUP(B52,'Quota Inf (2013)'!$B$9:$G$109,5,FALSE)","v":"SI"}]
[45,"CREDITRAS ASSICURAZIONI",9059,9.8000000000000007,0.27,{"$f":"+VLOOKUP(B53,'Quota Inf (2013)'!$B$9:$G$109,5,FALSE)","v":0}]
[46,"COMPAGNIA ASS. LINEAR",8706,-4.0999999999999996,0.26,{"$f":"+VLOOKUP(B54,'Quota Inf (2013)'!$B$9:$G$109,5,FALSE)","v":0}]
[47,"ABC ASSICURA",8233,175.8,0.24,{"$f":"+VLOOKUP(B55,'Quota Inf (2013)'!$B$9:$G$109,5,FALSE)","v":0}]
[48,"EUROP ASSISTANCE ITALIA",7940,-61.1,0.23,{"$f":"+VLOOKUP(B56,'Quota Inf (2013)'!$B$9:$G$109,5,FALSE)","v":"NO"}]
[49,"NATIONALE SUISSE",7736,-9.3000000000000007,0.23,{"$f":"+VLOOKUP(B57,'Quota Inf (2013)'!$B$9:$G$109,5,FALSE)","v":"SI"}]
[50,"ARISCOM COMPAGNIA DI ASSICURAZIONI",6199,-0.8,0.18,{"$f":"+VLOOKUP(B58,'Quota Inf (2013)'!$B$9:$G$109,5,FALSE)","v":{"$error":"#N/A"}}]
[51,"GLOBAL ASSISTANCE",5689,14.6,0.17,{"$f":"+VLOOKUP(B59,'Quota Inf (2013)'!$B$9:$G$109,5,FALSE)","v":0}]
[52,"HDI GLOBAL SE",5258,10,0.15,{"$f":"+VLOOKUP(B60,'Quota Inf (2013)'!$B$9:$G$109,5,FALSE)","v":{"$error":"#N/A"}}]
[53,"BCC ASSICURAZIONI",5137,21.7,0.15,{"$f":"+VLOOKUP(B61,'Quota Inf (2013)'!$B$9:$G$109,5,FALSE)","v":0}]
[54,"INCONTRA ASSICURAZIONI",5055,-2.6,0.15,{"$f":"+VLOOKUP(B62,'Quota Inf (2013)'!$B$9:$G$109,5,FALSE)","v":0}]
[55,"NOBIS ASSICURAZIONI",5028,69.599999999999994,0.15,{"$f":"+VLOOKUP(B63,'Quota Inf (2013)'!$B$9:$G$109,5,FALSE)","v":"NO"}]
[56,"BIPIEMME VITA",4952,-11.3,0.15,{"$f":"+VLOOKUP(B64,'Quota Inf (2013)'!$B$9:$G$109,5,FALSE)","v":0}]
[57,"CREDEMASSICURAZIONI",4704,-21.7,0.14000000000000001,{"$f":"+VLOOKUP(B65,'Quota Inf (2013)'!$B$9:$G$109,5,FALSE)","v":"SI"}]
[58,"BIPIEMME ASSICURAZIONI",4612,55,0.14000000000000001,{"$f":"+VLOOKUP(B66,'Quota Inf (2013)'!$B$9:$G$109,5,FALSE)","v":0}]
[59,"BNP PARIBAS CARDIF VITA",4482,-22,0.13,{"$f":"+VLOOKUP(B67,'Quota Inf (2013)'!$B$9:$G$109,5,FALSE)","v":0}]
[60,"DONAU VERSICHERUNG AG VIENNA",4265,-66.099999999999994,0.13]
[61,"ZURICH INSURANCE COMPANY",3914,-17.100000000000001,0.12,{"$f":"+VLOOKUP(B69,'Quota Inf (2013)'!$B$9:$G$109,5,FALSE)","v":{"$error":"#N/A"}}]
[62,"FILO DIRETTO",3394,7.4,0.1,{"$f":"+VLOOKUP(B70,'Quota Inf (2013)'!$B$9:$G$109,5,FALSE)","v":0}]
[63,"CF ASSICURAZIONI",3360,-11.8,0.1,{"$f":"+VLOOKUP(B71,'Quota Inf (2013)'!$B$9:$G$109,5,FALSE)","v":"SI"}]
[64,"ASSICURATRICE MILANESE",3350,0.4,0.1]
[65,"GREAT LAKES REINS.",3285,95.1,0.1,{"$f":"+VLOOKUP(B73,'Quota Inf (2013)'!$B$9:$G$109,5,FALSE)","v":0}]
[66,"INCHIARO ASSICURAZIONI",2982,3.8,0.09,{"$f":"+VLOOKUP(B74,'Quota Inf (2013)'!$B$9:$G$109,5,FALSE)","v":0}]
[67,"ASSICURAZIONI GENERALI",2883,-91.6,0.08,{"$f":"+VLOOKUP(B75,'Quota Inf (2013)'!$B$9:$G$109,5,FALSE)","v":0}]
[68,"AXA GLOBAL DIRECT SEGUROS Y REASEGUROS",2802,-3.5,0.08,{"$f":"+VLOOKUP(B76,'Quota Inf (2013)'!$B$9:$G$109,5,FALSE)","v":{"$error":"#N/A"}}]
[69,"FINANCIAL INSURANCE COMPANY",2794,-10,0.08,{"$f":"+VLOOKUP(B77,'Quota Inf (2013)'!$B$9:$G$109,5,FALSE)","v":{"$error":"#N/A"}}]
[70,"ASSICURATRICE VAL PIAVE",2636,13.2,0.08,{"$f":"+VLOOKUP(B78,'Quota Inf (2013)'!$B$9:$G$109,5,FALSE)","v":0}]
[71,"ALLIANZ GLOBAL C & S",2312,-16.600000000000001,7.0000000000000007E-2,{"$f":"+VLOOKUP(B79,'Quota Inf (2013)'!$B$9:$G$109,5,FALSE)","v":0}]
[72,"CNP IAM",2273,11,7.0000000000000007E-2,{"$f":"+VLOOKUP(B80,'Quota Inf (2013)'!$B$9:$G$109,5,FALSE)","v":0}]
[73,"ITAS ASSICURAZIONI",2120,45.2,0.06,{"$f":"+VLOOKUP(B81,'Quota Inf (2013)'!$B$9:$G$109,5,FALSE)","v":0}]
[74,"AXA CORPORATE SOLUTIONS",1792,-13.6,0.05,{"$f":"+VLOOKUP(B82,'Quota Inf (2013)'!$B$9:$G$109,5,FALSE)","v":0}]
[75,"INTESA SANPAOLO VITA",1343,-8.4,0.04,{"$f":"+VLOOKUP(B83,'Quota Inf (2013)'!$B$9:$G$109,5,FALSE)","v":0}]
[76,"AGA INTERNATIONAL",1319,-13.1,0.04,{"$f":"+VLOOKUP(B84,'Quota Inf (2013)'!$B$9:$G$109,5,FALSE)","v":0}]
[77,"BANCASSURANCE POPOLARI DANNI",714,-14.3,0.02,{"$f":"+VLOOKUP(B85,'Quota Inf (2013)'!$B$9:$G$109,5,FALSE)","v":0}]
[78,"LE ASSICURAZIONI DI ROMA",617,-11.4,0.02,{"$f":"+VLOOKUP(B86,'Quota Inf (2013)'!$B$9:$G$109,5,FALSE)","v":"SI"}]
[79,"TIROLER VERSICHERUNG",413,11.3,0.01,{"$f":"+VLOOKUP(B87,'Quota Inf (2013)'!$B$9:$G$109,5,FALSE)","v":{"$error":"#N/A"}}]
[80,"NET INSURANCE",348,-36.700000000000003,0.01,{"$f":"+VLOOKUP(B88,'Quota Inf (2013)'!$B$9:$G$109,5,FALSE)","v":0}]
[81,"MSIG INSURANCE EUROPE",329,-7.3,0.01,{"$f":"+VLOOKUP(B89,'Quota Inf (2013)'!$B$9:$G$109,5,FALSE)","v":{"$error":"#N/A"}}]
[82,"R+V ALLGEMEINE",318,-6.5,0.01,{"$f":"+VLOOKUP(B90,'Quota Inf (2013)'!$B$9:$G$109,5,FALSE)","v":0}]
[83,"AXERIA PREVOYANCE",239,-10.5,0.01,{"$f":"+VLOOKUP(B91,'Quota Inf (2013)'!$B$9:$G$109,5,FALSE)","v":0}]
[84,"RBM SALUTE",202,-76.099999999999994,0.01,{"$f":"+VLOOKUP(B92,'Quota Inf (2013)'!$B$9:$G$109,5,FALSE)","v":0}]
[85,"PRAMERICA LIFE",107,"(.....)",0,{"$f":"+VLOOKUP(B93,'Quota Inf (2013)'!$B$9:$G$109,5,FALSE)","v":{"$error":"#N/A"}}]
[86,"INTER PARTNER ASSISTANCE",92,3166.7,0,{"$f":"+VLOOKUP(B94,'Quota Inf (2013)'!$B$9:$G$109,5,FALSE)","v":0}]
[87,"QUADRA ASSICURAZIONI",91,"(.....)",0]
[88,"TOKIO MARINE EUROPE",85,25,0,{"$f":"+VLOOKUP(B96,'Quota Inf (2013)'!$B$9:$G$109,5,FALSE)","v":0}]
[89,"MAPFRE ASISTENCIA",38,1800,0,{"$f":"+VLOOKUP(B97,'Quota Inf (2013)'!$B$9:$G$109,5,FALSE)","v":{"$error":"#N/A"}}]
[90,"AFI ESCA IARD",30,57.9,0,{"$f":"+VLOOKUP(B98,'Quota Inf (2013)'!$B$9:$G$109,5,FALSE)","v":{"$error":"#N/A"}}]
[91,"SACE BT",20,-4.8,0,{"$f":"+VLOOKUP(B99,'Quota Inf (2013)'!$B$9:$G$109,5,FALSE)","v":0}]
[92,"POPOLARE VITA",13,-7.1,0,{"$f":"+VLOOKUP(B100,'Quota Inf (2013)'!$B$9:$G$109,5,FALSE)","v":0}]
[93,"AMTRUST EUROPE LIMITED",7,"(.....)",0,{"$f":"+VLOOKUP(B101,'Quota Inf (2013)'!$B$9:$G$109,5,FALSE)","v":{"$error":"#N/A"}}]
[94,"ASSICURAZIONI RISCHI AGRICOLI VMG 1857",2,0,0,{"$f":"+VLOOKUP(B102,'Quota Inf (2013)'!$B$9:$G$109,5,FALSE)","v":"SI"}]
[95,"SIAT",1,"(.....)",0,{"$f":"+VLOOKUP(B103,'Quota Inf (2013)'!$B$9:$G$109,5,FALSE)","v":{"$error":"#N/A"}}]
[96,"CBA VITA",1,0,0,{"$f":"+VLOOKUP(B104,'Quota Inf (2013)'!$B$9:$G$109,5,FALSE)","v":{"$error":"#N/A"}}]

{"sheet":"Quota Mal (2015)","index":11,"n_rows":107,"n_cols":6,"rows_kept":107,"cut":false,"hidden":true,"merged":[]}
["PREMI 2015",null,null,null,null,"  2   - MALATTIA"]
[]
["Imprese in ordine decrescente",null,"premi","variaz.","incid. sul","compagnie che "]
[null,null,null,"2015/2014","totale","hanno "]
[null,null,"(migliaia di EURO)","(%)","(%)","risposto"]
[]
[null,"QUOTA MERCATO",null,null,{"$f":"+SUMIF(F:F,\"SI\",E:E)&\"%\"","v":"67,98%"},{"$f":"+COUNTIF(F108:F116,\"SI\")","v":0}]
[]
[1,"GENERALI ITALIA",459007,0,20.100000000000001,{"$f":"+VLOOKUP(B9,'Quota Inf (2013)'!$B$9:$G$109,5,FALSE)","v":"SI"}]
[2,"RBM SALUTE",319260,22,13.98,"NO"]
[3,"UNISALUTE",284036,8.6,12.44,{"$f":"+VLOOKUP(B11,'Quota Inf (2013)'!$B$9:$G$109,5,FALSE)","v":"SI"}]
[4,"UNIPOLSAI ASSICURAZIONI",227286,-5.9,9.9499999999999993,{"$f":"+VLOOKUP(B12,'Quota Inf (2013)'!$B$9:$G$109,5,FALSE)","v":"SI"}]
[5,"ALLIANZ S.P.A.",179856,4.4000000000000004,7.88,{"$f":"+VLOOKUP(B13,'Quota Inf (2013)'!$B$9:$G$109,5,FALSE)","v":"SI"}]
[6,"SOCIETA' REALE MUTUA",89988,6.3,3.94,{"$f":"+VLOOKUP(B14,'Quota Inf (2013)'!$B$9:$G$109,5,FALSE)","v":"SI"}]
[7,"AXA ASSICURAZIONI",62792,22,2.75,"NO"]
[8,"SOCIETA' CATTOLICA",58760,-10.4,2.57,{"$f":"+VLOOKUP(B16,'Quota Inf (2013)'!$B$9:$G$109,5,FALSE)","v":"NO"}]
[9,"EUROP ASSISTANCE ITALIA",53224,-0.6,2.33,{"$f":"+VLOOKUP(B17,'Quota Inf (2013)'!$B$9:$G$109,5,FALSE)","v":"NO"}]
[10,"CARGEAS ASSICURAZIONI",46477,-3,2.04,{"$f":"+VLOOKUP(B18,'Quota Inf (2013)'!$B$9:$G$109,5,FALSE)","v":"SI"}]
[11,"ZURICH INSURANCE PLC",44103,-13.4,1.93,{"$f":"+VLOOKUP(B19,'Quota Inf (2013)'!$B$9:$G$109,5,FALSE)","v":"SI"}]
[12,"INTESA SANPAOLO ASSICURA",36288,31.2,1.59,{"$f":"+VLOOKUP(B20,'Quota Inf (2013)'!$B$9:$G$109,5,FALSE)","v":"SI"}]
[13,"UNIQA ASSICURAZIONI",34965,-2.5,1.53,{"$f":"+VLOOKUP(B21,'Quota Inf (2013)'!$B$9:$G$109,5,FALSE)","v":0}]
[14,"CARDIF ASSURANCES RISQUES DIVERS",24050,-2.2999999999999998,1.05,{"$f":"+VLOOKUP(B22,'Quota Inf (2013)'!$B$9:$G$109,5,FALSE)","v":0}]
[15,"METLIFE EUROPE LIMITED",23917,89.4,1.05,{"$f":"+VLOOKUP(B23,'Quota Inf (2013)'!$B$9:$G$109,5,FALSE)","v":"SI"}]
[16,"AGA INTERNATIONAL",22408,-0.8,0.98,{"$f":"+VLOOKUP(B24,'Quota Inf (2013)'!$B$9:$G$109,5,FALSE)","v":0}]
[17,"MEDIOLANUM  ASSICURAZIONI",21944,8.6999999999999993,0.96,{"$f":"+VLOOKUP(B25,'Quota Inf (2013)'!$B$9:$G$109,5,FALSE)","v":{"$error":"#N/A"}}]
[18,"ASSICURAZIONI GENERALI",21082,-46.3,0.92,{"$f":"+VLOOKUP(B26,'Quota Inf (2013)'!$B$9:$G$109,5,FALSE)","v":0}]
[19,"GROUPAMA ASSICURAZIONI",20236,3.4,0.89,{"$f":"+VLOOKUP(B27,'Quota Inf (2013)'!$B$9:$G$109,5,FALSE)","v":"SI"}]
[20,"AVIPOP ASSICURAZIONI",18464,21.4,0.81,{"$f":"+VLOOKUP(B28,'Quota Inf (2013)'!$B$9:$G$109,5,FALSE)","v":"SI"}]
[21,"ITALIANA ASSICURAZIONI",17250,2,0.76,{"$f":"+VLOOKUP(B29,'Quota Inf (2013)'!$B$9:$G$109,5,FALSE)","v":"SI"}]
[22,"FILO DIRETTO",16752,9.6999999999999993,0.73,{"$f":"+VLOOKUP(B30,'Quota Inf (2013)'!$B$9:$G$109,5,FALSE)","v":0}]
[23,"CREDITRAS ASSICURAZIONI",16104,0,0.71,{"$f":"+VLOOKUP(B31,'Quota Inf (2013)'!$B$9:$G$109,5,FALSE)","v":0}]
[24,"ACE EUROPEAN GROUP LTD",12622,-6.9,0.55000000000000004,{"$f":"+VLOOKUP(B32,'Quota Inf (2013)'!$B$9:$G$109,5,FALSE)","v":{"$error":"#N/A"}}]
[25,"VITTORIA ASSICURAZIONI",12357,3.8,0.54,{"$f":"+VLOOKUP(B33,'Quota Inf (2013)'!$B$9:$G$109,5,FALSE)","v":"SI"}]
[26,"ARCA ASSICURAZIONI",12353,-2.1,0.54,{"$f":"+VLOOKUP(B34,'Quota Inf (2013)'!$B$9:$G$109,5,FALSE)","v":"SI"}]
[27,"AXA MPS ASSICURAZIONI DANNI",11937,8.4,0.52,{"$f":"+VLOOKUP(B35,'Quota Inf (2013)'!$B$9:$G$109,5,FALSE)","v":"estrazione dati a gennaio 2016"}]
[28,"ITAS MUTUA",11012,8.6999999999999993,0.48,{"$f":"+VLOOKUP(B36,'Quota Inf (2013)'!$B$9:$G$109,5,FALSE)","v":"SI"}]
[29,"ASSIMOCO",10663,13.8,0.47,{"$f":"+VLOOKUP(B37,'Quota Inf (2013)'!$B$9:$G$109,5,FALSE)","v":"SI"}]
[30,"AVIVA ITALIA",9953,-17.399999999999999,0.44,{"$f":"+VLOOKUP(B38,'Quota Inf (2013)'!$B$9:$G$109,5,FALSE)","v":"SI"}]
[31,"CREDEMASSICURAZIONI",7913,5.2,0.35,{"$f":"+VLOOKUP(B39,'Quota Inf (2013)'!$B$9:$G$109,5,FALSE)","v":"SI"}]
[32,"CREDIT AGRICOLE ASSICURAZIONI",7715,11769.2,0.34,{"$f":"+VLOOKUP(B40,'Quota Inf (2013)'!$B$9:$G$109,5,FALSE)","v":0}]
[33,"SARA ASSICURAZIONI",7606,-2.7,0.33,{"$f":"+VLOOKUP(B41,'Quota Inf (2013)'!$B$9:$G$109,5,FALSE)","v":"SI"}]
[34,"POSTE ASSICURA - GRUPPO ASSICURATIVO POSTE VITA",7400,-1.8,0.32,{"$f":"+VLOOKUP(B42,'Quota Inf (2013)'!$B$9:$G$109,5,FALSE)","v":"SI"}]
[35,"AIG EUROPE LIMITED",7181,0.5,0.31,{"$f":"+VLOOKUP(B43,'Quota Inf (2013)'!$B$9:$G$109,5,FALSE)","v":"SI"}]
[36,"HELVETIA SA",5287,0,0.23,{"$f":"+VLOOKUP(B44,'Quota Inf (2013)'!$B$9:$G$109,5,FALSE)","v":"SI"}]
[37,"ALLEANZA ASSICURAZIONI",5082,-0.6,0.22,{"$f":"+VLOOKUP(B45,'Quota Inf (2013)'!$B$9:$G$109,5,FALSE)","v":0}]
[38,"BIPIEMME ASSICURAZIONI",4363,13.6,0.19,{"$f":"+VLOOKUP(B46,'Quota Inf (2013)'!$B$9:$G$109,5,FALSE)","v":0}]
[39,"CARIGE R.D. ASSICURAZIONI E RIASSICURAZIONI",4262,-3.3,0.19,{"$f":"+VLOOKUP(B47,'Quota Inf (2013)'!$B$9:$G$109,5,FALSE)","v":"SI"}]
[40,"INTER PARTNER ASSISTANCE",3873,38,0.17,{"$f":"+VLOOKUP(B48,'Quota Inf (2013)'!$B$9:$G$109,5,FALSE)","v":0}]
[41,"GLOBAL ASSISTANCE",3802,23,0.17,{"$f":"+VLOOKUP(B49,'Quota Inf (2013)'!$B$9:$G$109,5,FALSE)","v":0}]
[42,"BIPIEMME VITA",3089,-0.9,0.14000000000000001,{"$f":"+VLOOKUP(B50,'Quota Inf (2013)'!$B$9:$G$109,5,FALSE)","v":0}]
[43,"BCC ASSICURAZIONI",3008,30.3,0.13,{"$f":"+VLOOKUP(B51,'Quota Inf (2013)'!$B$9:$G$109,5,FALSE)","v":0}]
[44,"ARISCOM COMPAGNIA DI ASSICURAZIONI",2804,38,0.12,{"$f":"+VLOOKUP(B52,'Quota Inf (2013)'!$B$9:$G$109,5,FALSE)","v":{"$error":"#N/A"}}]
[45,"BNP PARIBAS CARDIF VITA",2682,-26.1,0.12,{"$f":"+VLOOKUP(B53,'Quota Inf (2013)'!$B$9:$G$109,5,FALSE)","v":0}]
[46,"INCONTRA ASSICURAZIONI",2582,-5.7,0.11,{"$f":"+VLOOKUP(B54,'Quota Inf (2013)'!$B$9:$G$109,5,FALSE)","v":0}]
[47,"ERGO ASSICURAZIONI",2542,-19.2,0.11,{"$f":"+VLOOKUP(B55,'Quota Inf (2013)'!$B$9:$G$109,5,FALSE)","v":"SI"}]
[48,"GENERTEL",2509,26,0.11,{"$f":"+VLOOKUP(B56,'Quota Inf (2013)'!$B$9:$G$109,5,FALSE)","v":"SI"}]
[49,"CHIARA ASSICURAZIONI",2452,-3.2,0.11,{"$f":"+VLOOKUP(B57,'Quota Inf (2013)'!$B$9:$G$109,5,FALSE)","v":0}]
[50,"ABC ASSICURA",2355,3.1,0.1,{"$f":"+VLOOKUP(B58,'Quota Inf (2013)'!$B$9:$G$109,5,FALSE)","v":0}]
[51,"FATA ASSICURAZIONI DANNI",2337,-30.5,0.1,{"$f":"+VLOOKUP(B59,'Quota Inf (2013)'!$B$9:$G$109,5,FALSE)","v":0}]
[52,"HDI ASSICURAZIONI",2268,-19.3,0.1,{"$f":"+VLOOKUP(B60,'Quota Inf (2013)'!$B$9:$G$109,5,FALSE)","v":"SI"}]
[53,"TUA ASSICURAZIONI",1724,1.4,0.08,{"$f":"+VLOOKUP(B61,'Quota Inf (2013)'!$B$9:$G$109,5,FALSE)","v":0}]
[54,"CBA VITA",1452,-12.6,0.06,{"$f":"+VLOOKUP(B62,'Quota Inf (2013)'!$B$9:$G$109,5,FALSE)","v":{"$error":"#N/A"}}]
[55,"CF ASSICURAZIONI",1220,-42,0.05,{"$f":"+VLOOKUP(B63,'Quota Inf (2013)'!$B$9:$G$109,5,FALSE)","v":"SI"}]
[56,"CNP IAM",1123,11.3,0.05,{"$f":"+VLOOKUP(B64,'Quota Inf (2013)'!$B$9:$G$109,5,FALSE)","v":0}]
[57,"SUN INSURANCE OFFICE LIMITED RSA",1097,-1.3,0.05,{"$f":"+VLOOKUP(B65,'Quota Inf (2013)'!$B$9:$G$109,5,FALSE)","v":{"$error":"#N/A"}}]
[58,"INCHIARO ASSICURAZIONI",979,43.5,0.04,{"$f":"+VLOOKUP(B66,'Quota Inf (2013)'!$B$9:$G$109,5,FALSE)","v":0}]
[59,"NATIONALE SUISSE",711,-12.2,0.03,{"$f":"+VLOOKUP(B67,'Quota Inf (2013)'!$B$9:$G$109,5,FALSE)","v":"SI"}]
[60,"FINANCIAL INSURANCE COMPANY",608,31,0.03]
[61,"NOBIS ASSICURAZIONI",501,51.8,0.02,{"$f":"+VLOOKUP(B69,'Quota Inf (2013)'!$B$9:$G$109,5,FALSE)","v":"NO"}]
[62,"ASSICURATRICE VAL PIAVE",481,12.6,0.02,{"$f":"+VLOOKUP(B70,'Quota Inf (2013)'!$B$9:$G$109,5,FALSE)","v":0}]
[63,"ITAS ASSICURAZIONI",338,-34.6,0.01,{"$f":"+VLOOKUP(B71,'Quota Inf (2013)'!$B$9:$G$109,5,FALSE)","v":0}]
[64,"BANCASSURANCE POPOLARI DANNI",316,-1.6,0.01]
[65,"HELVETIA ITALIA ASSICURAZIONI",175,5.4,0.01,{"$f":"+VLOOKUP(B73,'Quota Inf (2013)'!$B$9:$G$109,5,FALSE)","v":"NO"}]
[66,"NET INSURANCE",165,17.899999999999999,0.01,{"$f":"+VLOOKUP(B74,'Quota Inf (2013)'!$B$9:$G$109,5,FALSE)","v":0}]
[67,"ASSICURATRICE MILANESE",150,-8,0.01,{"$f":"+VLOOKUP(B75,'Quota Inf (2013)'!$B$9:$G$109,5,FALSE)","v":0}]
[68,"POPOLARE VITA",76,8.6,0,{"$f":"+VLOOKUP(B76,'Quota Inf (2013)'!$B$9:$G$109,5,FALSE)","v":0}]
[69,"HDI GLOBAL SE",72,2300,0,{"$f":"+VLOOKUP(B77,'Quota Inf (2013)'!$B$9:$G$109,5,FALSE)","v":{"$error":"#N/A"}}]
[70,"LE ASSICURAZIONI DI ROMA",65,44.4,0,{"$f":"+VLOOKUP(B78,'Quota Inf (2013)'!$B$9:$G$109,5,FALSE)","v":"SI"}]
[71,"PRAMERICA LIFE",65,"(.....)",0,{"$f":"+VLOOKUP(B79,'Quota Inf (2013)'!$B$9:$G$109,5,FALSE)","v":{"$error":"#N/A"}}]
[72,"MAPFRE ASISTENCIA",65,41.3,0,{"$f":"+VLOOKUP(B80,'Quota Inf (2013)'!$B$9:$G$109,5,FALSE)","v":{"$error":"#N/A"}}]
[73,"POSTE VITA - GRUPPO ASSICURATIVO POSTE VITA",56,-86.5,0,{"$f":"+VLOOKUP(B81,'Quota Inf (2013)'!$B$9:$G$109,5,FALSE)","v":{"$error":"#N/A"}}]
[74,"QUADRA ASSICURAZIONI",29,"(.....)",0,{"$f":"+VLOOKUP(B82,'Quota Inf (2013)'!$B$9:$G$109,5,FALSE)","v":{"$error":"#N/A"}}]
[75,"LLOYD'S",21,-70,0,{"$f":"+VLOOKUP(B83,'Quota Inf (2013)'!$B$9:$G$109,5,FALSE)","v":0}]
[76,"INTESA SANPAOLO VITA",7,-12.5,0,{"$f":"+VLOOKUP(B84,'Quota Inf (2013)'!$B$9:$G$109,5,FALSE)","v":0}]
[77,"ASSICURAZIONI RISCHI AGRICOLI VMG 1857",1,0,0,{"$f":"+VLOOKUP(B85,'Quota Inf (2013)'!$B$9:$G$109,5,FALSE)","v":"SI"}]
[78,"GENIALLOYD",1,0,0,{"$f":"+VLOOKUP(B86,'Quota Inf (2013)'!$B$9:$G$109,5,FALSE)","v":0}]
[79,"COMPAGNIA ASS. LINEAR",1,"(.....)",0,{"$f":"+VLOOKUP(B87,'Quota Inf (2013)'!$B$9:$G$109,5,FALSE)","v":0}]
[80,"ASSURANT GENERAL INSURANCE",6,-90.8,0,{"$f":"+VLOOKUP(B88,'Quota Inf (2013)'!$B$9:$G$109,5,FALSE)","v":0}]
[81,"HDI-GERLING INDUSTRIE",3,"(.....)",0,{"$f":"+VLOOKUP(B89,'Quota Inf (2013)'!$B$9:$G$109,5,FALSE)","v":0}]
[82,"TOKIO MARINE EUROPE",3,0,0,{"$f":"+VLOOKUP(B90,'Quota Inf (2013)'!$B$9:$G$109,5,FALSE)","v":0}]
[83,"CHUBB INSURANCE COMPANY OF EUROPE",2,-85.7,0,{"$f":"+VLOOKUP(B91,'Quota Inf (2013)'!$B$9:$G$109,5,FALSE)","v":0}]
[84,"ASSICURAZIONI RISCHI AGRICOLI VMG 1857",1,0,0,{"$f":"+VLOOKUP(B92,'Quota Inf (2013)'!$B$9:$G$109,5,FALSE)","v":"SI"}]
[85,"GENIALLOYD",1,0,0,{"$f":"+VLOOKUP(B93,'Quota Inf (2013)'!$B$9:$G$109,5,FALSE)","v":0}]
[86,"ZURITEL",1,"(.....)",0,{"$f":"+VLOOKUP(B94,'Quota Inf (2013)'!$B$9:$G$109,5,FALSE)","v":0}]
[87,"MSIG INSURANCE EUROPE AG",355,7.3,0.01]
[88,"R+V ALLGEMEINE",340,4.3,0.01,{"$f":"+VLOOKUP(B96,'Quota Inf (2013)'!$B$9:$G$109,5,FALSE)","v":0}]
[89,"AXERIA PREVOYANCE",267,20.8,0.01,{"$f":"+VLOOKUP(B97,'Quota Inf (2013)'!$B$9:$G$109,5,FALSE)","v":0}]
[90,"SYSTEMA ASSICURAZIONI",149,-82.2,0,{"$f":"+VLOOKUP(B98,'Quota Inf (2013)'!$B$9:$G$109,5,FALSE)","v":0}]
[91,"TOKIO MARINE EUROPE",68,-25.3,0,{"$f":"+VLOOKUP(B99,'Quota Inf (2013)'!$B$9:$G$109,5,FALSE)","v":0}]
[92,"SACE BT",21,-48.8,0,{"$f":"+VLOOKUP(B100,'Quota Inf (2013)'!$B$9:$G$109,5,FALSE)","v":0}]
[93,"POPOLARE VITA",14,-12.5,0,{"$f":"+VLOOKUP(B101,'Quota Inf (2013)'!$B$9:$G$109,5,FALSE)","v":0}]
[94,"ASSURANT LIFE",12,-88.3,0,{"$f":"+VLOOKUP(B102,'Quota Inf (2013)'!$B$9:$G$109,5,FALSE)","v":0}]
[95,"ASSURANT GENERAL INSURANCE",6,-90.8,0,{"$f":"+VLOOKUP(B103,'Quota Inf (2013)'!$B$9:$G$109,5,FALSE)","v":0}]
[96,"ASSICURAZIONI RISCHI AGRICOLI VMG 1857",2,0,0,{"$f":"+VLOOKUP(B104,'Quota Inf (2013)'!$B$9:$G$109,5,FALSE)","v":"SI"}]
[97,"MAPFRE ASISTENCIA",2,-84.6,0]
[98,"CBA VITA",1,0,0]
[99,"INTER PARTNER ASSISTANCE",-3,-101.1,0,{"$f":"+VLOOKUP(B107,'Quota Inf (2013)'!$B$9:$G$109,5,FALSE)","v":0}]

{"sheet":"Quota Inf (2016)","index":12,"n_rows":102,"n_cols":9,"rows_kept":102,"cut":false,"hidden":true,"merged":[]}
[null,null,null,null,"  1   - INFORTUNI"]
[]
[null,"Imprese in ordine decrescente","premi","variaz.","incid. sul"]
[null,null,null,"2016/2015","totale"]
[null,null,"(migliaia di EURO)","(%)","(%)"]
[null,"TOTALE RAMO",3419673,0.8,100]
[null,"di cui Imprese Italiane ed Extra-UE",3008313,1,-88,null,null,null," "]
[null,"di cui Imprese UE",411360,-1.3,-12]
[1,"UNIPOLSAI ASSICURAZIONI",626882,-0.7,18.329999999999998]
[2,"GENERALI ITALIA",576036,-4.5999999999999996,16.84]
[3,"ALLIANZ S.P.A.",356790,-2.9,10.43]
[4,"SOCIETA' CATTOLICA",168964,-2.2999999999999998,4.9400000000000004]
[5,"AXA ASSICURAZIONI",112686,1.5,3.3]
[6,"GROUPAMA ASSICURAZIONI",100233,-1.9,2.93]
[7,"ZURICH INSURANCE PLC",92780,-1.3,2.71]
[8,"SOCIETA' REALE MUTUA",91320,-2.5,2.67]
[9,"AIG EUROPE LIMITED",90891,-4.3,2.66]
[10,"VITTORIA ASSICURAZIONI",80780,0.9,2.36]
[11,"ACE EUROPEAN GROUP LTD",56864,-0.4,1.66]
[12,"ITAS MUTUA",54378,0.5,1.59]
[13,"SARA ASSICURAZIONI",53375,12.1,1.56]
[14,"METLIFE EUROPE LIMITED",52725,2.2999999999999998,1.54]
[15,"POSTE ASSICURA - Gruppo Assicurativo Poste Vita",52286,35.200000000000003,1.53]
[16,"AXA MPS ASSICURAZIONI DANNI",51654,5.5,1.51]
[17,"INTESA SANPAOLO ASSICURA",49414,97.2,1.44]
[18,"AVIVA ITALIA",45135,3.8,1.32]
[19,"ITALIANA ASSICURAZIONI",44599,0.3,1.3]
[20,"CARIGE R.D. ASSICURAZIONI E RIASSICURAZIONI",38334,7,1.1200000000000001]
[21,"DIRECT LINE INSURANCE",37670,4.8,1.1000000000000001]
[22,"HELVETIA SA",37294,-0.5,1.0900000000000001]
[23,"CARGEAS ASSICURAZIONI",36589,14,1.07]
[24,"CARDIF ASSURANCES RISQUES DIVERS",34936,-9,1.02]
[25,"LLOYD'S",30248,15.6,0.88]
[26,"ASSIMOCO",29322,4,0.86]
[27,"CREDITRAS ASSICURAZIONI",28346,212.9,0.83]
[28,"HELVETIA ITALIA ASSICURAZIONI",23038,-1.9,0.67]
[29,"GENIALLOYD",22257,7.6,0.65]
[30,"GENERTEL",20450,-8.6999999999999993,0.6]
[31,"HDI ASSICURAZIONI",19628,3.2,0.56999999999999995]
[32,"ARCA ASSICURAZIONI",19594,3.2,0.56999999999999995]
[33,"AVIPOP ASSICURAZIONI",17744,70.599999999999994,0.52]
[34,"TUA ASSICURAZIONI",17601,5.4,0.51]
[35,"MEDIOLANUM ASSICURAZIONI",16995,-32,0.5]
[36,"UNIQA ASSICURAZIONE",16243,-0.2,0.47]
[37,"UNISALUTE",15505,-3,0.45]
[38,"CHIARA ASSICURAZIONI",15221,1.2,0.45]
[39,"ALLEANZA ASSICURAZIONI",14990,0.2,0.44]
[40,"CHUBB INSURANCE COMPANY OF EUROPE",14874,-12.1,0.43]
[41,"CREDIT AGRICOLE ASSICURAZIONI",10395,11.2,0.3]
[42,"WIENER STADTISCHE VERSIC.",10391,4.5999999999999996,0.3]
[43,"EUROP ASSISTANCE ITALIA",8811,11,0.26]
[44,"COMPAGNIA ASS. LINEAR",8683,-0.3,0.25]
[45,"ERGO ASSICURAZIONI",8104,-10.9,0.24]
[46,"NOBIS ASSICURAZIONI",7478,48.7,0.22]
[47,"ABC ASSICURA",6259,-24,0.18]
[48,"HDI GLOBAL",5805,10.4,0.17]
[49,"INCONTRA ASSICURAZIONI",5739,13.5,0.17]
[50,"GREAT LAKES INSURANCE",5700,73.5,0.17]
[51,"ARISCOM COMPAGNIA DI ASSICURAZIONI",5581,-10,0.16]
[52,"CREDEMASSICURAZIONI",5185,10.199999999999999,0.15]
[53,"GLOBAL ASSISTANCE",5004,-12,0.15]
[54,"BIPIEMME ASSICURAZIONI",4931,6.9,0.14000000000000001]
[55,"BCC ASSICURAZIONI",4890,-4.8,0.14000000000000001]
[56,"CF ASSICURAZIONI",4640,38.1,0.14000000000000001]
[57,"BIPIEMME VITA",4289,-13.4,0.13]
[58,"FILO DIRETTO",3775,11.2,0.11]
[59,"BNP PARIBAS CARDIF VITA",3526,-21.3,0.1]
[60,"ASSICURATRICE MILANESE",3456,3.2,0.1]
[61,"ZURICH INSURANCE COMPANY",3294,-15.8,0.1]
[62,"INCHIARO ASSICURAZIONI",3275,9.8000000000000007,0.1]
[63,"ASSICURAZIONI GENERALI",3074,6.6,0.09]
[64,"AXA GLOBAL DIRECT SEGUROS Y REASEGUROS",2820,0.6,0.08]
[65,"ASSICURATRICE VAL PIAVE",2775,5.3,0.08]
[66,"CNP ASSURANCES",2552,12.3,7.0000000000000007E-2]
[67,"ALLIANZ GLOBAL C & S",2082,-9.9,0.06]
[68,"DONAU VERSICHERUNG VIENNA",1852,-56.6,0.05]
[69,"AXA CORPORATE SOLUTIONS",1710,-4.5999999999999996,0.05]
[70,"FINANCIAL INSURANCE COMPANY",1488,-46.7,0.04]
[71,"INTESA SANPAOLO VITA",1253,-6.7,0.04]
[72,"AWP P&C",873,-33.799999999999997,0.03]
[73,"BANCASSURANCE POPOLARI DANNI",681,-4.5999999999999996,0.02]
[74,"AMTRUST INTERNATIONAL UNDERWRITERS",585,"(.....)",0.02]
[75,"QUADRA ASSICURAZIONI",551,505.5,0.02]
[76,"LE ASSICURAZIONI DI ROMA",497,-19.399999999999999,0.01]
[77,"TIROLER VERSICHERUNG VAG",439,6.3,0.01]
[78,"MSIG INSURANCE EUROPE",386,17.3,0.01]
[79,"AMTRUST EUROPE",374,5242.9,0.01]
[80,"R+V ALLGEMEINE",338,6.3,0.01]
[81,"RBM SALUTE",324,60.4,0.01]
[82,"PRAMERICA LIFE",257,140.19999999999999,0.01]
[83,"AFI ESCA IARD",233,676.7,0.01]
[84,"AXERIA PREVOYANCE",225,-5.9,0.01]
[85,"NET INSURANCE",201,-42.2,0.01]
[86,"INTER PARTNER ASSISTANCE",115,25,0]
[87,"TOKIO MARINE EUROPE",54,-36.5,0]
[88,"SACE BT",16,-20,0]
[89,"MAPFRE ASISTENCIA",13,-65.8,0]
[90,"POPOLARE VITA",12,-7.7,0]
[91,"CNP PARTNERS DE SEGUROS Y REASEGUROS",7,75,0]
[92,"ASSICURAZIONI RISCHI AGRICOLI VMG 1857",2,0,0]
[93,"SIAT",1,0,0]
[94,"CBA VITA",1,0,0]

{"sheet":"Quota Mal (2016)","index":13,"n_rows":85,"n_cols":5,"rows_kept":85,"cut":false,"hidden":true,"merged":[]}
[null,null,null,null,"  2   - MALATTIA"]
[null,"Imprese in ordine decrescente","premi","variaz.","incid. sul"]
[null,null,null,"2016/2015","totale"]
[null,null,"(migliaia di EURO)","(%)","(%)"]
[]
[null,"TOTALE RAMO",2473581,8.3000000000000007,100]
[null,"di cui Imprese Italiane ed Extra-UE",2348526,9.6,-94.9]
[null,"di cui Imprese UE",125055,-10.7,-5.0999999999999996]
[1,"GENERALI ITALIA",459699,0.2,18.579999999999998]
[2,"RBM SALUTE",353558,10.7,14.29]
[3,"UNISALUTE",320636,12.9,12.96]
[4,"UNIPOLSAI ASSICURAZIONI",223269,-1.8,9.0299999999999994]
[5,"ALLIANZ S.P.A.",183982,2.2999999999999998,7.44]
[6,"SOCIETA' REALE MUTUA",91365,1.5,3.69]
[7,"INTESA SANPAOLO ASSICURA",80812,122.7,3.27]
[8,"AXA ASSICURAZIONI",70429,12.2,2.85]
[9,"EUROP ASSISTANCE ITALIA",63002,18.399999999999999,2.5499999999999998]
[10,"SOCIETA' CATTOLICA",55298,-9.5,2.2400000000000002]
[11,"CARGEAS ASSICURAZIONI",48439,4.2,1.96]
[12,"ZURICH INSURANCE PLC",44961,1.9,1.82]
[13,"CREDITRAS ASSICURAZIONI",38996,142.19999999999999,1.58]
[14,"UNIQA ASSICURAZIONE",35219,0.7,1.42]
[15,"INCONTRA ASSICURAZIONI",29390,1038.3,1.19]
[16,"AVIPOP ASSICURAZIONI",25982,40.700000000000003,1.05]
[17,"ASSICURAZIONI GENERALI",21552,2.2000000000000002,0.87]
[18,"AWP P&C",20800,-7.2,0.84]
[19,"MEDIOLANUM ASSICURAZIONI",19962,-9,0.81]
[20,"METLIFE EUROPE LIMITED",19832,-17.100000000000001,0.8]
[21,"GROUPAMA ASSICURAZIONI",19715,-2.6,0.8]
[22,"FILO DIRETTO",17523,4.5999999999999996,0.71]
[23,"POSTE ASSICURA - Gruppo Assicurativo Poste Vita",17434,135.6,0.7]
[24,"ITALIANA ASSICURAZIONI",17223,-0.2,0.7]
[25,"AXA MPS ASSICURAZIONI DANNI",16604,39.1,0.67]
[26,"ITAS MUTUA",13782,10.7,0.56000000000000005]
[27,"ARCA ASSICURAZIONI",13181,6.7,0.53]
[28,"VITTORIA ASSICURAZIONI",13038,5.5,0.53]
[29,"ACE EUROPEAN GROUP LTD",11832,-6.3,0.48]
[30,"ASSIMOCO",11403,6.9,0.46]
[31,"AVIVA ITALIA",10797,8.5,0.44]
[32,"CARDIF ASSURANCES RISQUES DIVERS",9139,-62,0.37]
[33,"CREDIT AGRICOLE ASSICURAZIONI",7729,0.2,0.31]
[34,"SARA ASSICURAZIONI",7489,-1.5,0.3]
[35,"AIG EUROPE LIMITED",7089,-1.3,0.28999999999999998]
[36,"BNP PARIBAS CARDIF VITA",6203,131.30000000000001,0.25]
[37,"CREDEMASSICURAZIONI",6094,-23,0.25]
[38,"HELVETIA SA",5698,-5,0.23]
[39,"INTER PARTNER ASSISTANCE",5443,40.5,0.22]
[40,"ALLEANZA ASSICURAZIONI",5395,6.2,0.22]
[41,"CNP ASSURANCES",4271,280.7,0.17]
[42,"CARIGE R.D. ASSICURAZIONI E RIASSICURAZIONI",4123,-3.3,0.17]
[43,"BCC ASSICURAZIONI",3405,13.2,0.14000000000000001]
[44,"BIPIEMME VITA",3273,6,0.13]
[45,"GLOBAL ASSISTANCE",2753,-27.6,0.11]
[46,"ARISCOM COMPAGNIA DI ASSICURAZIONI",2627,-6.3,0.11]
[47,"CHIARA ASSICURAZIONI",2567,4.7,0.1]
[48,"BIPIEMME ASSICURAZIONI",2461,-43.6,0.1]
[49,"ERGO ASSICURAZIONI",2365,-7,0.1]
[50,"HDI ASSICURAZIONI",2285,0.7,0.09]
[51,"GENERTEL",2145,-14.5,0.09]
[52,"TUA ASSICURAZIONI",1930,11.9,0.08]
[53,"CF ASSICURAZIONI",1757,44,7.0000000000000007E-2]
[54,"ABC ASSICURA",1534,-34.9,0.06]
[55,"FINANCIAL INSURANCE COMPANY",1481,143.6,0.06]
[56,"CBA VITA",1209,-16.7,0.05]
[57,"INCHIARO ASSICURAZIONI",850,-13.2,0.03]
[58,"NOBIS ASSICURAZIONI",651,29.9,0.03]
[59,"ASSICURATRICE VAL PIAVE",520,8.1,0.02]
[60,"BANCASSURANCE POPOLARI DANNI",291,-7.9,0.01]
[61,"HELVETIA ITALIA ASSICURAZIONI",200,14.3,0.01]
[62,"HDI GLOBAL",178,147.19999999999999,0.01]
[63,"PRAMERICA LIFE",131,101.5,0.01]
[64,"ASSICURATRICE MILANESE",130,-13.3,0.01]
[65,"QUADRA ASSICURAZIONI",123,324.10000000000002,0]
[66,"NET INSURANCE",116,-29.7,0]
[67,"POPOLARE VITA",76,0,0]
[68,"POSTE VITA - Gruppo Assicurativo Poste Vita",55,-1.8,0]
[69,"LE ASSICURAZIONI DI ROMA",32,-50.8,0]
[70,"AMTRUST EUROPE",14,"(.....)",0]
[71,"IMA - ITALIA ASSISTANCE",10,"(.....)",0]
[72,"LLOYD'S",9,-57.1,0]
[73,"INTESA SANPAOLO VITA",6,-14.3,0]
[74,"MAPFRE ASISTENCIA",6,-90.8,0]
[75,"ASSICURAZIONI RISCHI AGRICOLI VMG 1857",1,0,0]
[76,"GENIALLOYD",1,0,0]
[77,"COMPAGNIA ASS. LINEAR",1,0,0]

{"sheet":"TAV INF_MAL_semestre","index":14,"n_rows":22,"n_cols":15,"rows_kept":22,"cut":false,"hidden":true,"merged":[[20,0,20,14],[21,0,21,14],[3,0,4,0],[3,1,3,2],[3,3,3,5],[2,7,2,11],[3,7,3,8],[3,9,3,11],[2,13,3,14],[2,1,2,5]]}
["Tavola 1 - Distribuzione % dei premi per principali garanzie assicurative"]
["Importi in migliaia di euro"]
[null,"Premi Contabilizzati",null,null,null,null,null,"di cui: Premi Nuova Produzione",null,null,null,null,null,"% Nuova Prod. su Contab."]
["Garanzie assicurative","I semestre 2015",null,"I semestre 2016",null,null,null,"I semestre 2015",null,"I semestre 2016"]
[null,"Premi","Distrib.","Premi","Distrib.","Var. annua",null,"Premi","Distrib.","Premi","Distrib.","Var. annua",null,"I sem. 2015","I sem. 2016"]
["INFORTUNI "]
["Morte",{"$f":"+#REF!/1000","v":{"$error":"#REF!"}},{"$f":"+B7/$B$12","v":{"$error":"#REF!"}},{"$f":"+#REF!/1000","v":{"$error":"#REF!"}},{"$f":"+D7/$D$12","v":{"$error":"#REF!"}},{"$f":"+D7/B7-1","v":{"$error":"#REF!"}},null,{"$f":"+#REF!/1000","v":{"$error":"#REF!"}},{"$f":"+H7/$H$12","v":{"$error":"#REF!"}},{"$f":"+#REF!/1000","v":{"$error":"#REF!"}},{"$f":"+J7/$J$12","v":{"$error":"#REF!"}},{"$f":"+J7/H7-1","v":{"$error":"#REF!"}},null,{"$f":"+H7/B7","v":{"$error":"#REF!"}},{"$f":"+J7/D7","v":{"$error":"#REF!"}}]
["Invalidità permanente",{"$f":"+#REF!/1000","v":{"$error":"#REF!"}},{"$error":"#REF!"},{"$f":"+#REF!/1000","v":{"$error":"#REF!"}},{"$error":"#REF!"},{"$f":"+D8/B8-1","v":{"$error":"#REF!"}},null,{"$f":"+#REF!/1000","v":{"$error":"#REF!"}},{"$error":"#REF!"},{"$f":"+#REF!/1000","v":{"$error":"#REF!"}},{"$error":"#REF!"},{"$error":"#REF!"},null,{"$error":"#REF!"},{"$error":"#REF!"}]
["Inabilità temporanea",{"$f":"+#REF!/1000","v":{"$error":"#REF!"}},{"$error":"#REF!"},{"$f":"+#REF!/1000","v":{"$error":"#REF!"}},{"$error":"#REF!"},{"$error":"#REF!"},null,{"$f":"+#REF!/1000","v":{"$error":"#REF!"}},{"$error":"#REF!"},{"$f":"+#REF!/1000","v":{"$error":"#REF!"}},{"$error":"#REF!"},{"$error":"#REF!"},null,{"$error":"#REF!"},{"$error":"#REF!"}]
["Infortunio del conducente",{"$f":"+#REF!/1000","v":{"$error":"#REF!"}},{"$error":"#REF!"},{"$f":"+#REF!/1000","v":{"$error":"#REF!"}},{"$error":"#REF!"},{"$error":"#REF!"},null,{"$f":"+#REF!/1000","v":{"$error":"#REF!"}},{"$error":"#REF!"},{"$f":"+#REF!/1000","v":{"$error":"#REF!"}},{"$error":"#REF!"},{"$error":"#REF!"},null,{"$error":"#REF!"},{"$error":"#REF!"}]
["Altro*",{"$f":"+#REF!/1000","v":{"$error":"#REF!"}},{"$error":"#REF!"},{"$f":"+#REF!/1000","v":{"$error":"#REF!"}},{"$error":"#REF!"},{"$error":"#REF!"},null,{"$f":"+#REF!/1000","v":{"$error":"#REF!"}},{"$error":"#REF!"},{"$f":"+#REF!/1000","v":{"$error":"#REF!"}},{"$error":"#REF!"},{"$error":"#REF!"},null,{"$error":"#REF!"},{"$error":"#REF!"}]
["Totale",{"$f":"+#REF!/1000","v":{"$error":"#REF!"}},{"$error":"#REF!"},{"$f":"+#REF!/1000","v":{"$error":"#REF!"}},{"$error":"#REF!"},{"$error":"#REF!"},null,{"$f":"+#REF!/1000","v":{"$error":"#REF!"}},{"$error":"#REF!"},{"$f":"+#REF!/1000","v":{"$error":"#REF!"}},{"$error":"#REF!"},{"$error":"#REF!"},null,{"$error":"#REF!"},{"$error":"#REF!"}]
["MALATTIA "]
["Rimborso spese mediche",{"$f":"+#REF!/1000","v":{"$error":"#REF!"}},{"$f":"+B14/$B$19","v":{"$error":"#REF!"}},{"$f":"+#REF!/1000","v":{"$error":"#REF!"}},{"$f":"+D14/$D$19","v":{"$error":"#REF!"}},{"$f":"+D14/B14-1","v":{"$error":"#REF!"}},null,{"$f":"+#REF!/1000","v":{"$error":"#REF!"}},{"$f":"+H14/$H$19","v":{"$error":"#REF!"}},{"$f":"+#REF!/1000","v":{"$error":"#REF!"}},{"$f":"+J14/$J$19","v":{"$error":"#REF!"}},{"$f":"+J14/H14-1","v":{"$error":"#REF!"}},null,{"$f":"+H14/B14","v":{"$error":"#REF!"}},{"$f":"+J14/D14","v":{"$error":"#REF!"}}]
["Invalidità permanente",{"$f":"+#REF!/1000","v":{"$error":"#REF!"}},{"$error":"#REF!"},{"$f":"+#REF!/1000","v":{"$error":"#REF!"}},{"$error":"#REF!"},{"$error":"#REF!"},null,{"$f":"+#REF!/1000","v":{"$error":"#REF!"}},{"$error":"#REF!"},{"$f":"+#REF!/1000","v":{"$error":"#REF!"}},{"$error":"#REF!"},{"$error":"#REF!"},null,{"$error":"#REF!"},{"$error":"#REF!"}]
["Diaria",{"$f":"+#REF!/1000","v":{"$error":"#REF!"}},{"$error":"#REF!"},{"$f":"+#REF!/1000","v":{"$error":"#REF!"}},{"$error":"#REF!"},{"$error":"#REF!"},null,{"$f":"+#REF!/1000","v":{"$error":"#REF!"}},{"$error":"#REF!"},{"$f":"+#REF!/1000","v":{"$error":"#REF!"}},{"$error":"#REF!"},{"$error":"#REF!"},null,{"$error":"#REF!"},{"$error":"#REF!"}]
["Long term care",{"$f":"+#REF!/1000","v":{"$error":"#REF!"}},{"$error":"#REF!"},{"$f":"+#REF!/1000","v":{"$error":"#REF!"}},{"$error":"#REF!"},{"$error":"#REF!"},null,{"$f":"+#REF!/1000","v":{"$error":"#REF!"}},{"$error":"#REF!"},{"$f":"+#REF!/1000","v":{"$error":"#REF!"}},{"$error":"#REF!"},{"$error":"#REF!"},null,{"$error":"#REF!"},{"$error":"#REF!"}]
["Altro**",{"$f":"+#REF!/1000","v":{"$error":"#REF!"}},{"$error":"#REF!"},{"$f":"+#REF!/1000","v":{"$error":"#REF!"}},{"$error":"#REF!"},{"$error":"#REF!"},null,{"$f":"+#REF!/1000","v":{"$error":"#REF!"}},{"$error":"#REF!"},{"$f":"+#REF!/1000","v":{"$error":"#REF!"}},{"$error":"#REF!"},{"$error":"#REF!"},null,{"$error":"#REF!"},{"$error":"#REF!"}]
["Totale",{"$f":"+#REF!/1000","v":{"$error":"#REF!"}},{"$error":"#REF!"},{"$f":"+#REF!/1000","v":{"$error":"#REF!"}},{"$error":"#REF!"},{"$error":"#REF!"},null,{"$f":"+#REF!/1000","v":{"$error":"#REF!"}},{"$error":"#REF!"},{"$f":"+#REF!/1000","v":{"$error":"#REF!"}},{"$error":"#REF!"},{"$error":"#REF!"},null,{"$error":"#REF!"},{"$error":"#REF!"}]
["Fonte: ANIA"]
["(*): Nella voce Altro sono incluse anche altre garanzie come l'indennità di ricovero, il rimborso delle spese per la cura e la riabilitazione rese necessarie a seguito dell'infortunio, nonché ulteriori altre garanzie che non rientrano in quelle indicate o che le imprese non riescono a distinguere."]
["(**): Nella voce Altro sono incluse porzioni di premi attinenti a coperture di rischio che non rientrano in quelle già indicate (come ad esempio l’inabilità temporanea presente nelle polizze di alcune compagnie) o che non possono essere altrimenti allocate per mancanza di informazioni."]

{"sheet":"TAV INF_MAL_anno 2015-2016","index":15,"n_rows":23,"n_cols":15,"rows_kept":23,"cut":false,"hidden":true,"merged":[[21,0,21,14],[22,0,22,14],[2,1,2,5],[2,7,2,11],[2,13,3,14],[3,0,4,0],[3,1,3,2],[3,3,3,5],[3,7,3,8],[3,9,3,11]]}
["Tavola 1 - Distribuzione % dei premi per principali garanzie assicurative"]
["Importi in migliaia di euro"]
[null,"Premi Contabilizzati",null,null,null,null,null,"di cui: Premi Nuova Produzione",null,null,null,null,null,"% Nuova Prod. su Contab."]
["Garanzie assicurative",2015,null,2016,null,null,null,2015,null,2016]
[null,"Premi","Distrib.","Premi","Distrib.","Var. annua",null,"Premi","Distrib.","Premi","Distrib.","Var. annua",null,2015,2016]
["INFORTUNI "]
["Morte",{"$f":"+#REF!/1000","v":{"$error":"#REF!"}},{"$f":"+B7/$B$12","v":{"$error":"#REF!"}},{"$f":"+#REF!/1000","v":{"$error":"#REF!"}},{"$f":"+D7/$D$12","v":{"$error":"#REF!"}},{"$f":"+D7/B7-1","v":{"$error":"#REF!"}},null,{"$f":"+#REF!/1000","v":{"$error":"#REF!"}},{"$f":"+H7/$H$12","v":{"$error":"#REF!"}},{"$f":"+#REF!/1000","v":{"$error":"#REF!"}},{"$f":"+J7/$J$12","v":{"$error":"#REF!"}},{"$f":"+J7/H7-1","v":{"$error":"#REF!"}},null,{"$f":"+H7/B7","v":{"$error":"#REF!"}},{"$f":"+J7/D7","v":{"$error":"#REF!"}}]
["Invalidità permanente",{"$f":"+#REF!/1000","v":{"$error":"#REF!"}},{"$error":"#REF!"},{"$f":"+#REF!/1000","v":{"$error":"#REF!"}},{"$error":"#REF!"},{"$error":"#REF!"},null,{"$f":"+#REF!/1000","v":{"$error":"#REF!"}},{"$error":"#REF!"},{"$f":"+#REF!/1000","v":{"$error":"#REF!"}},{"$error":"#REF!"},{"$error":"#REF!"},null,{"$error":"#REF!"},{"$error":"#REF!"}]
["Inabilità temporanea",{"$f":"+#REF!/1000","v":{"$error":"#REF!"}},{"$error":"#REF!"},{"$f":"+#REF!/1000","v":{"$error":"#REF!"}},{"$error":"#REF!"},{"$error":"#REF!"},null,{"$f":"+#REF!/1000","v":{"$error":"#REF!"}},{"$error":"#REF!"},{"$f":"+#REF!/1000","v":{"$error":"#REF!"}},{"$error":"#REF!"},{"$error":"#REF!"},null,{"$error":"#REF!"},{"$error":"#REF!"}]
["Infortunio del conducente",{"$f":"+#REF!/1000","v":{"$error":"#REF!"}},{"$error":"#REF!"},{"$f":"+#REF!/1000","v":{"$error":"#REF!"}},{"$error":"#REF!"},{"$error":"#REF!"},null,{"$f":"+#REF!/1000","v":{"$error":"#REF!"}},{"$error":"#REF!"},{"$f":"+#REF!/1000","v":{"$error":"#REF!"}},{"$error":"#REF!"},{"$error":"#REF!"},null,{"$error":"#REF!"},{"$error":"#REF!"}]
["Altro*",{"$f":"+#REF!/1000","v":{"$error":"#REF!"}},{"$error":"#REF!"},{"$f":"+#REF!/1000","v":{"$error":"#REF!"}},{"$error":"#REF!"},{"$error":"#REF!"},null,{"$f":"+#REF!/1000","v":{"$error":"#REF!"}},{"$error":"#REF!"},{"$f":"+#REF!/1000","v":{"$error":"#REF!"}},{"$error":"#REF!"},{"$error":"#REF!"},null,{"$error":"#REF!"},{"$error":"#REF!"}]
["Totale",{"$f":"+#REF!/1000","v":{"$error":"#REF!"}},{"$error":"#REF!"},{"$f":"+#REF!/1000","v":{"$error":"#REF!"}},{"$error":"#REF!"},{"$error":"#REF!"},null,{"$f":"+#REF!/1000","v":{"$error":"#REF!"}},{"$error":"#REF!"},{"$f":"+#REF!/1000","v":{"$error":"#REF!"}},{"$error":"#REF!"},{"$error":"#REF!"},null,{"$error":"#REF!"},{"$error":"#REF!"}]
[]
["MALATTIA "]
["Rimborso spese mediche",{"$f":"+#REF!/1000","v":{"$error":"#REF!"}},{"$f":"+B15/$B$20","v":{"$error":"#REF!"}},{"$f":"+#REF!/1000","v":{"$error":"#REF!"}},{"$f":"+D15/$D$20","v":{"$error":"#REF!"}},{"$f":"+D15/B15-1","v":{"$error":"#REF!"}},null,{"$f":"+#REF!/1000","v":{"$error":"#REF!"}},{"$f":"+H15/$H$20","v":{"$error":"#REF!"}},{"$f":"+#REF!/1000","v":{"$error":"#REF!"}},{"$f":"+J15/$J$20","v":{"$error":"#REF!"}},{"$f":"+J15/H15-1","v":{"$error":"#REF!"}},null,{"$f":"+H15/B15","v":{"$error":"#REF!"}},{"$f":"+J15/D15","v":{"$error":"#REF!"}}]
["Invalidità permanente",{"$f":"+#REF!/1000","v":{"$error":"#REF!"}},{"$error":"#REF!"},{"$f":"+#REF!/1000","v":{"$error":"#REF!"}},{"$error":"#REF!"},{"$error":"#REF!"},null,{"$f":"+#REF!/1000","v":{"$error":"#REF!"}},{"$error":"#REF!"},{"$f":"+#REF!/1000","v":{"$error":"#REF!"}},{"$error":"#REF!"},{"$error":"#REF!"},null,{"$error":"#REF!"},{"$error":"#REF!"}]
["Diaria",{"$f":"+#REF!/1000","v":{"$error":"#REF!"}},{"$error":"#REF!"},{"$f":"+#REF!/1000","v":{"$error":"#REF!"}},{"$error":"#REF!"},{"$error":"#REF!"},null,{"$f":"+#REF!/1000","v":{"$error":"#REF!"}},{"$error":"#REF!"},{"$f":"+#REF!/1000","v":{"$error":"#REF!"}},{"$error":"#REF!"},{"$error":"#REF!"},null,{"$error":"#REF!"},{"$error":"#REF!"}]
["Long term care",{"$f":"+#REF!/1000","v":{"$error":"#REF!"}},{"$error":"#REF!"},{"$f":"+#REF!/1000","v":{"$error":"#REF!"}},{"$error":"#REF!"},{"$error":"#REF!"},null,{"$f":"+#REF!/1000","v":{"$error":"#REF!"}},{"$error":"#REF!"},{"$f":"+#REF!/1000","v":{"$error":"#REF!"}},{"$error":"#REF!"},{"$error":"#REF!"},null,{"$error":"#REF!"},{"$error":"#REF!"}]
["Altro**",{"$f":"+#REF!/1000","v":{"$error":"#REF!"}},{"$error":"#REF!"},{"$f":"+#REF!/1000","v":{"$error":"#REF!"}},{"$error":"#REF!"},{"$error":"#REF!"},null,{"$f":"+#REF!/1000","v":{"$error":"#REF!"}},{"$error":"#REF!"},{"$f":"+#REF!/1000","v":{"$error":"#REF!"}},{"$error":"#REF!"},{"$error":"#REF!"},null,{"$error":"#REF!"},{"$error":"#REF!"}]
["Totale",{"$f":"+#REF!/1000","v":{"$error":"#REF!"}},{"$error":"#REF!"},{"$f":"+#REF!/1000","v":{"$error":"#REF!"}},{"$error":"#REF!"},{"$error":"#REF!"},null,{"$f":"+#REF!/1000","v":{"$error":"#REF!"}},{"$error":"#REF!"},{"$f":"+#REF!/1000","v":{"$error":"#REF!"}},{"$error":"#REF!"},{"$error":"#REF!"},null,{"$error":"#REF!"},{"$error":"#REF!"}]
["Fonte: ANIA"]
["(*): Nella voce Altro sono incluse anche altre garanzie come l'indennità di ricovero, il rimborso delle spese per la cura e la riabilitazione rese necessarie a seguito dell'infortunio, nonché ulteriori altre garanzie che non rientrano in quelle indicate o che le imprese non riescono a distinguere."]
["(**): Nella voce Altro sono incluse porzioni di premi attinenti a coperture di rischio che non rientrano in quelle già indicate (come ad esempio l’inabilità temporanea presente nelle polizze di alcune compagnie) o che non possono essere altrimenti allocate per mancanza di informazioni."]

{"sheet":"TAV INF_MAL_semestre (2017)","index":16,"n_rows":22,"n_cols":19,"rows_kept":22,"cut":false,"hidden":true,"merged":[[20,0,20,18],[21,0,21,18],[2,5,2,9],[2,11,2,15],[2,17,3,18],[3,0,4,0],[3,5,3,6],[3,7,3,9],[3,11,3,12],[3,13,3,15],[3,3,3,4],[3,1,3,2]]}
["Tavola 1 - Distribuzione % dei premi per principali garanzie assicurative"]
["Importi in migliaia di euro"]
[null,null,null,null,null,"Premi Contabilizzati",null,null,null,null,null,"di cui: Premi Nuova Produzione",null,null,null,null,null,"% Nuova Prod. su Contab."]
["Garanzie assicurative","I semestre 2014",null,"I semestre 2015",null,"I semestre 2016",null,"I semestre 2017",null,null,null,"I semestre 2016",null,"I semestre 2017"]
[null,"Premi","Distrib.","Premi","Distrib.","Premi","Distrib.","Premi","Distrib.","Var. annua",null,"Premi","Distrib.","Premi","Distrib.","Var. annua",null,"I sem. 2016","I sem. 2017"]
["INFORTUNI "]
["Morte",{"$f":"+#REF!/1000","v":{"$error":"#REF!"}},{"$f":"+B7/$D$12","v":{"$error":"#REF!"}},{"$f":"+#REF!/1000","v":{"$error":"#REF!"}},{"$f":"+D7/$D$12","v":{"$error":"#REF!"}},{"$f":"+#REF!/1000","v":{"$error":"#REF!"}},{"$f":"+F7/$F$12","v":{"$error":"#REF!"}},{"$f":"+#REF!/1000","v":{"$error":"#REF!"}},{"$f":"+H7/$H$12","v":{"$error":"#REF!"}},{"$f":"+H7/F7-1","v":{"$error":"#REF!"}},null,{"$f":"+#REF!/1000","v":{"$error":"#REF!"}},{"$f":"+L7/$L$12","v":{"$error":"#REF!"}},{"$f":"+#REF!/1000","v":{"$error":"#REF!"}},{"$f":"+N7/$N$12","v":{"$error":"#REF!"}},{"$f":"+N7/L7-1","v":{"$error":"#REF!"}},null,{"$f":"+L7/F7","v":{"$error":"#REF!"}},{"$f":"+N7/H7","v":{"$error":"#REF!"}}]
["Invalidità permanente",{"$f":"+#REF!/1000","v":{"$error":"#REF!"}},{"$f":"+B8/$D$12","v":{"$error":"#REF!"}},{"$f":"+#REF!/1000","v":{"$error":"#REF!"}},{"$f":"+D8/$D$12","v":{"$error":"#REF!"}},{"$f":"+#REF!/1000","v":{"$error":"#REF!"}},{"$error":"#REF!"},{"$f":"+#REF!/1000","v":{"$error":"#REF!"}},{"$error":"#REF!"},{"$error":"#REF!"},null,{"$f":"+#REF!/1000","v":{"$error":"#REF!"}},{"$error":"#REF!"},{"$f":"+#REF!/1000","v":{"$error":"#REF!"}},{"$error":"#REF!"},{"$error":"#REF!"},null,{"$error":"#REF!"},{"$error":"#REF!"}]
["Inabilità temporanea",{"$f":"+#REF!/1000","v":{"$error":"#REF!"}},{"$error":"#REF!"},{"$f":"+#REF!/1000","v":{"$error":"#REF!"}},{"$error":"#REF!"},{"$f":"+#REF!/1000","v":{"$error":"#REF!"}},{"$error":"#REF!"},{"$f":"+#REF!/1000","v":{"$error":"#REF!"}},{"$error":"#REF!"},{"$error":"#REF!"},null,{"$f":"+#REF!/1000","v":{"$error":"#REF!"}},{"$error":"#REF!"},{"$f":"+#REF!/1000","v":{"$error":"#REF!"}},{"$error":"#REF!"},{"$error":"#REF!"},null,{"$error":"#REF!"},{"$error":"#REF!"}]
["Infortunio del conducente",{"$f":"+#REF!/1000","v":{"$error":"#REF!"}},{"$error":"#REF!"},{"$f":"+#REF!/1000","v":{"$error":"#REF!"}},{"$error":"#REF!"},{"$f":"+#REF!/1000","v":{"$error":"#REF!"}},{"$error":"#REF!"},{"$f":"+#REF!/1000","v":{"$error":"#REF!"}},{"$error":"#REF!"},{"$error":"#REF!"},null,{"$f":"+#REF!/1000","v":{"$error":"#REF!"}},{"$error":"#REF!"},{"$f":"+#REF!/1000","v":{"$error":"#REF!"}},{"$error":"#REF!"},{"$error":"#REF!"},null,{"$error":"#REF!"},{"$error":"#REF!"}]
["Altro*",{"$f":"+#REF!/1000","v":{"$error":"#REF!"}},{"$error":"#REF!"},{"$f":"+#REF!/1000","v":{"$error":"#REF!"}},{"$error":"#REF!"},{"$f":"+#REF!/1000","v":{"$error":"#REF!"}},{"$error":"#REF!"},{"$f":"+#REF!/1000","v":{"$error":"#REF!"}},{"$error":"#REF!"},{"$error":"#REF!"},null,{"$f":"+#REF!/1000","v":{"$error":"#REF!"}},{"$error":"#REF!"},{"$f":"+#REF!/1000","v":{"$error":"#REF!"}},{"$error":"#REF!"},{"$error":"#REF!"},null,{"$error":"#REF!"},{"$error":"#REF!"}]
["Totale",{"$f":"+#REF!/1000","v":{"$error":"#REF!"}},{"$error":"#REF!"},{"$f":"+#REF!/1000","v":{"$error":"#REF!"}},{"$error":"#REF!"},{"$f":"+#REF!/1000","v":{"$error":"#REF!"}},{"$error":"#REF!"},{"$f":"+#REF!/1000","v":{"$error":"#REF!"}},{"$error":"#REF!"},{"$error":"#REF!"},null,{"$f":"+#REF!/1000","v":{"$error":"#REF!"}},{"$error":"#REF!"},{"$f":"+#REF!/1000","v":{"$error":"#REF!"}},{"$error":"#REF!"},{"$error":"#REF!"},null,{"$error":"#REF!"},{"$error":"#REF!"}]
["MALATTIA "]
["Rimborso spese mediche",{"$f":"+#REF!/1000","v":{"$error":"#REF!"}},{"$f":"+B14/$D$19","v":{"$error":"#REF!"}},{"$f":"+#REF!/1000","v":{"$error":"#REF!"}},{"$f":"+D14/$D$19","v":{"$error":"#REF!"}},{"$f":"+#REF!/1000","v":{"$error":"#REF!"}},{"$f":"+F14/$F$19","v":{"$error":"#REF!"}},{"$f":"+#REF!/1000","v":{"$error":"#REF!"}},{"$f":"+H14/$H$19","v":{"$error":"#REF!"}},{"$f":"+H14/F14-1","v":{"$error":"#REF!"}},null,{"$f":"+#REF!/1000","v":{"$error":"#REF!"}},{"$f":"+L14/$L$19","v":{"$error":"#REF!"}},{"$f":"+#REF!/1000","v":{"$error":"#REF!"}},{"$f":"+N14/$N$19","v":{"$error":"#REF!"}},{"$f":"+N14/L14-1","v":{"$error":"#REF!"}},null,{"$f":"+L14/F14","v":{"$error":"#REF!"}},{"$f":"+N14/H14","v":{"$error":"#REF!"}}]
["Invalidità permanente",{"$f":"+#REF!/1000","v":{"$error":"#REF!"}},{"$f":"+B15/$D$19","v":{"$error":"#REF!"}},{"$f":"+#REF!/1000","v":{"$error":"#REF!"}},{"$f":"+D15/$D$19","v":{"$error":"#REF!"}},{"$f":"+#REF!/1000","v":{"$error":"#REF!"}},{"$error":"#REF!"},{"$f":"+#REF!/1000","v":{"$error":"#REF!"}},{"$error":"#REF!"},{"$error":"#REF!"},null,{"$f":"+#REF!/1000","v":{"$error":"#REF!"}},{"$error":"#REF!"},{"$f":"+#REF!/1000","v":{"$error":"#REF!"}},{"$error":"#REF!"},{"$error":"#REF!"},null,{"$error":"#REF!"},{"$error":"#REF!"}]
["Diaria",{"$f":"+#REF!/1000","v":{"$error":"#REF!"}},{"$error":"#REF!"},{"$f":"+#REF!/1000","v":{"$error":"#REF!"}},{"$error":"#REF!"},{"$f":"+#REF!/1000","v":{"$error":"#REF!"}},{"$error":"#REF!"},{"$f":"+#REF!/1000","v":{"$error":"#REF!"}},{"$error":"#REF!"},{"$error":"#REF!"},null,{"$f":"+#REF!/1000","v":{"$error":"#REF!"}},{"$error":"#REF!"},{"$f":"+#REF!/1000","v":{"$error":"#REF!"}},{"$error":"#REF!"},{"$error":"#REF!"},null,{"$error":"#REF!"},{"$error":"#REF!"}]
["Long term care",{"$f":"+#REF!/1000","v":{"$error":"#REF!"}},{"$error":"#REF!"},{"$f":"+#REF!/1000","v":{"$error":"#REF!"}},{"$error":"#REF!"},{"$f":"+#REF!/1000","v":{"$error":"#REF!"}},{"$error":"#REF!"},{"$f":"+#REF!/1000","v":{"$error":"#REF!"}},{"$error":"#REF!"},{"$error":"#REF!"},null,{"$f":"+#REF!/1000","v":{"$error":"#REF!"}},{"$error":"#REF!"},{"$f":"+#REF!/1000","v":{"$error":"#REF!"}},{"$error":"#REF!"},{"$error":"#REF!"},null,{"$error":"#REF!"},{"$error":"#REF!"}]
["Altro**",{"$f":"+#REF!/1000","v":{"$error":"#REF!"}},{"$error":"#REF!"},{"$f":"+#REF!/1000","v":{"$error":"#REF!"}},{"$error":"#REF!"},{"$f":"+#REF!/1000","v":{"$error":"#REF!"}},{"$error":"#REF!"},{"$f":"+#REF!/1000","v":{"$error":"#REF!"}},{"$error":"#REF!"},{"$error":"#REF!"},null,{"$f":"+#REF!/1000","v":{"$error":"#REF!"}},{"$error":"#REF!"},{"$f":"+#REF!/1000","v":{"$error":"#REF!"}},{"$error":"#REF!"},{"$error":"#REF!"},null,{"$error":"#REF!"},{"$error":"#REF!"}]
["Totale",{"$f":"+#REF!/1000","v":{"$error":"#REF!"}},{"$error":"#REF!"},{"$f":"+#REF!/1000","v":{"$error":"#REF!"}},{"$error":"#REF!"},{"$f":"+#REF!/1000","v":{"$error":"#REF!"}},{"$error":"#REF!"},{"$f":"+#REF!/1000","v":{"$error":"#REF!"}},{"$error":"#REF!"},{"$error":"#REF!"},null,{"$f":"+#REF!/1000","v":{"$error":"#REF!"}},{"$error":"#REF!"},{"$f":"+#REF!/1000","v":{"$error":"#REF!"}},{"$error":"#REF!"},{"$error":"#REF!"},null,{"$error":"#REF!"},{"$error":"#REF!"}]
["Fonte: ANIA"]
["(*): Nella voce Altro sono incluse altre garanzie come l'indennità di ricovero, il rimborso delle spese per la cura e la riabilitazione rese necessarie a seguito dell'infortunio, nonché ulteriori garanzie che non rientrano in quelle indicate o che le imprese non riescono a distinguere."]
["(**): Nella voce Altro sono incluse quote di premi di coperture che non rientrano in quelle già indicate (come ad esempio l’inabilità temporanea) o che non possono essere allocate a una specifica garanzia per mancanza di informazioni."]

{"sheet":"TAVOLA1inf(semestre)","index":17,"n_rows":37,"n_cols":29,"rows_kept":37,"cut":false,"hidden":true,"merged":[[27,0,27,23],[3,6,3,8],[3,18,3,20],[3,15,3,16],[3,3,3,4],[2,22,3,23],[3,0,4,0],[2,3,2,8],[2,15,2,20]]}
["Tavola 1 - Distribuzione % dei premi per principali tipologie"]
["Importi in migliaia"]
[null,null,null,"Premi Contabilizzati",null,null,null,null,null,null,"Per memoria",null,null,null,null,"di cui: Premi Nuova Produzione",null,null,null,null,null,null,"% Nuova Prod. su Contab."]
["Garanzie assicurative","I semestre 2014",null,"I semestre 2015",null,null,"I semestre 2016",null,null,null,"Anno 2014",null,"Anno 2015",null,null,"I semestre 2015",null,null,"I semestre 2016"]
[null,"Premi","Distrib. %","Premi","Distrib.","Var. % annua","Premi","Distrib.","Var. annua",null,"Premi","Distrib. %","Premi","Distrib. %","Var. % annua","Premi","Distrib.","Var. % annua","Premi","Distrib.","Var. annua",null,"I sem. 2015","I sem. 2016",null,"2015-06-01","2016-06-01",null,2015]
["POLIZZE INDIVIDUALI"]
["Morte",{"$f":"(+#REF!)/1000","v":{"$error":"#REF!"}},{"$f":"+#REF!","v":{"$error":"#REF!"}},{"$f":"(+#REF!)/1000","v":{"$error":"#REF!"}},{"$f":"+D7/$D$12","v":{"$error":"#REF!"}},{"$f":"+D7/B7-1","v":{"$error":"#REF!"}},{"$f":"(+#REF!)/1000","v":{"$error":"#REF!"}},{"$f":"+G7/$G$12","v":{"$error":"#REF!"}},{"$f":"+G7/D7-1","v":{"$error":"#REF!"}},null,{"$f":"(+#REF!)/1000","v":{"$error":"#REF!"}},{"$f":"+#REF!","v":{"$error":"#REF!"}},{"$f":"(+#REF!)/1000","v":{"$error":"#REF!"}},{"$f":"+#REF!","v":{"$error":"#REF!"}},{"$f":"+M7/K7-1","v":{"$error":"#REF!"}},{"$f":"+#REF!/1000","v":{"$error":"#REF!"}},{"$f":"+P7/$P$12","v":{"$error":"#REF!"}},{"$f":"+#REF!/#REF!-1","v":{"$error":"#REF!"}},{"$f":"+#REF!/1000","v":{"$error":"#REF!"}},{"$f":"+S7/$S$12","v":{"$error":"#REF!"}},{"$f":"+S7/P7-1","v":{"$error":"#REF!"}},null,{"$f":"+P7/D7","v":{"$error":"#REF!"}},{"$f":"+S7/G7","v":{"$error":"#REF!"}},null,{"$f":"+E7/C7-1","v":{"$error":"#REF!"}},{"$f":"+G7/D7-1","v":{"$error":"#REF!"}},null,{"$f":"+M7/K7-1","v":{"$error":"#REF!"}}]
["Invalidità permanente",{"$f":"(+#REF!)/1000","v":{"$error":"#REF!"}},{"$f":"+#REF!","v":{"$error":"#REF!"}},{"$f":"(+#REF!)/1000","v":{"$error":"#REF!"}},{"$error":"#REF!"},{"$error":"#REF!"},{"$f":"(+#REF!)/1000","v":{"$error":"#REF!"}},{"$error":"#REF!"},{"$error":"#REF!"},null,{"$f":"(+#REF!)/1000","v":{"$error":"#REF!"}},{"$f":"+#REF!","v":{"$error":"#REF!"}},{"$f":"(+#REF!)/1000","v":{"$error":"#REF!"}},{"$f":"+#REF!","v":{"$error":"#REF!"}},{"$error":"#REF!"},{"$f":"+#REF!/1000","v":{"$error":"#REF!"}},{"$error":"#REF!"},{"$f":"+#REF!/#REF!-1","v":{"$error":"#REF!"}},{"$f":"+#REF!/1000","v":{"$error":"#REF!"}},{"$error":"#REF!"},{"$error":"#REF!"},null,{"$error":"#REF!"},{"$error":"#REF!"},null,{"$error":"#REF!"},{"$f":"+G8/D8-1","v":{"$error":"#REF!"}},null,{"$error":"#REF!"}]
["Inabilità temporanea",{"$f":"(+#REF!)/1000","v":{"$error":"#REF!"}},{"$f":"+#REF!","v":{"$error":"#REF!"}},{"$f":"(+#REF!)/1000","v":{"$error":"#REF!"}},{"$error":"#REF!"},{"$error":"#REF!"},{"$f":"(+#REF!)/1000","v":{"$error":"#REF!"}},{"$error":"#REF!"},{"$error":"#REF!"},null,{"$f":"(+#REF!)/1000","v":{"$error":"#REF!"}},{"$f":"+#REF!","v":{"$error":"#REF!"}},{"$f":"(+#REF!)/1000","v":{"$error":"#REF!"}},{"$f":"+#REF!","v":{"$error":"#REF!"}},{"$error":"#REF!"},{"$f":"+#REF!/1000","v":{"$error":"#REF!"}},{"$error":"#REF!"},{"$f":"+#REF!/#REF!-1","v":{"$error":"#REF!"}},{"$f":"+#REF!/1000","v":{"$error":"#REF!"}},{"$error":"#REF!"},{"$error":"#REF!"},null,{"$error":"#REF!"},{"$error":"#REF!"},null,{"$error":"#REF!"},{"$error":"#REF!"},null,{"$error":"#REF!"}]
["Infortunio del conducente",{"$f":"(+#REF!)/1000","v":{"$error":"#REF!"}},{"$f":"+#REF!","v":{"$error":"#REF!"}},{"$f":"(+#REF!)/1000","v":{"$error":"#REF!"}},{"$error":"#REF!"},{"$error":"#REF!"},{"$f":"(+#REF!)/1000","v":{"$error":"#REF!"}},{"$error":"#REF!"},{"$error":"#REF!"},null,{"$f":"(+#REF!)/1000","v":{"$error":"#REF!"}},{"$f":"+#REF!","v":{"$error":"#REF!"}},{"$f":"(+#REF!)/1000","v":{"$error":"#REF!"}},{"$f":"+#REF!","v":{"$error":"#REF!"}},{"$error":"#REF!"},{"$f":"+#REF!/1000","v":{"$error":"#REF!"}},{"$error":"#REF!"},{"$f":"+#REF!/#REF!-1","v":{"$error":"#REF!"}},{"$f":"+#REF!/1000","v":{"$error":"#REF!"}},{"$error":"#REF!"},{"$error":"#REF!"},null,{"$error":"#REF!"},{"$error":"#REF!"},null,{"$error":"#REF!"},{"$error":"#REF!"},null,{"$error":"#REF!"}]
["Altro*",{"$f":"(+#REF!)/1000","v":{"$error":"#REF!"}},{"$f":"+#REF!","v":{"$error":"#REF!"}},{"$f":"(+#REF!)/1000","v":{"$error":"#REF!"}},{"$error":"#REF!"},{"$error":"#REF!"},{"$f":"(+#REF!)/1000","v":{"$error":"#REF!"}},{"$error":"#REF!"},{"$error":"#REF!"},null,{"$f":"(+#REF!)/1000","v":{"$error":"#REF!"}},{"$f":"+#REF!","v":{"$error":"#REF!"}},{"$f":"(+#REF!)/1000","v":{"$error":"#REF!"}},{"$f":"+#REF!","v":{"$error":"#REF!"}},{"$error":"#REF!"},{"$f":"+#REF!/1000","v":{"$error":"#REF!"}},{"$error":"#REF!"},{"$f":"+#REF!/#REF!-1","v":{"$error":"#REF!"}},{"$f":"+#REF!/1000","v":{"$error":"#REF!"}},{"$error":"#REF!"},{"$error":"#REF!"},null,{"$error":"#REF!"},{"$error":"#REF!"},null,{"$error":"#REF!"},{"$error":"#REF!"},null,{"$error":"#REF!"}]
["Totale",{"$f":"(+#REF!)/1000","v":{"$error":"#REF!"}},{"$f":"+#REF!","v":{"$error":"#REF!"}},{"$f":"(+#REF!)/1000","v":{"$error":"#REF!"}},{"$error":"#REF!"},{"$error":"#REF!"},{"$f":"(+#REF!)/1000","v":{"$error":"#REF!"}},{"$error":"#REF!"},{"$error":"#REF!"},null,{"$f":"(+#REF!)/1000","v":{"$error":"#REF!"}},{"$f":"+#REF!","v":{"$error":"#REF!"}},{"$f":"(+#REF!)/1000","v":{"$error":"#REF!"}},{"$f":"+#REF!","v":{"$error":"#REF!"}},{"$error":"#REF!"},{"$f":"+#REF!/1000","v":{"$error":"#REF!"}},{"$error":"#REF!"},{"$f":"+#REF!/#REF!-1","v":{"$error":"#REF!"}},{"$f":"+#REF!/1000","v":{"$error":"#REF!"}},{"$error":"#REF!"},{"$error":"#REF!"},null,{"$error":"#REF!"},{"$error":"#REF!"},null,{"$error":"#REF!"},{"$error":"#REF!"},null,{"$error":"#REF!"}]
["POLIZZE COLLETTIVE"]
["Morte",{"$f":"(+#REF!)/1000","v":{"$error":"#REF!"}},{"$f":"+#REF!","v":{"$error":"#REF!"}},{"$f":"(+#REF!)/1000","v":{"$error":"#REF!"}},{"$f":"+D14/$D$19","v":{"$error":"#REF!"}},{"$f":"+D14/B14-1","v":{"$error":"#REF!"}},{"$f":"(+#REF!)/1000","v":{"$error":"#REF!"}},{"$f":"+G14/$G$19","v":{"$error":"#REF!"}},{"$f":"+G14/D14-1","v":{"$error":"#REF!"}},null,{"$f":"(+#REF!)/1000","v":{"$error":"#REF!"}},{"$f":"+#REF!","v":{"$error":"#REF!"}},{"$f":"(+#REF!)/1000","v":{"$error":"#REF!"}},{"$f":"+#REF!","v":{"$error":"#REF!"}},{"$f":"+M14/K14-1","v":{"$error":"#REF!"}},{"$f":"+#REF!/1000","v":{"$error":"#REF!"}},{"$f":"+P14/$P$19","v":{"$error":"#REF!"}},{"$f":"+#REF!/#REF!-1","v":{"$error":"#REF!"}},{"$f":"+#REF!/1000","v":{"$error":"#REF!"}},{"$f":"+S14/$S$19","v":{"$error":"#REF!"}},{"$f":"+S14/P14-1","v":{"$error":"#REF!"}},null,{"$f":"+P14/D14","v":{"$error":"#REF!"}},{"$f":"+S14/G14","v":{"$error":"#REF!"}},null,{"$f":"+E14/C14-1","v":{"$error":"#REF!"}},{"$error":"#REF!"},null,{"$f":"+M14/K14-1","v":{"$error":"#REF!"}}]
["Invalidità permanente",{"$f":"(+#REF!)/1000","v":{"$error":"#REF!"}},{"$f":"+#REF!","v":{"$error":"#REF!"}},{"$f":"(+#REF!)/1000","v":{"$error":"#REF!"}},{"$f":"+D15/$D$19","v":{"$error":"#REF!"}},{"$error":"#REF!"},{"$f":"(+#REF!)/1000","v":{"$error":"#REF!"}},{"$error":"#REF!"},{"$error":"#REF!"},null,{"$f":"(+#REF!)/1000","v":{"$error":"#REF!"}},{"$f":"+#REF!","v":{"$error":"#REF!"}},{"$f":"(+#REF!)/1000","v":{"$error":"#REF!"}},{"$f":"+#REF!","v":{"$error":"#REF!"}},{"$error":"#REF!"},{"$f":"+#REF!/1000","v":{"$error":"#REF!"}},{"$error":"#REF!"},{"$f":"+#REF!/#REF!-1","v":{"$error":"#REF!"}},{"$f":"+#REF!/1000","v":{"$error":"#REF!"}},{"$error":"#REF!"},{"$error":"#REF!"},null,{"$error":"#REF!"},{"$error":"#REF!"},null,{"$error":"#REF!"},{"$error":"#REF!"},null,{"$error":"#REF!"}]
["Inabilità temporanea",{"$f":"(+#REF!)/1000","v":{"$error":"#REF!"}},{"$f":"+#REF!","v":{"$error":"#REF!"}},{"$f":"(+#REF!)/1000","v":{"$error":"#REF!"}},{"$error":"#REF!"},{"$error":"#REF!"},{"$f":"(+#REF!)/1000","v":{"$error":"#REF!"}},{"$error":"#REF!"},{"$error":"#REF!"},null,{"$f":"(+#REF!)/1000","v":{"$error":"#REF!"}},{"$f":"+#REF!","v":{"$error":"#REF!"}},{"$f":"(+#REF!)/1000","v":{"$error":"#REF!"}},{"$f":"+#REF!","v":{"$error":"#REF!"}},{"$error":"#REF!"},{"$f":"+#REF!/1000","v":{"$error":"#REF!"}},{"$error":"#REF!"},{"$f":"+#REF!/#REF!-1","v":{"$error":"#REF!"}},{"$f":"+#REF!/1000","v":{"$error":"#REF!"}},{"$error":"#REF!"},{"$error":"#REF!"},null,{"$error":"#REF!"},{"$error":"#REF!"},null,{"$error":"#REF!"},{"$error":"#REF!"},null,{"$error":"#REF!"}]
["Infortunio del conducente",{"$f":"(+#REF!)/1000","v":{"$error":"#REF!"}},{"$f":"+#REF!","v":{"$error":"#REF!"}},{"$f":"(+#REF!)/1000","v":{"$error":"#REF!"}},{"$error":"#REF!"},{"$error":"#REF!"},{"$f":"(+#REF!)/1000","v":{"$error":"#REF!"}},{"$error":"#REF!"},{"$error":"#REF!"},null,{"$f":"(+#REF!)/1000","v":{"$error":"#REF!"}},{"$f":"+#REF!","v":{"$error":"#REF!"}},{"$f":"(+#REF!)/1000","v":{"$error":"#REF!"}},{"$f":"+#REF!","v":{"$error":"#REF!"}},{"$error":"#REF!"},{"$f":"+#REF!/1000","v":{"$error":"#REF!"}},{"$error":"#REF!"},{"$f":"+#REF!/#REF!-1","v":{"$error":"#REF!"}},{"$f":"+#REF!/1000","v":{"$error":"#REF!"}},{"$error":"#REF!"},{"$error":"#REF!"},null,{"$error":"#REF!"},{"$error":"#REF!"},null,{"$error":"#REF!"},{"$error":"#REF!"},null,{"$error":"#REF!"}]
["Altro*",{"$f":"(+#REF!)/1000","v":{"$error":"#REF!"}},{"$f":"+#REF!","v":{"$error":"#REF!"}},{"$f":"(+#REF!)/1000","v":{"$error":"#REF!"}},{"$error":"#REF!"},{"$error":"#REF!"},{"$f":"(+#REF!)/1000","v":{"$error":"#REF!"}},{"$error":"#REF!"},{"$error":"#REF!"},null,{"$f":"(+#REF!)/1000","v":{"$error":"#REF!"}},{"$f":"+#REF!","v":{"$error":"#REF!"}},{"$f":"(+#REF!)/1000","v":{"$error":"#REF!"}},{"$f":"+#REF!","v":{"$error":"#REF!"}},{"$error":"#REF!"},{"$f":"+#REF!/1000","v":{"$error":"#REF!"}},{"$error":"#REF!"},{"$f":"+#REF!/#REF!-1","v":{"$error":"#REF!"}},{"$f":"+#REF!/1000","v":{"$error":"#REF!"}},{"$error":"#REF!"},{"$error":"#REF!"},null,{"$error":"#REF!"},{"$error":"#REF!"},null,{"$error":"#REF!"},{"$error":"#REF!"},null,{"$error":"#REF!"}]
["Totale",{"$f":"(+#REF!)/1000","v":{"$error":"#REF!"}},{"$f":"+#REF!","v":{"$error":"#REF!"}},{"$f":"(+#REF!)/1000","v":{"$error":"#REF!"}},{"$error":"#REF!"},{"$error":"#REF!"},{"$f":"(+#REF!)/1000","v":{"$error":"#REF!"}},{"$error":"#REF!"},{"$error":"#REF!"},null,{"$f":"(+#REF!)/1000","v":{"$error":"#REF!"}},{"$f":"+#REF!","v":{"$error":"#REF!"}},{"$f":"(+#REF!)/1000","v":{"$error":"#REF!"}},{"$f":"+#REF!","v":{"$error":"#REF!"}},{"$error":"#REF!"},{"$f":"+#REF!/1000","v":{"$error":"#REF!"}},{"$error":"#REF!"},{"$f":"+#REF!/#REF!-1","v":{"$error":"#REF!"}},{"$f":"+#REF!/1000","v":{"$error":"#REF!"}},{"$error":"#REF!"},{"$error":"#REF!"},null,{"$error":"#REF!"},{"$error":"#REF!"},null,{"$error":"#REF!"},{"$error":"#REF!"},null,{"$error":"#REF!"}]
["POLIZZE INDIVIDUALI E COLLETTIVE",null,null,null,{"$error":"#REF!"}]
["Morte",{"$f":"(+#REF!)/1000","v":{"$error":"#REF!"}},{"$f":"+#REF!","v":{"$error":"#REF!"}},{"$f":"(+#REF!)/1000","v":{"$error":"#REF!"}},{"$error":"#REF!"},{"$f":"+D21/B21-1","v":{"$error":"#REF!"}},{"$f":"(+#REF!)/1000","v":{"$error":"#REF!"}},{"$f":"+#REF!","v":{"$error":"#REF!"}},{"$f":"+G21/D21-1","v":{"$error":"#REF!"}},null,{"$f":"(+#REF!)/1000","v":{"$error":"#REF!"}},{"$f":"+#REF!","v":{"$error":"#REF!"}},{"$f":"(+#REF!)/1000","v":{"$error":"#REF!"}},{"$f":"+#REF!","v":{"$error":"#REF!"}},{"$f":"+M21/K21-1","v":{"$error":"#REF!"}},{"$f":"+#REF!/1000","v":{"$error":"#REF!"}},{"$f":"+P21/$P$26","v":{"$error":"#REF!"}},{"$f":"+#REF!/#REF!-1","v":{"$error":"#REF!"}},{"$f":"+#REF!/1000","v":{"$error":"#REF!"}},{"$f":"+#REF!","v":{"$error":"#REF!"}},{"$f":"+S21/P21-1","v":{"$error":"#REF!"}},null,{"$f":"+P21/D21","v":{"$error":"#REF!"}},{"$f":"+S21/G21","v":{"$error":"#REF!"}},null,{"$f":"+E21/C21-1","v":{"$error":"#REF!"}},{"$error":"#REF!"},null,{"$f":"+M21/K21-1","v":{"$error":"#REF!"}}]
["Invalidità permanente",{"$f":"(+#REF!)/1000","v":{"$error":"#REF!"}},{"$f":"+#REF!","v":{"$error":"#REF!"}},{"$f":"(+#REF!)/1000","v":{"$error":"#REF!"}},{"$error":"#REF!"},{"$error":"#REF!"},{"$f":"(+#REF!)/1000","v":{"$error":"#REF!"}},{"$f":"+#REF!","v":{"$error":"#REF!"}},{"$error":"#REF!"},null,{"$f":"(+#REF!)/1000","v":{"$error":"#REF!"}},{"$f":"+#REF!","v":{"$error":"#REF!"}},{"$f":"(+#REF!)/1000","v":{"$error":"#REF!"}},{"$f":"+#REF!","v":{"$error":"#REF!"}},{"$error":"#REF!"},{"$f":"+#REF!/1000","v":{"$error":"#REF!"}},{"$error":"#REF!"},{"$f":"+#REF!/#REF!-1","v":{"$error":"#REF!"}},{"$f":"+#REF!/1000","v":{"$error":"#REF!"}},{"$f":"+#REF!","v":{"$error":"#REF!"}},{"$error":"#REF!"},null,{"$error":"#REF!"},{"$error":"#REF!"},null,{"$error":"#REF!"},{"$error":"#REF!"},null,{"$error":"#REF!"}]
["Inabilità temporanea",{"$f":"(+#REF!)/1000","v":{"$error":"#REF!"}},{"$f":"+#REF!","v":{"$error":"#REF!"}},{"$f":"(+#REF!)/1000","v":{"$error":"#REF!"}},{"$error":"#REF!"},{"$error":"#REF!"},{"$f":"(+#REF!)/1000","v":{"$error":"#REF!"}},{"$f":"+#REF!","v":{"$error":"#REF!"}},{"$error":"#REF!"},null,{"$f":"(+#REF!)/1000","v":{"$error":"#REF!"}},{"$f":"+#REF!","v":{"$error":"#REF!"}},{"$f":"(+#REF!)/1000","v":{"$error":"#REF!"}},{"$f":"+#REF!","v":{"$error":"#REF!"}},{"$error":"#REF!"},{"$f":"+#REF!/1000","v":{"$error":"#REF!"}},{"$error":"#REF!"},{"$f":"+#REF!/#REF!-1","v":{"$error":"#REF!"}},{"$f":"+#REF!/1000","v":{"$error":"#REF!"}},{"$f":"+#REF!","v":{"$error":"#REF!"}},{"$error":"#REF!"},null,{"$error":"#REF!"},{"$error":"#REF!"},null,{"$error":"#REF!"},{"$error":"#REF!"},null,{"$error":"#REF!"}]
["Infortunio del conducente",{"$f":"(+#REF!)/1000","v":{"$error":"#REF!"}},{"$f":"+#REF!","v":{"$error":"#REF!"}},{"$f":"(+#REF!)/1000","v":{"$error":"#REF!"}},{"$error":"#REF!"},{"$error":"#REF!"},{"$f":"(+#REF!)/1000","v":{"$error":"#REF!"}},{"$f":"+#REF!","v":{"$error":"#REF!"}},{"$error":"#REF!"},null,{"$f":"(+#REF!)/1000","v":{"$error":"#REF!"}},{"$f":"+#REF!","v":{"$error":"#REF!"}},{"$f":"(+#REF!)/1000","v":{"$error":"#REF!"}},{"$f":"+#REF!","v":{"$error":"#REF!"}},{"$error":"#REF!"},{"$f":"+#REF!/1000","v":{"$error":"#REF!"}},{"$error":"#REF!"},{"$f":"+#REF!/#REF!-1","v":{"$error":"#REF!"}},{"$f":"+#REF!/1000","v":{"$error":"#REF!"}},{"$f":"+#REF!","v":{"$error":"#REF!"}},{"$error":"#REF!"},null,{"$error":"#REF!"},{"$error":"#REF!"},null,{"$error":"#REF!"},{"$error":"#REF!"},null,{"$error":"#REF!"}]
["Altro*",{"$f":"(+#REF!)/1000","v":{"$error":"#REF!"}},{"$f":"+#REF!","v":{"$error":"#REF!"}},{"$f":"(+#REF!)/1000","v":{"$error":"#REF!"}},{"$error":"#REF!"},{"$error":"#REF!"},{"$f":"(+#REF!)/1000","v":{"$error":"#REF!"}},{"$f":"+#REF!","v":{"$error":"#REF!"}},{"$error":"#REF!"},null,{"$f":"(+#REF!)/1000","v":{"$error":"#REF!"}},{"$f":"+#REF!","v":{"$error":"#REF!"}},{"$f":"(+#REF!)/1000","v":{"$error":"#REF!"}},{"$f":"+#REF!","v":{"$error":"#REF!"}},{"$error":"#REF!"},{"$f":"+#REF!/1000","v":{"$error":"#REF!"}},{"$error":"#REF!"},{"$f":"+#REF!/#REF!-1","v":{"$error":"#REF!"}},{"$f":"+#REF!/1000","v":{"$error":"#REF!"}},{"$f":"+#REF!","v":{"$error":"#REF!"}},{"$error":"#REF!"},null,{"$error":"#REF!"},{"$error":"#REF!"},null,{"$error":"#REF!"},{"$error":"#REF!"},null,{"$error":"#REF!"}]
["Totale",{"$f":"(+#REF!)/1000","v":{"$error":"#REF!"}},{"$f":"+#REF!","v":{"$error":"#REF!"}},{"$f":"(+#REF!)/1000","v":{"$error":"#REF!"}},{"$error":"#REF!"},{"$error":"#REF!"},{"$f":"(+#REF!)/1000","v":{"$error":"#REF!"}},{"$f":"+#REF!","v":{"$error":"#REF!"}},{"$error":"#REF!"},null,{"$f":"(+#REF!)/1000","v":{"$error":"#REF!"}},{"$f":"+#REF!","v":{"$error":"#REF!"}},{"$f":"(+#REF!)/1000","v":{"$error":"#REF!"}},{"$f":"+#REF!","v":{"$error":"#REF!"}},{"$error":"#REF!"},{"$f":"+#REF!/1000","v":{"$error":"#REF!"}},{"$error":"#REF!"},{"$f":"+#REF!/#REF!-1","v":{"$error":"#REF!"}},{"$f":"+#REF!/1000","v":{"$error":"#REF!"}},{"$f":"+#REF!","v":{"$error":"#REF!"}},{"$error":"#REF!"},null,{"$error":"#REF!"},{"$error":"#REF!"},null,{"$error":"#REF!"},{"$error":"#REF!"},null,{"$error":"#REF!"}]
[null,null,null,null,{"$error":"#REF!"}]
["(*): Nella voce Altro sono incluse anche altre garanzie come l'indennità di ricovero, il rimborso delle spese per la cura e la riabilitazione rese necessarie a seguito dell'infortunio, nonché ulteriori altre garanzie che non rientrano in quelle indicate o che le imprese non riescono a distinguere."]
[]
[]
[]
[null,null,null,null,"POLIZZE INDIVIDUALI",null,"POLIZZE COLLETTIVE",null,null,null,null,null,null,null,null,null,"POLIZZE INDIVIDUALI",null,"POLIZZE COLLETTIVE"]
["Morte",null,null,null,{"$f":"+H7","v":{"$error":"#REF!"}},null,{"$f":"+H14","v":{"$error":"#REF!"}},null,null,null,null,null,null,null,null,null,{"$f":"+T7","v":{"$error":"#REF!"}},null,{"$f":"+T14","v":{"$error":"#REF!"}}]
["Invalidità permanente",null,null,null,{"$f":"+H8","v":{"$error":"#REF!"}},null,{"$f":"+H15","v":{"$error":"#REF!"}},null,null,null,null,null,null,null,null,null,{"$f":"+T8","v":{"$error":"#REF!"}},null,{"$f":"+T15","v":{"$error":"#REF!"}}]
["Inabilità temporanea",null,null,null,{"$f":"+H9","v":{"$error":"#REF!"}},null,{"$f":"+H16","v":{"$error":"#REF!"}},null,null,null,null,null,null,null,null,null,{"$f":"+T9","v":{"$error":"#REF!"}},null,{"$f":"+T16","v":{"$error":"#REF!"}}]
["Infortunio del conducente",null,null,null,{"$f":"+H10","v":{"$error":"#REF!"}},null,{"$f":"+H17","v":{"$error":"#REF!"}},null,null,null,null,null,null,null,null,null,{"$f":"+T10","v":{"$error":"#REF!"}},null,{"$f":"+T17","v":{"$error":"#REF!"}}]
["Altro*",null,null,null,{"$f":"+H11","v":{"$error":"#REF!"}},null,{"$f":"+H18","v":{"$error":"#REF!"}},null,null,null,null,null,null,null,null,null,{"$f":"+T11","v":{"$error":"#REF!"}},null,{"$f":"+T18","v":{"$error":"#REF!"}}]

{"sheet":"Quota Inf (2017)","index":18,"n_rows":102,"n_cols":9,"rows_kept":102,"cut":false,"hidden":true,"merged":[]}
[null,null,null,null,"  1   - INFORTUNI"]
[]
[null,"Imprese in ordine decrescente","premi","variaz.","incid. sul"]
[null,null,null,"2017/2016","totale"]
[null,null,"(migliaia di EURO)","(%)","(%)"]
[null,"TOTALE RAMO",{"$f":"SUM(C9:C102)","v":3514470}]
[null,"di cui Imprese Italiane ed Extra-UE",null,null,null,null,null,null," "]
[null,"di cui Imprese UE"]
[1,"UNIPOLSAI ASSICURAZIONI",616901,-1.5921656707322929E-2,{"$f":"+C9/$C$6*100","v":17.553173024666595}]
[2,"GENERALI ITALIA",573083,-5.126415710129173E-3,{"$f":"+C10/$C$6*100","v":16.306384746490938}]
[3,"ALLIANZ S.P.A.",362163,1.5059278567224332E-2,10.304910840041314]
[4,"SOCIETA' CATTOLICA",173971,2.9633531403139068E-2,4.9501347287073161]
[5,"AXA ASSICURAZIONI",120139,6.0951809037681937E-2,3.4184101727998817]
[6,"GROUPAMA ASSICURAZIONI",102981,2.7416120439376357E-2,2.9302000017072274]
[7,"ZURICH INSURANCE PLC",93169,4.1927139469712937E-3,2.6510113900531231]
[8,"SOCIETA' REALE MUTUA",91141,-1.9601401664476326E-3,2.5933070989366818]
[9,"VITTORIA ASSICURAZIONI",90826,0.12436246595692002,2.5843441543106072]
[10,"AIG EUROPE LIMITED",89312,-1.7372457118966622E-2,2.5412651125205223]
[11,"ACE EUROPEAN GROUP LTD",69849,-2.6331930078898225E-2,1.9874689497989741,"chubb"]
[12,"POSTE ASSICURA - Gruppo Assicurativo Poste Vita",64033,0.22466817121217919,1.8219816928299288]
[13,"INTESA SANPAOLO ASSICURA",63634,0.28777269599708588,1.8106286296369012]
[14,"SARA ASSICURAZIONI",59034,0.10602341920374703,1.67974118430375]
[15,"ITAS MUTUA",56239,3.4223399168781476E-2,1.6002128343676287]
[16,"METLIFE EUROPE LIMITED",55620,-1.8842530282637826E-3,1.5825999368325807]
[17,"AXA MPS ASSICURAZIONI DANNI",50675,-1.8953033646958661E-2,1.4418959330994432]
[18,"ITALIANA ASSICURAZIONI",44315,-6.3678557815197712E-3,1.2609298130301296]
[19,"AVIVA ITALIA",43721,-3.1328237509693158E-2,1.244028260306675]
[20,"DIRECT LINE INSURANCE",42492,0.12800637111760027,1.2090585493687527]
[21,"CARIGE R.D. ASSICURAZIONI E RIASSICURAZIONI",40393,5.3712109354620008E-2,1.1493340389873863]
[22,"CREDITRAS",38535,0.35945106893388834,1.0964668925897787]
[23,"CARGEAS ASSICURAZIONI",37902,3.5885102079860065E-2,1.0784556419602387]
[24,"CARDIF ASSURANCES RISQUES DIVERS",37066,6.096862834898098E-2,1.0546682714605615]
[25,"HELVETIA SA",36782,-1.3728749932965134E-2,1.0465873944008628]
[26,"ASSIMOCO",31098,6.0568856148966566E-2,0.88485603803702984]
[27,"LLOYD'S",31088,2.7770431102882798E-2,0.88457150011239238]
[28,"HDI ASSICURAZIONI",23398,2.1568285015717725E-2,0.66576183606632011]
[29,"GENIALLOYD",22644,1.7387788111605351E-2,0.64430767654866883]
[30,"ARCA ASSICURAZIONI",21639,0.10436868429110957,0.61571161512262162]
[31,"HELVETIA ITALIA ASSICURAZIONI",20830,-9.5841652921260567E-2,0.59269249701946525]
[32,"AVIPOP ASSICURAZIONI",20654,0.16399909828674475,0.58768462954584899]
[33,"TUA ASSICURAZIONI",18489,5.0451678881881623E-2,0.52608216886187675]
[34,"GENERTEL",18268,-0.10669926650366746,0.51979388072739274]
[35,"CHIARA ASSICURAZIONI",17055,0.12049142631890142,0.48527943046889005]
[36,"UNIQA ASSICURAZIONI",16089,-9.4810072031028536E-3,0.45779306694892824]
[37,"MEDIOLANUM  ASSICURAZIONI",15324,-9.832303618711391E-2,0.43602591571417598]
[38,"INCONTRA ASSICURAZIONI",14582,1.5408607771388745,0.41491320170608942]
[39,"ALLEANZA ASSICURAZIONI",13953,-6.9179452968645805E-2,0.39701576624640411]
[40,"UNISALUTE",13110,-0.15446630119316351,0.37302921919948101]
[41,"NOBIS COMPAGNIA DI ASSICURAZIONI",12194,8.3622145205722864E-2,0.34696554530270568]
[42,"EUROP ASSISTANCE ITALIA",12077,0.37067302235841559,0.34363645158444944]
[43,"CREDIT AGRICOLE ASSICURAZIONI",11524,0.1086099086099086,0.32790150435200754]
[44,"WIENER STÄDTISCHE VERSICHERUNG AG VIENNA INS.GROUP",11447,0.10162640746800111,0.32571056233230045]
[45,"COMPAGNIA ASS. LINEAR",9732,0.12081077968444087,0.27691230825700602]
[46,"GREAT LAKES INSURANCE SE",8990,0.57719298245614037,0.25579959424891946]
[47,"CREDEMASSICURAZIONI",7551,0.45631629701060761,0.21485458689361414]
[48,"ERGO ASSICURAZIONI",7281,-0.10155478775913129,0.2071720629284074]
[49,"HDI GLOBAL SE",6404,0.10318690783807072,0.18221808693771749]
[50,"BIPIEMME ASSICURAZIONI",6359,0.28959643074427088,0.18093766627684971]
[51,"ABC ASSICURA",5895,-5.8156254992810408E-2,0.16773510657367968]
[52,"AMTRUST INTERNATIONAL UNDERWRITERS DAC",5141,7.7880341880341888,0.14628094705602837]
[53,"CNP ASSURANCES",4875,0.91026645768025083,0.13871223826067658]
[54,"CF ASSICURAZIONI",4632,-1.7241379310344307E-3,0.13179796669199056]
[55,"GLOBAL ASSISTANCE",4270,-0.14668265387689849,0.12149769382012081]
[56,"ASSICURATRICE MILANESE",3844,0.1122685185185186,0.10937637823057245]
[57,"BCC ASSICURAZIONI",3753,-0.23251533742331287,0.10678708311637317]
[58,"BNP PARIBAS CARDIF VITA Compagni di Ass. e Riass.",3751,6.3811684628474197E-2,0.10673017553144572]
[59,"BIPIEMME VITA",3682,-0.14152483096292845,0.10476686385144844]
[60,"ASSICURAZIONI GENERALI",3178,3.3832140533506916E-2,9.0426152449729263E-2]
[61,"ZURICH INSURANCE COMPANY LIMITED",3109,-5.616272009714629E-2,8.8462840769732001E-2]
[62,"ASSICURATRICE VAL PIAVE",2937,5.8378378378378448E-2,8.3568788465970684E-2]
[63,"AXA GLOBAL DIRECT SEGUROS Y REASEGUROS S.A.U.",2744,-2.6950354609929117E-2,7.8077206520471079E-2]
[64,"XL INSURANCE COMPANY SE",2350,{"$error":"#DIV/0!"},6.6866412289762034E-2]
[65,"ARISCOM COMPAGNIA DI ASSICURAZIONI",2079,-0.62748611359971329,5.9155434532091607E-2]
[66,"FINANCIAL INSURANCE CO. LTD (FICL)",2015,0.35416666666666674,{"$f":"+C74/$C$6*100","v":5.7334391814412987E-2}]
[67,"ALLIANZ GLOBAL CORPORATE & SPECIALITY SE",1504,-0.27761767531219983,4.2794503865447711E-2]
[68,"AXA CORPORATE SOLUTIONS ASSURANCE",1315,-0.23099415204678364,3.7416737089803011E-2]
[69,"INTESA SANPAOLO VITA",1038,-0.17158818834796485,2.9535036577350213E-2]
[70,"DONAU VERSICHERUNG AG VIENNA INSURANCE GROUP",958,-0.48244192328471092,2.7258733180251928E-2]
[71,"AWP P&C S.A.",678,-0.2233676975945017,1.9291671290407941E-2]
[72,"BANCASSURANCE POPOLARI DANNI",570,-0.16299559471365643,1.621866170432526E-2]
[73,"SOMPO JAPAN NIPPONKOA INSURANCE CO. OF EUROPE LTD.",559,{"$error":"#DIV/0!"},1.5905669987224248E-2]
[74,"LE ASSICURAZIONI DI ROMA",511,2.8169014084507005E-2,1.4539887948965277E-2]
[75,"BENE ASSICURAZIONI",464,{"$error":"#DIV/0!"},1.3202559703170035E-2]
[76,"TIROLER VERSICHERUNG VAG",464,5.6947608200455635E-2,1.3202559703170035E-2]
[77,"PRAMERICA LIFE",405,0.57587548638132291,1.1523785947810054E-2]
[78,"MSIG INSURANCE EUROPE AG",367,-4.9222797927461093E-2,1.0442541834188369E-2]
[79,"R+V ALLGEMEINE",333,-1.4792899408283988E-2,9.4751128904216001E-3]
[80,"AXERIA PREVOYANCE",247,9.7777777777777741E-2,7.0280867385409465E-3]
[81,"RBM SALUTE",224,-0.30864197530864201,6.373649511875191E-3]
[82,"AFI ESCA IARD",204,-0.12446351931330468,5.8045736626006197E-3]
[83,"NET INSURANCE",191,-4.9751243781094523E-2,5.434674360572149E-3]
[84,"INTER PARTNER ASSISTANCE",143,1.306451612903226,4.0688923223131798E-3]
[85,"AMTRUST EUROPE LIMITED",92,-0.75401069518716579,2.6177489066630246E-3]
[86,"TOKIO MARINE KILN INSURANCE LIMITED",64,0.18518518518518512,1.8210427176786257E-3]
[87,"SIAT",57,56,1.6218661704325262E-3]
[88,"ELBA COMPAGNIA DI ASS. NI E RIASS.NI",20,{"$error":"#DIV/0!"},5.6907584927457053E-4]
[89,"POPOLARE VITA",15,0.25,4.2680688695592793E-4]
[90,"SACE BT",15,-6.25E-2,4.2680688695592793E-4]
[91,"MAPFRE ASISTENCIA COMP INTERN. DE SEGUROS Y REAS.",9,-0.30769230769230771,2.5608413217355678E-4]
[92,"CNP PARTNERS DE SEGUROS Y REASEGUROS S.A.",7,0,1.9917654724609972E-4]
[93,"IMA - ITALIA ASSISTANCE",3,{"$error":"#DIV/0!"},8.5361377391185574E-5]
[94,"ASSICURAZIONI RISCHI AGRICOLI VMG 1857",2,0,5.6907584927457052E-5]

{"sheet":"Quota Mal (2017)","index":19,"n_rows":87,"n_cols":6,"rows_kept":87,"cut":false,"hidden":true,"merged":[]}
[null,null,null,null,"  2   - MALATTIA"]
[null,"Imprese in ordine decrescente","premi","variaz.","incid. sul"]
[null,null,null,"2016/2015","totale"]
[null,null,"(migliaia di EURO)","(%)","(%)"]
[]
[null,"TOTALE RAMO",{"$f":"SUM(C9:C87)","v":2704019},9.4,100]
[null,"di cui Imprese Italiane ed Extra-UE"]
[null,"di cui Imprese UE"]
[1,"GENERALI ITALIA",476369,3.6262858957709199E-2,{"$f":"+C9/$C$6*100","v":17.61707295695777}]
[2,"RBM SALUTE",430128,0.21656984144044267,{"$f":"+C10/$C$6*100","v":15.906988819235368}]
[3,"UNISALUTE",357039,0.11353372671814776,13.204012249913925]
[4,"UNIPOLSAI ASSICURAZIONI",227716,1.9917677778822807E-2,8.4213905301700898]
[5,"ALLIANZ S.P.A.",216557,0.17705536411170653,8.0087085186901419]
[6,"INTESA SANPAOLO ASSICURA",87773,8.6138197297431107E-2,3.2460200908351604]
[7,"SOCIETA' REALE MUTUA",87038,-4.7359492146883397E-2,3.2188383291685447]
[8,"AXA ASSICURAZIONI",76860,8.9409230071436641E-2,2.8424356485660787]
[9,"SOCIETA' CATTOLICA",65516,0.18478064306123176,2.4229119691836485]
[10,"EUROP ASSISTANCE ITALIA",61697,-2.0713628138789297E-2,2.2816777544832338]
[11,"CREDITRAS",45601,0.16937634629192733,1.6864156649786854]
[12,"ZURICH INSURANCE PLC",45285,7.2062454126911035E-3,1.6747293565614738]
[13,"CARGEAS ASSICURAZIONI",39356,-0.18751419310885853,1.4554631457841087]
[14,"UNIQA ASSICURAZIONI",34639,-1.6468383542973974E-2,1.2810191052651627]
[15,"INCONTRA ASSICURAZIONI",33201,0.12966995576726781,1.2278390055691177]
[16,"ASSICURAZIONI GENERALI",30259,0.40399962880475138,1.1190379949253315]
[17,"AVIPOP ASSICURAZIONI",29548,0.13724886459856833,1.0927438009866055]
[18,"MEDIOLANUM  ASSICURAZIONI",24639,0.23429516080553059,0.91119921864454345]
[19,"POSTE ASSICURA - Gruppo Assicurativo Poste Vita",24633,0.4129287598944591,0.91097732671257114]
[20,"NOBIS COMPAGNIA DI ASSICURAZIONI",21590,0.18796082315395624,0.79844113521391669]
[21,"GROUPAMA ASSICURAZIONI",21367,8.3794065432411857E-2,0.79019415174227703]
[22,"METLIFE EUROPE LIMITED",20987,5.8239209358612376E-2,0.77614099605069342]
[23,"AWP P&C S.A.",20156,-3.0961538461538485E-2,0.74540896347252006]
[24,"AXA MPS ASSICURAZIONI DANNI",17970,8.2269332690917851E-2,0.66456633625725259]
[25,"ITALIANA ASSICURAZIONI",17052,-9.9285838704058493E-3,0.63061687066547978]
[26,"ITAS MUTUA",14093,2.2565665360615217E-2,0.52118716621443861]
[27,"ARCA ASSICURAZIONI",13857,5.128594188604807E-2,0.51245941689019203]
[28,"VITTORIA ASSICURAZIONI",13832,6.0898910875901269E-2,0.51153486717364038]
[29,"ASSIMOCO",12886,0.13005349469437877,0.47654990589932983]
[30,"ACE EUROPEAN GROUP LTD",11427,-3.4229208924949295E-2,0.42259318444138155,"chubb"]
[31,"AVIVA ITALIA",11079,2.6118366212836808E-2,0.40972345238698399]
[32,"CNP ASSURANCES",8850,1.072114258955748,0.32729059965924795]
[33,"SARA ASSICURAZIONI",7974,6.476165042061699E-2,0.29489437759128173]
[34,"AIG EUROPE LIMITED",7900,0.11440259557060228,0.29215771043028915]
[35,"CREDIT AGRICOLE ASSICURAZIONI",7300,-5.5505240005175316E-2,0.26996851723305199]
[36,"BNP PARIBAS CARDIF VITA Compagni di Ass. e Riass.",6290,1.402547154602618E-2,0.23261670868436946]
[37,"INTER PARTNER ASSISTANCE",5980,1.3008849557522124,0.22115229219913024]
[38,"CARDIF ASSURANCES RISQUES DIVERS",5813,-0.3639347849874166,0.21497630009256591]
[39,"CREDEMASSICURAZIONI",5741,-5.7925828683951464E-2,0.21231359690889745]
[40,"HELVETIA SA",5669,-5.0895050895051197E-3,0.20965089372522899]
[41,"BCC ASSICURAZIONI",5647,0.65844346549192356,0.20883728997466364]
[42,"ALLEANZA ASSICURAZIONI",5320,-1.3901760889712733E-2,0.1967441796821694]
[43,"CARIGE R.D. ASSICURAZIONI E RIASSICURAZIONI",5257,0.27504244482173168,0.19441431439645951,"amissima"]
[44,"CHIARA ASSICURAZIONI",4220,0.64394234514998061,0.15606399215390129]
[45,"HDI ASSICURAZIONI",4146,-4.5360349988487259E-2,0.15332732499290871]
[46,"BIPIEMME VITA",3424,4.613504430186377E-2,0.12662632917889999]
[47,"FINANCIAL INSURANCE CO. LTD (FICL)",3036,1.0499662390276838,0.11227731757801997]
[48,"XL INSURANCE COMPANY SE",2784,{"$error":"#DIV/0!"},0.10295785643518038]
[49,"TUA ASSICURAZIONI",2214,0.14715025906735746,8.1878122897805078E-2]
[50,"BIPIEMME ASSICURAZIONI",2127,-0.13571718813490452,7.8660689884205687E-2]
[51,"GLOBAL ASSISTANCE",2122,-0.22920450417726113,7.8475779940895385E-2]
[52,"ERGO ASSICURAZIONI",2089,-0.11670190274841441,7.7255374315047337E-2,"darag"]
[53,"CF ASSICURAZIONI",1799,2.3904382470119501E-2,6.6530597603049385E-2]
[54,"GENERTEL",1762,-0.17855477855477853,6.5162264022553096E-2]
[55,"ABC ASSICURA",1707,0.11277705345501965,6.3128254646139692E-2]
[56,"BENE ASSICURAZIONI",1240,{"$error":"#DIV/0!"},4.5857665940956777E-2]
[57,"ARISCOM COMPAGNIA DI ASSICURAZIONI",764,-0.70917396269508948,2.82542393378153E-2]
[58,"ASSICURATRICE VAL PIAVE",544,4.6153846153846212E-2,2.0118201832161682E-2]
[59,"AMTRUST EUROPE LIMITED",343,23.5,1.2684822111087238E-2]
[60,"PRAMERICA LIFE",318,1.4274809160305342,1.1760272394535689E-2]
[61,"LE ASSICURAZIONI DI ROMA",285,7.90625,1.0539866768687647E-2]
[62,"IMA - ITALIA ASSISTANCE",259,24.9,9.5783350634740354E-3]
[63,"BANCASSURANCE POPOLARI DANNI",229,-0.21305841924398627,8.4688754036121791E-3]
[64,"HDI GLOBAL SE",223,0.25280898876404501,8.2469834716398082E-3]
[65,"NET INSURANCE",158,0.36206896551724133,5.8431542086057825E-3]
[66,"HELVETIA ITALIA ASSICURAZIONI",107,-0.46499999999999997,{"$f":"+C74/$C$6*100","v":3.9570727868406246E-3}]
[67,"ASSICURATRICE MILANESE",105,-0.19230769230769229,3.8831088095165013E-3]
[68,"POPOLARE VITA",75,-1.3157894736842146E-2,2.7736491496546437E-3]
[69,"AMTRUST INTERNATIONAL UNDERWRITERS DAC",21,{"$error":"#DIV/0!"},7.7662176190330034E-4]
[70,"SOMPO JAPAN NIPPONKOA INSURANCE CO. OF EUROPE LTD.",8,{"$error":"#DIV/0!"},2.9585590929649534E-4]
[71,"GENIALLOYD",6,5,2.218919319723715E-4]
[72,"INTESA SANPAOLO VITA",5,-0.16666666666666663,1.8490994331030959E-4]
[73,"GREAT LAKES INSURANCE SE",4,{"$error":"#DIV/0!"},1.4792795464824767E-4]
[74,"MAPFRE ASISTENCIA COMP INTERN. DE SEGUROS Y REAS.",1,-0.83333333333333337,3.6981988662061917E-5]
[75,"COMPAGNIA ASS. LINEAR",1,0,3.6981988662061917E-5]
[76,"ASSICURAZIONI RISCHI AGRICOLI VMG 1857",1,0,3.6981988662061917E-5]
[77,"AFI ESCA IARD",1,{"$error":"#DIV/0!"},3.6981988662061917E-5]
[78,"TUTELA LEGALE",0,{"$error":"#DIV/0!"},0]
[79,"POSTE VITA - Gruppo Assicurativo Poste Vita",0,-1,0]

{"sheet":"TAVOLA1inf(anno 2015-2016)","index":20,"n_rows":37,"n_cols":29,"rows_kept":37,"cut":false,"hidden":true,"merged":[[27,0,27,23],[2,3,2,8],[2,15,2,20],[2,22,3,23],[3,0,4,0],[3,3,3,4],[3,6,3,8],[3,15,3,16],[3,18,3,20]]}
["Tavola 1 - Distribuzione % dei premi per principali tipologie"]
["Importi in migliaia"]
[null,null,null,"Premi Contabilizzati",null,null,null,null,null,null,"Per memoria",null,null,null,null,"di cui: Premi Nuova Produzione",null,null,null,null,null,null,"% Nuova Prod. su Contab."]
["Garanzie assicurative","I semestre 2014",null,2015,null,null,2016,null,null,null,"Anno 2014",null,"Anno 2015",null,null,2015,null,null,2016]
[null,"Premi","Distrib. %","Premi","Distrib.","Var. % annua","Premi","Distrib.","Var. annua",null,"Premi","Distrib. %","Premi","Distrib. %","Var. % annua","Premi","Distrib.","Var. % annua","Premi","Distrib.","Var. annua",null,2015,2016,null,"2015-06-01","2016-06-01",null,2015]
["POLIZZE INDIVIDUALI"]
["Morte",{"$f":"(+#REF!)/1000","v":{"$error":"#REF!"}},{"$f":"+#REF!","v":{"$error":"#REF!"}},{"$f":"(+#REF!)/1000","v":{"$error":"#REF!"}},{"$f":"+D7/$D$12","v":{"$error":"#REF!"}},{"$f":"+D7/B7-1","v":{"$error":"#REF!"}},{"$f":"(+#REF!)/1000","v":{"$error":"#REF!"}},{"$f":"+G7/$G$12","v":{"$error":"#REF!"}},{"$f":"+G7/D7-1","v":{"$error":"#REF!"}},null,{"$f":"(+#REF!)/1000","v":{"$error":"#REF!"}},{"$f":"+#REF!","v":{"$error":"#REF!"}},{"$f":"(+#REF!)/1000","v":{"$error":"#REF!"}},{"$f":"+#REF!","v":{"$error":"#REF!"}},{"$f":"+M7/K7-1","v":{"$error":"#REF!"}},{"$f":"+#REF!/1000","v":{"$error":"#REF!"}},{"$f":"+P7/$P$12","v":{"$error":"#REF!"}},{"$f":"+#REF!/#REF!-1","v":{"$error":"#REF!"}},{"$f":"+#REF!/1000","v":{"$error":"#REF!"}},{"$f":"+S7/$S$12","v":{"$error":"#REF!"}},{"$f":"+S7/P7-1","v":{"$error":"#REF!"}},null,{"$f":"+P7/D7","v":{"$error":"#REF!"}},{"$f":"+S7/G7","v":{"$error":"#REF!"}},null,{"$f":"+E7/C7-1","v":{"$error":"#REF!"}},{"$f":"+G7/D7-1","v":{"$error":"#REF!"}},null,{"$f":"+M7/K7-1","v":{"$error":"#REF!"}}]
["Invalidità permanente",{"$f":"(+#REF!)/1000","v":{"$error":"#REF!"}},{"$f":"+#REF!","v":{"$error":"#REF!"}},{"$f":"(+#REF!)/1000","v":{"$error":"#REF!"}},{"$error":"#REF!"},{"$error":"#REF!"},{"$f":"(+#REF!)/1000","v":{"$error":"#REF!"}},{"$error":"#REF!"},{"$error":"#REF!"},null,{"$f":"(+#REF!)/1000","v":{"$error":"#REF!"}},{"$f":"+#REF!","v":{"$error":"#REF!"}},{"$f":"(+#REF!)/1000","v":{"$error":"#REF!"}},{"$f":"+#REF!","v":{"$error":"#REF!"}},{"$error":"#REF!"},{"$f":"+#REF!/1000","v":{"$error":"#REF!"}},{"$error":"#REF!"},{"$f":"+#REF!/#REF!-1","v":{"$error":"#REF!"}},{"$f":"+#REF!/1000","v":{"$error":"#REF!"}},{"$error":"#REF!"},{"$error":"#REF!"},null,{"$error":"#REF!"},{"$error":"#REF!"},null,{"$error":"#REF!"},{"$f":"+G8/D8-1","v":{"$error":"#REF!"}},null,{"$error":"#REF!"}]
["Inabilità temporanea",{"$f":"(+#REF!)/1000","v":{"$error":"#REF!"}},{"$f":"+#REF!","v":{"$error":"#REF!"}},{"$f":"(+#REF!)/1000","v":{"$error":"#REF!"}},{"$error":"#REF!"},{"$error":"#REF!"},{"$f":"(+#REF!)/1000","v":{"$error":"#REF!"}},{"$error":"#REF!"},{"$error":"#REF!"},null,{"$f":"(+#REF!)/1000","v":{"$error":"#REF!"}},{"$f":"+#REF!","v":{"$error":"#REF!"}},{"$f":"(+#REF!)/1000","v":{"$error":"#REF!"}},{"$f":"+#REF!","v":{"$error":"#REF!"}},{"$error":"#REF!"},{"$f":"+#REF!/1000","v":{"$error":"#REF!"}},{"$error":"#REF!"},{"$f":"+#REF!/#REF!-1","v":{"$error":"#REF!"}},{"$f":"+#REF!/1000","v":{"$error":"#REF!"}},{"$error":"#REF!"},{"$error":"#REF!"},null,{"$error":"#REF!"},{"$error":"#REF!"},null,{"$error":"#REF!"},{"$error":"#REF!"},null,{"$error":"#REF!"}]
["Infortunio del conducente",{"$f":"(+#REF!)/1000","v":{"$error":"#REF!"}},{"$f":"+#REF!","v":{"$error":"#REF!"}},{"$f":"(+#REF!)/1000","v":{"$error":"#REF!"}},{"$error":"#REF!"},{"$error":"#REF!"},{"$f":"(+#REF!)/1000","v":{"$error":"#REF!"}},{"$error":"#REF!"},{"$error":"#REF!"},null,{"$f":"(+#REF!)/1000","v":{"$error":"#REF!"}},{"$f":"+#REF!","v":{"$error":"#REF!"}},{"$f":"(+#REF!)/1000","v":{"$error":"#REF!"}},{"$f":"+#REF!","v":{"$error":"#REF!"}},{"$error":"#REF!"},{"$f":"+#REF!/1000","v":{"$error":"#REF!"}},{"$error":"#REF!"},{"$f":"+#REF!/#REF!-1","v":{"$error":"#REF!"}},{"$f":"+#REF!/1000","v":{"$error":"#REF!"}},{"$error":"#REF!"},{"$error":"#REF!"},null,{"$error":"#REF!"},{"$error":"#REF!"},null,{"$error":"#REF!"},{"$error":"#REF!"},null,{"$error":"#REF!"}]
["Altro*",{"$f":"(+#REF!)/1000","v":{"$error":"#REF!"}},{"$f":"+#REF!","v":{"$error":"#REF!"}},{"$f":"(+#REF!)/1000","v":{"$error":"#REF!"}},{"$error":"#REF!"},{"$error":"#REF!"},{"$f":"(+#REF!)/1000","v":{"$error":"#REF!"}},{"$error":"#REF!"},{"$error":"#REF!"},null,{"$f":"(+#REF!)/1000","v":{"$error":"#REF!"}},{"$f":"+#REF!","v":{"$error":"#REF!"}},{"$f":"(+#REF!)/1000","v":{"$error":"#REF!"}},{"$f":"+#REF!","v":{"$error":"#REF!"}},{"$error":"#REF!"},{"$f":"+#REF!/1000","v":{"$error":"#REF!"}},{"$error":"#REF!"},{"$f":"+#REF!/#REF!-1","v":{"$error":"#REF!"}},{"$f":"+#REF!/1000","v":{"$error":"#REF!"}},{"$error":"#REF!"},{"$error":"#REF!"},null,{"$error":"#REF!"},{"$error":"#REF!"},null,{"$error":"#REF!"},{"$error":"#REF!"},null,{"$error":"#REF!"}]
["Totale",{"$f":"(+#REF!)/1000","v":{"$error":"#REF!"}},{"$f":"+#REF!","v":{"$error":"#REF!"}},{"$f":"(+#REF!)/1000","v":{"$error":"#REF!"}},{"$error":"#REF!"},{"$error":"#REF!"},{"$f":"(+#REF!)/1000","v":{"$error":"#REF!"}},{"$error":"#REF!"},{"$error":"#REF!"},null,{"$f":"(+#REF!)/1000","v":{"$error":"#REF!"}},{"$f":"+#REF!","v":{"$error":"#REF!"}},{"$f":"(+#REF!)/1000","v":{"$error":"#REF!"}},{"$f":"+#REF!","v":{"$error":"#REF!"}},{"$error":"#REF!"},{"$f":"+#REF!/1000","v":{"$error":"#REF!"}},{"$error":"#REF!"},{"$f":"+#REF!/#REF!-1","v":{"$error":"#REF!"}},{"$f":"+#REF!/1000","v":{"$error":"#REF!"}},{"$error":"#REF!"},{"$error":"#REF!"},null,{"$error":"#REF!"},{"$error":"#REF!"},null,{"$error":"#REF!"},{"$error":"#REF!"},null,{"$error":"#REF!"}]
["POLIZZE COLLETTIVE"]
["Morte",{"$f":"(+#REF!)/1000","v":{"$error":"#REF!"}},{"$f":"+#REF!","v":{"$error":"#REF!"}},{"$f":"(+#REF!)/1000","v":{"$error":"#REF!"}},{"$f":"+D14/$D$19","v":{"$error":"#REF!"}},{"$f":"+D14/B14-1","v":{"$error":"#REF!"}},{"$f":"(+#REF!)/1000","v":{"$error":"#REF!"}},{"$f":"+G14/$G$19","v":{"$error":"#REF!"}},{"$f":"+G14/D14-1","v":{"$error":"#REF!"}},null,{"$f":"(+#REF!)/1000","v":{"$error":"#REF!"}},{"$f":"+#REF!","v":{"$error":"#REF!"}},{"$f":"(+#REF!)/1000","v":{"$error":"#REF!"}},{"$f":"+#REF!","v":{"$error":"#REF!"}},{"$f":"+M14/K14-1","v":{"$error":"#REF!"}},{"$f":"+#REF!/1000","v":{"$error":"#REF!"}},{"$f":"+P14/$P$19","v":{"$error":"#REF!"}},{"$f":"+#REF!/#REF!-1","v":{"$error":"#REF!"}},{"$f":"+#REF!/1000","v":{"$error":"#REF!"}},{"$f":"+S14/$S$19","v":{"$error":"#REF!"}},{"$f":"+S14/P14-1","v":{"$error":"#REF!"}},null,{"$f":"+P14/D14","v":{"$error":"#REF!"}},{"$f":"+S14/G14","v":{"$error":"#REF!"}},null,{"$f":"+E14/C14-1","v":{"$error":"#REF!"}},{"$error":"#REF!"},null,{"$f":"+M14/K14-1","v":{"$error":"#REF!"}}]
["Invalidità permanente",{"$f":"(+#REF!)/1000","v":{"$error":"#REF!"}},{"$f":"+#REF!","v":{"$error":"#REF!"}},{"$f":"(+#REF!)/1000","v":{"$error":"#REF!"}},{"$f":"+D15/$D$19","v":{"$error":"#REF!"}},{"$error":"#REF!"},{"$f":"(+#REF!)/1000","v":{"$error":"#REF!"}},{"$error":"#REF!"},{"$error":"#REF!"},null,{"$f":"(+#REF!)/1000","v":{"$error":"#REF!"}},{"$f":"+#REF!","v":{"$error":"#REF!"}},{"$f":"(+#REF!)/1000","v":{"$error":"#REF!"}},{"$f":"+#REF!","v":{"$error":"#REF!"}},{"$error":"#REF!"},{"$f":"+#REF!/1000","v":{"$error":"#REF!"}},{"$error":"#REF!"},{"$f":"+#REF!/#REF!-1","v":{"$error":"#REF!"}},{"$f":"+#REF!/1000","v":{"$error":"#REF!"}},{"$error":"#REF!"},{"$error":"#REF!"},null,{"$error":"#REF!"},{"$error":"#REF!"},null,{"$error":"#REF!"},{"$error":"#REF!"},null,{"$error":"#REF!"}]
["Inabilità temporanea",{"$f":"(+#REF!)/1000","v":{"$error":"#REF!"}},{"$f":"+#REF!","v":{"$error":"#REF!"}},{"$f":"(+#REF!)/1000","v":{"$error":"#REF!"}},{"$error":"#REF!"},{"$error":"#REF!"},{"$f":"(+#REF!)/1000","v":{"$error":"#REF!"}},{"$error":"#REF!"},{"$error":"#REF!"},null,{"$f":"(+#REF!)/1000","v":{"$error":"#REF!"}},{"$f":"+#REF!","v":{"$error":"#REF!"}},{"$f":"(+#REF!)/1000","v":{"$error":"#REF!"}},{"$f":"+#REF!","v":{"$error":"#REF!"}},{"$error":"#REF!"},{"$f":"+#REF!/1000","v":{"$error":"#REF!"}},{"$error":"#REF!"},{"$f":"+#REF!/#REF!-1","v":{"$error":"#REF!"}},{"$f":"+#REF!/1000","v":{"$error":"#REF!"}},{"$error":"#REF!"},{"$error":"#REF!"},null,{"$error":"#REF!"},{"$error":"#REF!"},null,{"$error":"#REF!"},{"$error":"#REF!"},null,{"$error":"#REF!"}]
["Infortunio del conducente",{"$f":"(+#REF!)/1000","v":{"$error":"#REF!"}},{"$f":"+#REF!","v":{"$error":"#REF!"}},{"$f":"(+#REF!)/1000","v":{"$error":"#REF!"}},{"$error":"#REF!"},{"$error":"#REF!"},{"$f":"(+#REF!)/1000","v":{"$error":"#REF!"}},{"$error":"#REF!"},{"$error":"#REF!"},null,{"$f":"(+#REF!)/1000","v":{"$error":"#REF!"}},{"$f":"+#REF!","v":{"$error":"#REF!"}},{"$f":"(+#REF!)/1000","v":{"$error":"#REF!"}},{"$f":"+#REF!","v":{"$error":"#REF!"}},{"$error":"#REF!"},{"$f":"+#REF!/1000","v":{"$error":"#REF!"}},{"$error":"#REF!"},{"$f":"+#REF!/#REF!-1","v":{"$error":"#REF!"}},{"$f":"+#REF!/1000","v":{"$error":"#REF!"}},{"$error":"#REF!"},{"$error":"#REF!"},null,{"$error":"#REF!"},{"$error":"#REF!"},null,{"$error":"#REF!"},{"$error":"#REF!"},null,{"$error":"#REF!"}]
["Altro*",{"$f":"(+#REF!)/1000","v":{"$error":"#REF!"}},{"$f":"+#REF!","v":{"$error":"#REF!"}},{"$f":"(+#REF!)/1000","v":{"$error":"#REF!"}},{"$error":"#REF!"},{"$error":"#REF!"},{"$f":"(+#REF!)/1000","v":{"$error":"#REF!"}},{"$error":"#REF!"},{"$error":"#REF!"},null,{"$f":"(+#REF!)/1000","v":{"$error":"#REF!"}},{"$f":"+#REF!","v":{"$error":"#REF!"}},{"$f":"(+#REF!)/1000","v":{"$error":"#REF!"}},{"$f":"+#REF!","v":{"$error":"#REF!"}},{"$error":"#REF!"},{"$f":"+#REF!/1000","v":{"$error":"#REF!"}},{"$error":"#REF!"},{"$f":"+#REF!/#REF!-1","v":{"$error":"#REF!"}},{"$f":"+#REF!/1000","v":{"$error":"#REF!"}},{"$error":"#REF!"},{"$error":"#REF!"},null,{"$error":"#REF!"},{"$error":"#REF!"},null,{"$error":"#REF!"},{"$error":"#REF!"},null,{"$error":"#REF!"}]
["Totale",{"$f":"(+#REF!)/1000","v":{"$error":"#REF!"}},{"$f":"+#REF!","v":{"$error":"#REF!"}},{"$f":"(+#REF!)/1000","v":{"$error":"#REF!"}},{"$error":"#REF!"},{"$error":"#REF!"},{"$f":"(+#REF!)/1000","v":{"$error":"#REF!"}},{"$error":"#REF!"},{"$error":"#REF!"},null,{"$f":"(+#REF!)/1000","v":{"$error":"#REF!"}},{"$f":"+#REF!","v":{"$error":"#REF!"}},{"$f":"(+#REF!)/1000","v":{"$error":"#REF!"}},{"$f":"+#REF!","v":{"$error":"#REF!"}},{"$error":"#REF!"},{"$f":"+#REF!/1000","v":{"$error":"#REF!"}},{"$error":"#REF!"},{"$f":"+#REF!/#REF!-1","v":{"$error":"#REF!"}},{"$f":"+#REF!/1000","v":{"$error":"#REF!"}},{"$error":"#REF!"},{"$error":"#REF!"},null,{"$error":"#REF!"},{"$error":"#REF!"},null,{"$error":"#REF!"},{"$error":"#REF!"},null,{"$error":"#REF!"}]
["POLIZZE INDIVIDUALI E COLLETTIVE",null,null,null,{"$error":"#REF!"}]
["Morte",{"$f":"(+#REF!)/1000","v":{"$error":"#REF!"}},{"$f":"+#REF!","v":{"$error":"#REF!"}},{"$f":"(+#REF!)/1000","v":{"$error":"#REF!"}},{"$error":"#REF!"},{"$f":"+D21/B21-1","v":{"$error":"#REF!"}},{"$f":"(+#REF!)/1000","v":{"$error":"#REF!"}},{"$f":"+#REF!","v":{"$error":"#REF!"}},{"$f":"+G21/D21-1","v":{"$error":"#REF!"}},null,{"$f":"(+#REF!)/1000","v":{"$error":"#REF!"}},{"$f":"+#REF!","v":{"$error":"#REF!"}},{"$f":"(+#REF!)/1000","v":{"$error":"#REF!"}},{"$f":"+#REF!","v":{"$error":"#REF!"}},{"$f":"+M21/K21-1","v":{"$error":"#REF!"}},{"$f":"+#REF!/1000","v":{"$error":"#REF!"}},{"$f":"+P21/$P$26","v":{"$error":"#REF!"}},{"$f":"+#REF!/#REF!-1","v":{"$error":"#REF!"}},{"$f":"+#REF!/1000","v":{"$error":"#REF!"}},{"$f":"+#REF!","v":{"$error":"#REF!"}},{"$f":"+S21/P21-1","v":{"$error":"#REF!"}},null,{"$f":"+P21/D21","v":{"$error":"#REF!"}},{"$f":"+S21/G21","v":{"$error":"#REF!"}},null,{"$f":"+E21/C21-1","v":{"$error":"#REF!"}},{"$error":"#REF!"},null,{"$f":"+M21/K21-1","v":{"$error":"#REF!"}}]
["Invalidità permanente",{"$f":"(+#REF!)/1000","v":{"$error":"#REF!"}},{"$f":"+#REF!","v":{"$error":"#REF!"}},{"$f":"(+#REF!)/1000","v":{"$error":"#REF!"}},{"$error":"#REF!"},{"$error":"#REF!"},{"$f":"(+#REF!)/1000","v":{"$error":"#REF!"}},{"$f":"+#REF!","v":{"$error":"#REF!"}},{"$error":"#REF!"},null,{"$f":"(+#REF!)/1000","v":{"$error":"#REF!"}},{"$f":"+#REF!","v":{"$error":"#REF!"}},{"$f":"(+#REF!)/1000","v":{"$error":"#REF!"}},{"$f":"+#REF!","v":{"$error":"#REF!"}},{"$error":"#REF!"},{"$f":"+#REF!/1000","v":{"$error":"#REF!"}},{"$error":"#REF!"},{"$f":"+#REF!/#REF!-1","v":{"$error":"#REF!"}},{"$f":"+#REF!/1000","v":{"$error":"#REF!"}},{"$f":"+#REF!","v":{"$error":"#REF!"}},{"$error":"#REF!"},null,{"$error":"#REF!"},{"$error":"#REF!"},null,{"$error":"#REF!"},{"$error":"#REF!"},null,{"$error":"#REF!"}]
["Inabilità temporanea",{"$f":"(+#REF!)/1000","v":{"$error":"#REF!"}},{"$f":"+#REF!","v":{"$error":"#REF!"}},{"$f":"(+#REF!)/1000","v":{"$error":"#REF!"}},{"$error":"#REF!"},{"$error":"#REF!"},{"$f":"(+#REF!)/1000","v":{"$error":"#REF!"}},{"$f":"+#REF!","v":{"$error":"#REF!"}},{"$error":"#REF!"},null,{"$f":"(+#REF!)/1000","v":{"$error":"#REF!"}},{"$f":"+#REF!","v":{"$error":"#REF!"}},{"$f":"(+#REF!)/1000","v":{"$error":"#REF!"}},{"$f":"+#REF!","v":{"$error":"#REF!"}},{"$error":"#REF!"},{"$f":"+#REF!/1000","v":{"$error":"#REF!"}},{"$error":"#REF!"},{"$f":"+#REF!/#REF!-1","v":{"$error":"#REF!"}},{"$f":"+#REF!/1000","v":{"$error":"#REF!"}},{"$f":"+#REF!","v":{"$error":"#REF!"}},{"$error":"#REF!"},null,{"$error":"#REF!"},{"$error":"#REF!"},null,{"$error":"#REF!"},{"$error":"#REF!"},null,{"$error":"#REF!"}]
["Infortunio del conducente",{"$f":"(+#REF!)/1000","v":{"$error":"#REF!"}},{"$f":"+#REF!","v":{"$error":"#REF!"}},{"$f":"(+#REF!)/1000","v":{"$error":"#REF!"}},{"$error":"#REF!"},{"$error":"#REF!"},{"$f":"(+#REF!)/1000","v":{"$error":"#REF!"}},{"$f":"+#REF!","v":{"$error":"#REF!"}},{"$error":"#REF!"},null,{"$f":"(+#REF!)/1000","v":{"$error":"#REF!"}},{"$f":"+#REF!","v":{"$error":"#REF!"}},{"$f":"(+#REF!)/1000","v":{"$error":"#REF!"}},{"$f":"+#REF!","v":{"$error":"#REF!"}},{"$error":"#REF!"},{"$f":"+#REF!/1000","v":{"$error":"#REF!"}},{"$error":"#REF!"},{"$f":"+#REF!/#REF!-1","v":{"$error":"#REF!"}},{"$f":"+#REF!/1000","v":{"$error":"#REF!"}},{"$f":"+#REF!","v":{"$error":"#REF!"}},{"$error":"#REF!"},null,{"$error":"#REF!"},{"$error":"#REF!"},null,{"$error":"#REF!"},{"$error":"#REF!"},null,{"$error":"#REF!"}]
["Altro*",{"$f":"(+#REF!)/1000","v":{"$error":"#REF!"}},{"$f":"+#REF!","v":{"$error":"#REF!"}},{"$f":"(+#REF!)/1000","v":{"$error":"#REF!"}},{"$error":"#REF!"},{"$error":"#REF!"},{"$f":"(+#REF!)/1000","v":{"$error":"#REF!"}},{"$f":"+#REF!","v":{"$error":"#REF!"}},{"$error":"#REF!"},null,{"$f":"(+#REF!)/1000","v":{"$error":"#REF!"}},{"$f":"+#REF!","v":{"$error":"#REF!"}},{"$f":"(+#REF!)/1000","v":{"$error":"#REF!"}},{"$f":"+#REF!","v":{"$error":"#REF!"}},{"$error":"#REF!"},{"$f":"+#REF!/1000","v":{"$error":"#REF!"}},{"$error":"#REF!"},{"$f":"+#REF!/#REF!-1","v":{"$error":"#REF!"}},{"$f":"+#REF!/1000","v":{"$error":"#REF!"}},{"$f":"+#REF!","v":{"$error":"#REF!"}},{"$error":"#REF!"},null,{"$error":"#REF!"},{"$error":"#REF!"},null,{"$error":"#REF!"},{"$error":"#REF!"},null,{"$error":"#REF!"}]
["Totale",{"$f":"(+#REF!)/1000","v":{"$error":"#REF!"}},{"$f":"+#REF!","v":{"$error":"#REF!"}},{"$f":"(+#REF!)/1000","v":{"$error":"#REF!"}},{"$error":"#REF!"},{"$error":"#REF!"},{"$f":"(+#REF!)/1000","v":{"$error":"#REF!"}},{"$f":"+#REF!","v":{"$error":"#REF!"}},{"$error":"#REF!"},null,{"$f":"(+#REF!)/1000","v":{"$error":"#REF!"}},{"$f":"+#REF!","v":{"$error":"#REF!"}},{"$f":"(+#REF!)/1000","v":{"$error":"#REF!"}},{"$f":"+#REF!","v":{"$error":"#REF!"}},{"$error":"#REF!"},{"$f":"+#REF!/1000","v":{"$error":"#REF!"}},{"$error":"#REF!"},{"$f":"+#REF!/#REF!-1","v":{"$error":"#REF!"}},{"$f":"+#REF!/1000","v":{"$error":"#REF!"}},{"$f":"+#REF!","v":{"$error":"#REF!"}},{"$error":"#REF!"},null,{"$error":"#REF!"},{"$error":"#REF!"},null,{"$error":"#REF!"},{"$error":"#REF!"},null,{"$error":"#REF!"}]
[null,null,null,null,{"$error":"#REF!"}]
["(*): Nella voce Altro sono incluse anche altre garanzie come l'indennità di ricovero, il rimborso delle spese per la cura e la riabilitazione rese necessarie a seguito dell'infortunio, nonché ulteriori altre garanzie che non rientrano in quelle indicate o che le imprese non riescono a distinguere."]
[]
[]
[]
[null,null,null,null,"POLIZZE INDIVIDUALI",null,"POLIZZE COLLETTIVE",null,null,null,null,null,null,null,null,null,"POLIZZE INDIVIDUALI",null,"POLIZZE COLLETTIVE"]
["Morte",null,null,null,{"$f":"+H7","v":{"$error":"#REF!"}},null,{"$f":"+H14","v":{"$error":"#REF!"}},null,null,null,null,null,null,null,null,null,{"$f":"+T7","v":{"$error":"#REF!"}},null,{"$f":"+T14","v":{"$error":"#REF!"}}]
["Invalidità permanente",null,null,null,{"$f":"+H8","v":{"$error":"#REF!"}},null,{"$f":"+H15","v":{"$error":"#REF!"}},null,null,null,null,null,null,null,null,null,{"$f":"+T8","v":{"$error":"#REF!"}},null,{"$f":"+T15","v":{"$error":"#REF!"}}]
["Inabilità temporanea",null,null,null,{"$f":"+H9","v":{"$error":"#REF!"}},null,{"$f":"+H16","v":{"$error":"#REF!"}},null,null,null,null,null,null,null,null,null,{"$f":"+T9","v":{"$error":"#REF!"}},null,{"$f":"+T16","v":{"$error":"#REF!"}}]
["Infortunio del conducente",null,null,null,{"$f":"+H10","v":{"$error":"#REF!"}},null,{"$f":"+H17","v":{"$error":"#REF!"}},null,null,null,null,null,null,null,null,null,{"$f":"+T10","v":{"$error":"#REF!"}},null,{"$f":"+T17","v":{"$error":"#REF!"}}]
["Altro*",null,null,null,{"$f":"+H11","v":{"$error":"#REF!"}},null,{"$f":"+H18","v":{"$error":"#REF!"}},null,null,null,null,null,null,null,null,null,{"$f":"+T11","v":{"$error":"#REF!"}},null,{"$f":"+T18","v":{"$error":"#REF!"}}]

{"sheet":"Allegato I inf","index":21,"n_rows":149,"n_cols":33,"rows_kept":149,"cut":false,"hidden":false,"merged":[[96,16,101,16],[102,16,107,16],[108,16,113,16],[59,1,59,14],[21,1,22,1],[21,2,21,3],[21,4,21,5],[21,6,21,7],[21,8,21,9],[40,10,40,11],[40,12,40,13],[40,1,41,1],[40,2,40,3],[40,4,40,5],[40,6,40,7],[40,8,40,9],[21,10,21,11],[2,12,2,13],[2,1,3,1],[2,2,2,3],[2,4,2,5],[2,6,2,7],[2,10,2,11],[2,8,2,9],[21,12,21,13]]}
[null,"Premi contabilizzati per garanzia - ramo Infortuni "]
[null,"Importi in migliaia di euro"]
[null," POLIZZE INDIVIDUALI","Morte",null,"Invalidità permanente",null,"Inabilità temporanea",null,"Infortunio del conducente",null,"Altro",null,"Totale"]
[null,null,"Premi","Variaz. annua","Premi","Variaz. annua","Premi","Variaz. annua","Premi","Variaz. annua","Premi","Variaz. annua","Premi","Variaz. annua"]
[null,"I semestre 2014",{"$f":"+'[1]PIVOT allegato I'!B58","v":155714.86016259788},{"$f":"+'[1]PIVOT allegato I'!C58","v":"n.d."},{"$f":"+'[1]PIVOT allegato I'!D58","v":381986.66178494738},{"$f":"+'[1]PIVOT allegato I'!E58","v":"n.d."},{"$f":"+'[1]PIVOT allegato I'!F58","v":61182.571704770249},{"$f":"+'[1]PIVOT allegato I'!G58","v":"n.d."},{"$f":"+'[1]PIVOT allegato I'!H58","v":367136.20982634556},{"$f":"+'[1]PIVOT allegato I'!I58","v":"n.d."},{"$f":"+'[1]PIVOT allegato I'!J58","v":212107.38886646606},{"$f":"+'[1]PIVOT allegato I'!K58","v":"n.d."},{"$f":"+'[1]PIVOT allegato I'!L58","v":1178127.692345127},{"$f":"+'[1]PIVOT allegato I'!M58","v":"n.d."}]
[null,"I semestre 2015",{"$f":"+'[1]PIVOT allegato I'!B59","v":147320.35602642025},{"$f":"+'[1]PIVOT allegato I'!C59","v":-5.3909460711791146E-2},{"$f":"+'[1]PIVOT allegato I'!D59","v":374277.35438879818},{"$f":"+'[1]PIVOT allegato I'!E59","v":-2.0182137669742528E-2},{"$f":"+'[1]PIVOT allegato I'!F59","v":68711.214601865446},{"$f":"+'[1]PIVOT allegato I'!G59","v":0.12305208309032567},{"$f":"+'[1]PIVOT allegato I'!H59","v":355647.89813221048},{"$f":"+'[1]PIVOT allegato I'!I59","v":-3.1291687898529541E-2},{"$f":"+'[1]PIVOT allegato I'!J59","v":191707.07894460746},{"$f":"+'[1]PIVOT allegato I'!K59","v":-9.61791573168711E-2},{"$f":"+'[1]PIVOT allegato I'!L59","v":1137663.9020939018},{"$f":"+'[1]PIVOT allegato I'!M59","v":-3.4345844269800585E-2}]
[null,"I semestre 2016",{"$f":"+'[1]PIVOT allegato I'!B60","v":147484.58464210582},{"$f":"+'[1]PIVOT allegato I'!C60","v":1.1147720526558658E-3},{"$f":"+'[1]PIVOT allegato I'!D60","v":381422.99682659935},{"$f":"+'[1]PIVOT allegato I'!E60","v":1.90918375210547E-2},{"$f":"+'[1]PIVOT allegato I'!F60","v":64996.781374442136},{"$f":"+'[1]PIVOT allegato I'!G60","v":-5.4058616907675328E-2},{"$f":"+'[1]PIVOT allegato I'!H60","v":348340.57899827039},{"$f":"+'[1]PIVOT allegato I'!I60","v":-2.0546498861139462E-2},{"$f":"+'[1]PIVOT allegato I'!J60","v":223976.59588029131},{"$f":"+'[1]PIVOT allegato I'!K60","v":0.16832720582534111},{"$f":"+'[1]PIVOT allegato I'!L60","v":1166221.5377217091},{"$f":"+'[1]PIVOT allegato I'!M60","v":2.5101996798216231E-2}]
[null,"I semestre 2017",{"$f":"+'[1]PIVOT allegato I'!B61","v":151115.29564877669},{"$f":"+'[1]PIVOT allegato I'!C61","v":2.4617562679390304E-2},{"$f":"+'[1]PIVOT allegato I'!D61","v":439899.14554646931},{"$f":"+'[1]PIVOT allegato I'!E61","v":0.15331049571312061},{"$f":"+'[1]PIVOT allegato I'!F61","v":70738.211521314501},{"$f":"+'[1]PIVOT allegato I'!G61","v":8.8334068633281415E-2},{"$f":"+'[1]PIVOT allegato I'!H61","v":372443.3711639861},{"$f":"+'[1]PIVOT allegato I'!I61","v":6.9193179373556069E-2},{"$f":"+'[1]PIVOT allegato I'!J61","v":211832.17890393952},{"$f":"+'[1]PIVOT allegato I'!K61","v":-5.4221812455988116E-2},{"$f":"+'[1]PIVOT allegato I'!L61","v":1246028.2027844861},{"$f":"+'[1]PIVOT allegato I'!M61","v":6.8431822326557867E-2}]
[null,"I semestre 2018",{"$f":"+'[1]PIVOT allegato I'!B62","v":150833.25960621421},{"$f":"+'[1]PIVOT allegato I'!C62","v":-1.8663633045988837E-3},{"$f":"+'[1]PIVOT allegato I'!D62","v":444956.56355058221},{"$f":"+'[1]PIVOT allegato I'!E62","v":1.1496767055162671E-2},{"$f":"+'[1]PIVOT allegato I'!F62","v":84144.4964070485},{"$f":"+'[1]PIVOT allegato I'!G62","v":0.18951970367097104},{"$f":"+'[1]PIVOT allegato I'!H62","v":370637.95046345307},{"$f":"+'[1]PIVOT allegato I'!I62","v":-4.8475039168789369E-3},{"$f":"+'[1]PIVOT allegato I'!J62","v":232968.53502548757},{"$f":"+'[1]PIVOT allegato I'!K62","v":9.9778778799857637E-2},{"$f":"+'[1]PIVOT allegato I'!L62","v":1283540.8050527859},{"$f":"+'[1]PIVOT allegato I'!M62","v":3.0105740933046965E-2}]
[null,"I semestre 2019",{"$f":"+'[1]PIVOT allegato I'!B63","v":160530.63745423045},{"$f":"+'[1]PIVOT allegato I'!C63","v":6.4292039258009304E-2},{"$f":"+'[1]PIVOT allegato I'!D63","v":482436.22152585461},{"$f":"+'[1]PIVOT allegato I'!E63","v":8.4232172408468697E-2},{"$f":"+'[1]PIVOT allegato I'!F63","v":92394.237708872621},{"$f":"+'[1]PIVOT allegato I'!G63","v":9.8042553631981333E-2},{"$f":"+'[1]PIVOT allegato I'!H63","v":376920.36385737313},{"$f":"+'[1]PIVOT allegato I'!I63","v":1.6950270165438708E-2},{"$f":"+'[1]PIVOT allegato I'!J63","v":270862.48228011734},{"$f":"+'[1]PIVOT allegato I'!K63","v":0.16265693240713408},{"$f":"+'[1]PIVOT allegato I'!L63","v":1383143.9428264478},{"$f":"+'[1]PIVOT allegato I'!M63","v":7.7600289279128765E-2}]
[null,"I semestre 2020",{"$f":"+'[1]PIVOT allegato I'!B64","v":144969.57973015527},{"$f":"+'[1]PIVOT allegato I'!C64","v":-9.6935126969217134E-2},{"$f":"+'[1]PIVOT allegato I'!D64","v":436765.32388480409},{"$f":"+'[1]PIVOT allegato I'!E64","v":-9.466722356916335E-2},{"$f":"+'[1]PIVOT allegato I'!F64","v":95079.826849530175},{"$f":"+'[1]PIVOT allegato I'!G64","v":2.9066630206092015E-2},{"$f":"+'[1]PIVOT allegato I'!H64","v":354414.65015752625},{"$f":"+'[1]PIVOT allegato I'!I64","v":-5.9709466131055322E-2},{"$f":"+'[1]PIVOT allegato I'!J64","v":292461.60977468104},{"$f":"+'[1]PIVOT allegato I'!K64","v":7.9742042208069908E-2},{"$f":"+'[1]PIVOT allegato I'!L64","v":1323690.9903966971},{"$f":"+'[1]PIVOT allegato I'!M64","v":-4.2983922778318306E-2}]
[null,"I semestre 2021",{"$f":"+'[1]PIVOT allegato I'!B65","v":146602.66048879497},{"$f":"+'[1]PIVOT allegato I'!C65","v":1.1264989259674341E-2},{"$f":"+'[1]PIVOT allegato I'!D65","v":481226.29260119057},{"$f":"+'[1]PIVOT allegato I'!E65","v":0.10179601329365817},{"$f":"+'[1]PIVOT allegato I'!F65","v":99696.63440643459},{"$f":"+'[1]PIVOT allegato I'!G65","v":4.8557172534724913E-2},{"$f":"+'[1]PIVOT allegato I'!H65","v":352121.07856580615},{"$f":"+'[1]PIVOT allegato I'!I65","v":-6.4714356212438595E-3},{"$f":"+'[1]PIVOT allegato I'!J65","v":306328.43742820644},{"$f":"+'[1]PIVOT allegato I'!K65","v":4.7414180836276909E-2},{"$f":"+'[1]PIVOT allegato I'!L65","v":1385975.1034904327},{"$f":"+'[1]PIVOT allegato I'!M65","v":4.7053363319387476E-2}]
[]
[null,"Anno 2014",{"$f":"+'[1]PIVOT allegato I'!B67","v":302985.09048456477},{"$f":"+'[1]PIVOT allegato I'!C67","v":"n.d."},{"$f":"+'[1]PIVOT allegato I'!D67","v":707264.5420476991},{"$f":"+'[1]PIVOT allegato I'!E67","v":"n.d."},{"$f":"+'[1]PIVOT allegato I'!F67","v":121708.176532403},{"$f":"+'[1]PIVOT allegato I'!G67","v":"n.d."},{"$f":"+'[1]PIVOT allegato I'!H67","v":669133.50743878563},{"$f":"+'[1]PIVOT allegato I'!I67","v":"n.d."},{"$f":"+'[1]PIVOT allegato I'!J67","v":403410.58087906806},{"$f":"+'[1]PIVOT allegato I'!K67","v":"n.d."},{"$f":"+'[1]PIVOT allegato I'!L67","v":2204501.8973825211},{"$f":"+'[1]PIVOT allegato I'!M67","v":"n.d."}]
[null,"Anno 2015",{"$f":"+'[1]PIVOT allegato I'!B68","v":290954.3422136294},{"$f":"+'[1]PIVOT allegato I'!C68","v":-3.9707393692853254E-2},{"$f":"+'[1]PIVOT allegato I'!D68","v":732645.4731086113},{"$f":"+'[1]PIVOT allegato I'!E68","v":3.5886050483215692E-2},{"$f":"+'[1]PIVOT allegato I'!F68","v":133643.64548580433},{"$f":"+'[1]PIVOT allegato I'!G68","v":9.8066286863016883E-2},{"$f":"+'[1]PIVOT allegato I'!H68","v":679076.38786302705},{"$f":"+'[1]PIVOT allegato I'!I68","v":1.485933720805499E-2},{"$f":"+'[1]PIVOT allegato I'!J68","v":380551.52618151309},{"$f":"+'[1]PIVOT allegato I'!K68","v":-5.6664489681314323E-2},{"$f":"+'[1]PIVOT allegato I'!L68","v":2216871.3748525851},{"$f":"+'[1]PIVOT allegato I'!M68","v":5.6110078583968548E-3}]
[null,"Anno 2016",{"$f":"+'[1]PIVOT allegato I'!B69","v":279126.0794743977},{"$f":"+'[1]PIVOT allegato I'!C69","v":-4.0653329485445311E-2},{"$f":"+'[1]PIVOT allegato I'!D69","v":793363.63661965833},{"$f":"+'[1]PIVOT allegato I'!E69","v":8.2875231936423654E-2},{"$f":"+'[1]PIVOT allegato I'!F69","v":131065.77151398368},{"$f":"+'[1]PIVOT allegato I'!G69","v":-1.9289162327545739E-2},{"$f":"+'[1]PIVOT allegato I'!H69","v":704287.08018541918},{"$f":"+'[1]PIVOT allegato I'!I69","v":3.7124972643692189E-2},{"$f":"+'[1]PIVOT allegato I'!J69","v":407387.86812058307},{"$f":"+'[1]PIVOT allegato I'!K69","v":7.0519601401545229E-2},{"$f":"+'[1]PIVOT allegato I'!L69","v":2315230.4359140424},{"$f":"+'[1]PIVOT allegato I'!M69","v":4.4368411346372261E-2}]
[null,"Anno 2017",{"$f":"+'[1]PIVOT allegato I'!B70","v":280548.2288814254},{"$f":"+'[1]PIVOT allegato I'!C70","v":5.0950072802429247E-3},{"$f":"+'[1]PIVOT allegato I'!D70","v":854347.62425450585},{"$f":"+'[1]PIVOT allegato I'!E70","v":7.686763650359163E-2},{"$f":"+'[1]PIVOT allegato I'!F70","v":142893.42434235313},{"$f":"+'[1]PIVOT allegato I'!G70","v":9.0242118073577515E-2},{"$f":"+'[1]PIVOT allegato I'!H70","v":742034.69335202768},{"$f":"+'[1]PIVOT allegato I'!I70","v":5.3596912720123457E-2},{"$f":"+'[1]PIVOT allegato I'!J70","v":445708.18964508752},{"$f":"+'[1]PIVOT allegato I'!K70","v":9.4063482305668522E-2},{"$f":"+'[1]PIVOT allegato I'!L70","v":2465532.1604753998},{"$f":"+'[1]PIVOT allegato I'!M70","v":6.4918688969298532E-2}]
[null,"Anno 2018",{"$f":"+'[1]PIVOT allegato I'!B71","v":303938.98421221791},{"$f":"+'[1]PIVOT allegato I'!C71","v":8.3375166630186293E-2},{"$f":"+'[1]PIVOT allegato I'!D71","v":897728.83917866915},{"$f":"+'[1]PIVOT allegato I'!E71","v":5.0777006563361482E-2},{"$f":"+'[1]PIVOT allegato I'!F71","v":170561.85153407772},{"$f":"+'[1]PIVOT allegato I'!G71","v":0.19362981410141611},{"$f":"+'[1]PIVOT allegato I'!H71","v":724885.52749379305},{"$f":"+'[1]PIVOT allegato I'!I71","v":-2.3111002776387557E-2},{"$f":"+'[1]PIVOT allegato I'!J71","v":465955.75337415945},{"$f":"+'[1]PIVOT allegato I'!K71","v":4.5427847635455931E-2},{"$f":"+'[1]PIVOT allegato I'!L71","v":2563070.9557929169},{"$f":"+'[1]PIVOT allegato I'!M71","v":3.9560950321860577E-2}]
[null,"Anno 2019",{"$f":"+'[1]PIVOT allegato I'!B72","v":302732.29775198945},{"$f":"+'[1]PIVOT allegato I'!C72","v":-3.9701602061876784E-3},{"$f":"+'[1]PIVOT allegato I'!D72","v":926527.15756611084},{"$f":"+'[1]PIVOT allegato I'!E72","v":3.2079083494509497E-2},{"$f":"+'[1]PIVOT allegato I'!F72","v":182446.11711732889},{"$f":"+'[1]PIVOT allegato I'!G72","v":6.9677160961615803E-2},{"$f":"+'[1]PIVOT allegato I'!H72","v":729810.89676279062},{"$f":"+'[1]PIVOT allegato I'!I72","v":6.7946856188816351E-3},{"$f":"+'[1]PIVOT allegato I'!J72","v":592739.31422729522},{"$f":"+'[1]PIVOT allegato I'!K72","v":0.27209356239310001},{"$f":"+'[1]PIVOT allegato I'!L72","v":2734255.7834255155},{"$f":"+'[1]PIVOT allegato I'!M72","v":6.6788953792206174E-2}]
[null,"Anno 2020",{"$f":"+'[1]PIVOT allegato I'!B73","v":308110.89474902768},{"$f":"+'[1]PIVOT allegato I'!C73","v":1.7766842312426867E-2},{"$f":"+'[1]PIVOT allegato I'!D73","v":930860.04382404464},{"$f":"+'[1]PIVOT allegato I'!E73","v":4.6764805786327912E-3},{"$f":"+'[1]PIVOT allegato I'!F73","v":196107.72910716935},{"$f":"+'[1]PIVOT allegato I'!G73","v":7.488025618574734E-2},{"$f":"+'[1]PIVOT allegato I'!H73","v":699531.72426755843},{"$f":"+'[1]PIVOT allegato I'!I73","v":-4.1489066043739586E-2},{"$f":"+'[1]PIVOT allegato I'!J73","v":577381.60900083941},{"$f":"+'[1]PIVOT allegato I'!K73","v":-2.5909712512449667E-2},{"$f":"+'[1]PIVOT allegato I'!L73","v":2711992.0009486396},{"$f":"+'[1]PIVOT allegato I'!M73","v":-8.1425383140210084E-3}]
[]
[null," POLIZZE COLLETTIVE","Morte",null,"Invalidità permanente",null,"Inabilità temporanea",null,"Infortunio del conducente",null,"Altro",null,"Totale"]
[null,null,"Premi","Variaz. annua","Premi","Variaz. annua","Premi","Variaz. annua","Premi","Variaz. annua","Premi","Variaz. annua","Premi","Variaz. annua"]
[null,"I semestre 2014",{"$f":"+'[1]PIVOT allegato I'!B75","v":128857.32077855307},{"$f":"+'[1]PIVOT allegato I'!C75","v":"n.d."},{"$f":"+'[1]PIVOT allegato I'!D75","v":166199.44761707616},{"$f":"+'[1]PIVOT allegato I'!E75","v":"n.d."},{"$f":"+'[1]PIVOT allegato I'!F75","v":83306.559167693908},{"$f":"+'[1]PIVOT allegato I'!G75","v":"n.d."},{"$f":"+'[1]PIVOT allegato I'!H75","v":22415.606971169582},{"$f":"+'[1]PIVOT allegato I'!I75","v":"n.d."},{"$f":"+'[1]PIVOT allegato I'!J75","v":61698.373120380173},{"$f":"+'[1]PIVOT allegato I'!K75","v":"n.d."},{"$f":"+'[1]PIVOT allegato I'!L75","v":462477.30765487289},{"$f":"+'[1]PIVOT allegato I'!M75","v":"n.d."},null,null,{"$f":"+C24+E24+G24+I24+K24-M24","v":0}]
[null,"I semestre 2015",{"$f":"+'[1]PIVOT allegato I'!B76","v":149984.19582907434},{"$f":"+'[1]PIVOT allegato I'!C76","v":0.1639555666909196},{"$f":"+'[1]PIVOT allegato I'!D76","v":186353.52731447341},{"$f":"+'[1]PIVOT allegato I'!E76","v":0.12126442046806485},{"$f":"+'[1]PIVOT allegato I'!F76","v":97737.874659591675},{"$f":"+'[1]PIVOT allegato I'!G76","v":0.17323144343109775},{"$f":"+'[1]PIVOT allegato I'!H76","v":19403.675753312073},{"$f":"+'[1]PIVOT allegato I'!I76","v":-0.13436759583317925},{"$f":"+'[1]PIVOT allegato I'!J76","v":71204.824349646588},{"$f":"+'[1]PIVOT allegato I'!K76","v":0.15407944729301537},{"$f":"+'[1]PIVOT allegato I'!L76","v":524684.09790609812},{"$f":"+'[1]PIVOT allegato I'!M76","v":0.13450776767115991},null,null,{"$f":"+C25+E25+G25+I25+K25-M25","v":0}]
[null,"I semestre 2016",{"$f":"+'[1]PIVOT allegato I'!B77","v":143001.77246222689},{"$f":"+'[1]PIVOT allegato I'!C77","v":-4.6554394136331445E-2},{"$f":"+'[1]PIVOT allegato I'!D77","v":203632.28563737476},{"$f":"+'[1]PIVOT allegato I'!E77","v":9.2720318053026496E-2},{"$f":"+'[1]PIVOT allegato I'!F77","v":82018.064111436906},{"$f":"+'[1]PIVOT allegato I'!G77","v":-0.16083642705455614},{"$f":"+'[1]PIVOT allegato I'!H77","v":13531.321135373808},{"$f":"+'[1]PIVOT allegato I'!I77","v":-0.30264134963891542},{"$f":"+'[1]PIVOT allegato I'!J77","v":70923.018931878672},{"$f":"+'[1]PIVOT allegato I'!K77","v":-3.9576730978806429E-3},{"$f":"+'[1]PIVOT allegato I'!L77","v":513106.462278291},{"$f":"+'[1]PIVOT allegato I'!M77","v":-2.2065916756408233E-2},null,null,0]
[null,"I semestre 2017",{"$f":"+'[1]PIVOT allegato I'!B78","v":136446.90100835552},{"$f":"+'[1]PIVOT allegato I'!C78","v":-4.5837693764269938E-2},{"$f":"+'[1]PIVOT allegato I'!D78","v":183457.77387063703},{"$f":"+'[1]PIVOT allegato I'!E78","v":-9.9073247169970902E-2},{"$f":"+'[1]PIVOT allegato I'!F78","v":86010.902082329208},{"$f":"+'[1]PIVOT allegato I'!G78","v":4.8682421539080423E-2},{"$f":"+'[1]PIVOT allegato I'!H78","v":16414.392975964111},{"$f":"+'[1]PIVOT allegato I'!I78","v":0.213066544777607},{"$f":"+'[1]PIVOT allegato I'!J78","v":62461.827278228098},{"$f":"+'[1]PIVOT allegato I'!K78","v":-0.11930106446508604},{"$f":"+'[1]PIVOT allegato I'!L78","v":484791.79721551394},{"$f":"+'[1]PIVOT allegato I'!M78","v":-5.5182826848554023E-2},null,null,0]
[null,"I semestre 2018",{"$f":"+'[1]PIVOT allegato I'!B79","v":134960.24258598388},{"$f":"+'[1]PIVOT allegato I'!C79","v":-1.089550888576496E-2},{"$f":"+'[1]PIVOT allegato I'!D79","v":168300.16492142453},{"$f":"+'[1]PIVOT allegato I'!E79","v":-8.262178608959192E-2},{"$f":"+'[1]PIVOT allegato I'!F79","v":63943.30016913078},{"$f":"+'[1]PIVOT allegato I'!G79","v":-0.25656749759554232},{"$f":"+'[1]PIVOT allegato I'!H79","v":10433.424446986253},{"$f":"+'[1]PIVOT allegato I'!I79","v":-0.36437342140741336},{"$f":"+'[1]PIVOT allegato I'!J79","v":60699.062823688691},{"$f":"+'[1]PIVOT allegato I'!K79","v":-2.8221467916514809E-2},{"$f":"+'[1]PIVOT allegato I'!L79","v":438336.1949472141},{"$f":"+'[1]PIVOT allegato I'!M79","v":-9.5825883472298146E-2},null,null,0]
[null,"I semestre 2019",{"$f":"+'[1]PIVOT allegato I'!B80","v":138855.77426891314},{"$f":"+'[1]PIVOT allegato I'!C80","v":2.8864290759164746E-2},{"$f":"+'[1]PIVOT allegato I'!D80","v":162840.12740575135},{"$f":"+'[1]PIVOT allegato I'!E80","v":-3.2442258854721517E-2},{"$f":"+'[1]PIVOT allegato I'!F80","v":54793.535747804868},{"$f":"+'[1]PIVOT allegato I'!G80","v":-0.14309183913130352},{"$f":"+'[1]PIVOT allegato I'!H80","v":9675.3976020118807},{"$f":"+'[1]PIVOT allegato I'!I80","v":-7.2653695709018362E-2},{"$f":"+'[1]PIVOT allegato I'!J80","v":61326.222149071102},{"$f":"+'[1]PIVOT allegato I'!K80","v":1.033227361687783E-2},{"$f":"+'[1]PIVOT allegato I'!L80","v":427491.05717355228},{"$f":"+'[1]PIVOT allegato I'!M80","v":-2.474159765649242E-2},null,null,0]
[null,"I semestre 2020",{"$f":"+'[1]PIVOT allegato I'!B81","v":135970.17864380172},{"$f":"+'[1]PIVOT allegato I'!C81","v":-2.0781243274212491E-2},{"$f":"+'[1]PIVOT allegato I'!D81","v":156759.21135047355},{"$f":"+'[1]PIVOT allegato I'!E81","v":-3.7342859847596999E-2},{"$f":"+'[1]PIVOT allegato I'!F81","v":42425.675528352018},{"$f":"+'[1]PIVOT allegato I'!G81","v":-0.22571750573603622},{"$f":"+'[1]PIVOT allegato I'!H81","v":9825.5057085254084},{"$f":"+'[1]PIVOT allegato I'!I81","v":1.551441219142391E-2},{"$f":"+'[1]PIVOT allegato I'!J81","v":77364.438372150267},{"$f":"+'[1]PIVOT allegato I'!K81","v":0.26152297762763932},{"$f":"+'[1]PIVOT allegato I'!L81","v":422345.00960330298},{"$f":"+'[1]PIVOT allegato I'!M81","v":-1.2037789993253889E-2},null,null,0]
[null,"I semestre 2021",{"$f":"+'[1]PIVOT allegato I'!B82","v":151991.41220961037},{"$f":"+'[1]PIVOT allegato I'!C82","v":0.11782902490537395},{"$f":"+'[1]PIVOT allegato I'!D82","v":156421.68686828006},{"$f":"+'[1]PIVOT allegato I'!E82","v":-2.1531397057036328E-3},{"$f":"+'[1]PIVOT allegato I'!F82","v":29838.730221350022},{"$f":"+'[1]PIVOT allegato I'!G82","v":-0.2966822602174114},{"$f":"+'[1]PIVOT allegato I'!H82","v":20898.06294004204},{"$f":"+'[1]PIVOT allegato I'!I82","v":1.1269198308957451},{"$f":"+'[1]PIVOT allegato I'!J82","v":74901.004270284888},{"$f":"+'[1]PIVOT allegato I'!K82","v":-3.1841943840080544E-2},{"$f":"+'[1]PIVOT allegato I'!L82","v":434050.89650956728},{"$f":"+'[1]PIVOT allegato I'!M82","v":2.7716408718216679E-2}]
[null,null,null,null,null,null,null,null,null,null,null,null,null,null,null,null,0]
[null,"Anno 2014",{"$f":"+'[1]PIVOT allegato I'!B84","v":331648.69427223981},{"$f":"+'[1]PIVOT allegato I'!C84","v":"n.d."},{"$f":"+'[1]PIVOT allegato I'!D84","v":418518.54600492452},{"$f":"+'[1]PIVOT allegato I'!E84","v":"n.d."},{"$f":"+'[1]PIVOT allegato I'!F84","v":185992.18276096517},{"$f":"+'[1]PIVOT allegato I'!G84","v":"n.d."},{"$f":"+'[1]PIVOT allegato I'!H84","v":73487.947395666197},{"$f":"+'[1]PIVOT allegato I'!I84","v":"n.d."},{"$f":"+'[1]PIVOT allegato I'!J84","v":166727.7321836832},{"$f":"+'[1]PIVOT allegato I'!K84","v":"n.d."},{"$f":"+'[1]PIVOT allegato I'!L84","v":1176375.1026174789},{"$f":"+'[1]PIVOT allegato I'!M84","v":"n.d."},null,null,0]
[null,"Anno 2015",{"$f":"+'[1]PIVOT allegato I'!B85","v":343217.01729901065},{"$f":"+'[1]PIVOT allegato I'!C85","v":3.4881256059686949E-2},{"$f":"+'[1]PIVOT allegato I'!D85","v":459558.38801584387},{"$f":"+'[1]PIVOT allegato I'!E85","v":9.8059793054992683E-2},{"$f":"+'[1]PIVOT allegato I'!F85","v":171348.99153097646},{"$f":"+'[1]PIVOT allegato I'!G85","v":-7.8730143453437207E-2},{"$f":"+'[1]PIVOT allegato I'!H85","v":39505.605655333573},{"$f":"+'[1]PIVOT allegato I'!I85","v":-0.4624206137826713},{"$f":"+'[1]PIVOT allegato I'!J85","v":163375.62264625062},{"$f":"+'[1]PIVOT allegato I'!K85","v":-2.0105290784736218E-2},{"$f":"+'[1]PIVOT allegato I'!L85","v":1177005.6251474151},{"$f":"+'[1]PIVOT allegato I'!M85","v":5.359876526911389E-4},null,null,0]
[null,"Anno 2016",{"$f":"+'[1]PIVOT allegato I'!B86","v":310877.10389191203},{"$f":"+'[1]PIVOT allegato I'!C86","v":-9.4225844806885228E-2},{"$f":"+'[1]PIVOT allegato I'!D86","v":440245.70875706966},{"$f":"+'[1]PIVOT allegato I'!E86","v":-4.2024429892700388E-2},{"$f":"+'[1]PIVOT allegato I'!F86","v":160859.78204104901},{"$f":"+'[1]PIVOT allegato I'!G86","v":-6.1215472563964424E-2},{"$f":"+'[1]PIVOT allegato I'!H86","v":32248.153746771128},{"$f":"+'[1]PIVOT allegato I'!I86","v":-0.18370688888761866},{"$f":"+'[1]PIVOT allegato I'!J86","v":163157.81564915579},{"$f":"+'[1]PIVOT allegato I'!K86","v":-1.3331670512830573E-3},{"$f":"+'[1]PIVOT allegato I'!L86","v":1107388.5640859576},{"$f":"+'[1]PIVOT allegato I'!M86","v":-5.9147602674148869E-2},null,null,0]
[null,"Anno 2017",{"$f":"+'[1]PIVOT allegato I'!B87","v":325444.50331145484},{"$f":"+'[1]PIVOT allegato I'!C87","v":4.6859029620295534E-2},{"$f":"+'[1]PIVOT allegato I'!D87","v":397890.46470678219},{"$f":"+'[1]PIVOT allegato I'!E87","v":-9.6208192851822583E-2},{"$f":"+'[1]PIVOT allegato I'!F87","v":136681.69895467689},{"$f":"+'[1]PIVOT allegato I'!G87","v":-0.15030533287806047},{"$f":"+'[1]PIVOT allegato I'!H87","v":35055.336559722738},{"$f":"+'[1]PIVOT allegato I'!I87","v":8.7049411727413428E-2},{"$f":"+'[1]PIVOT allegato I'!J87","v":153865.83599196334},{"$f":"+'[1]PIVOT allegato I'!K87","v":-5.6950870666063191E-2},{"$f":"+'[1]PIVOT allegato I'!L87","v":1048937.8395246},{"$f":"+'[1]PIVOT allegato I'!M87","v":-5.2782488872461064E-2},null,null,0]
[null,"Anno 2018",{"$f":"+'[1]PIVOT allegato I'!B88","v":301164.52266694838},{"$f":"+'[1]PIVOT allegato I'!C88","v":-7.4605594494463467E-2},{"$f":"+'[1]PIVOT allegato I'!D88","v":369639.32390810573},{"$f":"+'[1]PIVOT allegato I'!E88","v":-7.1002306676274829E-2},{"$f":"+'[1]PIVOT allegato I'!F88","v":130788.34315329384},{"$f":"+'[1]PIVOT allegato I'!G88","v":-4.3117373038633833E-2},{"$f":"+'[1]PIVOT allegato I'!H88","v":35330.129742461788},{"$f":"+'[1]PIVOT allegato I'!I88","v":7.8388402368037013E-3},{"$f":"+'[1]PIVOT allegato I'!J88","v":142041.72473627358},{"$f":"+'[1]PIVOT allegato I'!K88","v":-7.6846891835737674E-2},{"$f":"+'[1]PIVOT allegato I'!L88","v":978964.04420708318},{"$f":"+'[1]PIVOT allegato I'!M88","v":-6.6709191603985141E-2},null,null,0]
[null,"Anno 2019",{"$f":"+'[1]PIVOT allegato I'!B89","v":291516.09625137341},{"$f":"+'[1]PIVOT allegato I'!C89","v":-3.2037061769871755E-2},{"$f":"+'[1]PIVOT allegato I'!D89","v":338566.46860441513},{"$f":"+'[1]PIVOT allegato I'!E89","v":-8.4062634286755311E-2},{"$f":"+'[1]PIVOT allegato I'!F89","v":102670.85182296613},{"$f":"+'[1]PIVOT allegato I'!G89","v":-0.21498468940287652},{"$f":"+'[1]PIVOT allegato I'!H89","v":27938.870772488222},{"$f":"+'[1]PIVOT allegato I'!I89","v":-0.20920554280021009},{"$f":"+'[1]PIVOT allegato I'!J89","v":163996.92912324122},{"$f":"+'[1]PIVOT allegato I'!K89","v":0.15456869752695201},{"$f":"+'[1]PIVOT allegato I'!L89","v":924689.21657448437},{"$f":"+'[1]PIVOT allegato I'!M89","v":-5.5441083820968129E-2},null,null,0]
[null,"Anno 2020",{"$f":"+'[1]PIVOT allegato I'!B90","v":288379.64932079281},{"$f":"+'[1]PIVOT allegato I'!C90","v":-1.075908661961511E-2},{"$f":"+'[1]PIVOT allegato I'!D90","v":321368.29342373047},{"$f":"+'[1]PIVOT allegato I'!E90","v":-5.0797042163024164E-2},{"$f":"+'[1]PIVOT allegato I'!F90","v":78667.65647860241},{"$f":"+'[1]PIVOT allegato I'!G90","v":-0.23378782700422207},{"$f":"+'[1]PIVOT allegato I'!H90","v":28065.759945308655},{"$f":"+'[1]PIVOT allegato I'!I90","v":4.5416714889343623E-3},{"$f":"+'[1]PIVOT allegato I'!J90","v":156215.63988292599},{"$f":"+'[1]PIVOT allegato I'!K90","v":-4.7447774064523607E-2},{"$f":"+'[1]PIVOT allegato I'!L90","v":872696.99905136065},{"$f":"+'[1]PIVOT allegato I'!M90","v":-5.622669388935797E-2},null,null,0]
[null,null,null,null,null,null,null,null,null,null,null,null,null,null,null,null,0]
[null,"TOTALE RAMO","Morte",null,"Invalidità permanente",null,"Inabilità temporanea",null,"Infortunio del conducente",null,"Altro",null,"Totale"]
[null,null,"Premi","Variaz. annua","Premi","Variaz. annua","Premi","Variaz. annua","Premi","Variaz. annua","Premi","Variaz. annua","Premi","Variaz. annua"]
[null,"I semestre 2014",{"$f":"+'[1]PIVOT allegato I'!B92","v":284572.18094115093},{"$f":"+'[1]PIVOT allegato I'!C92","v":"n.d."},{"$f":"+'[1]PIVOT allegato I'!D92","v":548186.10940202361},{"$f":"+'[1]PIVOT allegato I'!E92","v":"n.d."},{"$f":"+'[1]PIVOT allegato I'!F92","v":144489.13087246419},{"$f":"+'[1]PIVOT allegato I'!G92","v":"n.d."},{"$f":"+'[1]PIVOT allegato I'!H92","v":389551.81679751514},{"$f":"+'[1]PIVOT allegato I'!I92","v":"n.d."},{"$f":"+'[1]PIVOT allegato I'!J92","v":273805.76198684628},{"$f":"+'[1]PIVOT allegato I'!K92","v":"n.d."},{"$f":"+'[1]PIVOT allegato I'!L92","v":1640605},{"$f":"+'[1]PIVOT allegato I'!M92","v":"n.d."},null,null,0,{"$f":"+C5+C24-C43","v":0},{"$f":"+E5+E24-E43","v":0},{"$f":"+G5+G24-G43","v":0},{"$f":"+I5+I24-I43","v":0},{"$f":"+K5+K24-K43","v":0},{"$f":"+M5+M24-M43","v":0}]
[null,"I semestre 2015",{"$f":"+'[1]PIVOT allegato I'!B93","v":297304.55185549462},{"$f":"+'[1]PIVOT allegato I'!C93","v":4.4742148976876672E-2},{"$f":"+'[1]PIVOT allegato I'!D93","v":560630.88170327165},{"$f":"+'[1]PIVOT allegato I'!E93","v":2.2701728642528174E-2},{"$f":"+'[1]PIVOT allegato I'!F93","v":166449.08926145712},{"$f":"+'[1]PIVOT allegato I'!G93","v":0.15198346239881722},{"$f":"+'[1]PIVOT allegato I'!H93","v":375051.57388552255},{"$f":"+'[1]PIVOT allegato I'!I93","v":-3.7222886113581266E-2},{"$f":"+'[1]PIVOT allegato I'!J93","v":262911.90329425404},{"$f":"+'[1]PIVOT allegato I'!K93","v":-3.9786813153755318E-2},{"$f":"+'[1]PIVOT allegato I'!L93","v":1662348},{"$f":"+'[1]PIVOT allegato I'!M93","v":1.3253037751317365E-2},null,null,0,0,0,0,0,0,0]
[null,"I semestre 2016",{"$f":"+'[1]PIVOT allegato I'!B94","v":290486.35710433271},{"$f":"+'[1]PIVOT allegato I'!C94","v":-2.293336818628966E-2},{"$f":"+'[1]PIVOT allegato I'!D94","v":585055.28246397409},{"$f":"+'[1]PIVOT allegato I'!E94","v":4.3565921103913885E-2},{"$f":"+'[1]PIVOT allegato I'!F94","v":147014.84548587902},{"$f":"+'[1]PIVOT allegato I'!G94","v":-0.11675788592060676},{"$f":"+'[1]PIVOT allegato I'!H94","v":361871.90013364423},{"$f":"+'[1]PIVOT allegato I'!I94","v":-3.5140963722235075E-2},{"$f":"+'[1]PIVOT allegato I'!J94","v":294899.61481216998},{"$f":"+'[1]PIVOT allegato I'!K94","v":0.12166703415522018},{"$f":"+'[1]PIVOT allegato I'!L94","v":1679328},{"$f":"+'[1]PIVOT allegato I'!M94","v":1.0214467728778764E-2},null,null,0,0,0,0,0,0,0]
[null,"I semestre 2017",{"$f":"+'[1]PIVOT allegato I'!B95","v":287562.19665713218},{"$f":"+'[1]PIVOT allegato I'!C95","v":-1.0066429543712729E-2},{"$f":"+'[1]PIVOT allegato I'!D95","v":623356.91941710643},{"$f":"+'[1]PIVOT allegato I'!E95","v":6.5466697081725478E-2},{"$f":"+'[1]PIVOT allegato I'!F95","v":156749.11360364372},{"$f":"+'[1]PIVOT allegato I'!G95","v":6.6212824191960173E-2},{"$f":"+'[1]PIVOT allegato I'!H95","v":388857.76413995022},{"$f":"+'[1]PIVOT allegato I'!I95","v":7.4572974570116468E-2},{"$f":"+'[1]PIVOT allegato I'!J95","v":274294.00618216756},{"$f":"+'[1]PIVOT allegato I'!K95","v":-6.9873297878421226E-2},{"$f":"+'[1]PIVOT allegato I'!L95","v":1730820},{"$f":"+'[1]PIVOT allegato I'!M95","v":3.0662264905962466E-2},null,null,0,0,0,0,0,0,0]
[null,"I semestre 2018",{"$f":"+'[1]PIVOT allegato I'!B96","v":285793.50219219812},{"$f":"+'[1]PIVOT allegato I'!C96","v":-6.1506501393259194E-3},{"$f":"+'[1]PIVOT allegato I'!D96","v":613256.72847200674},{"$f":"+'[1]PIVOT allegato I'!E96","v":-1.6202901789466373E-2},{"$f":"+'[1]PIVOT allegato I'!F96","v":148087.79657617927},{"$f":"+'[1]PIVOT allegato I'!G96","v":-5.5255923483978897E-2},{"$f":"+'[1]PIVOT allegato I'!H96","v":381071.37491043931},{"$f":"+'[1]PIVOT allegato I'!I96","v":-2.0023746334941639E-2},{"$f":"+'[1]PIVOT allegato I'!J96","v":293667.59784917627},{"$f":"+'[1]PIVOT allegato I'!K96","v":7.0630751056740548E-2},{"$f":"+'[1]PIVOT allegato I'!L96","v":1721877},{"$f":"+'[1]PIVOT allegato I'!M96","v":-5.1669151038236105E-3},null,null,0,0,0,0,0,0,0]
[null,"I semestre 2019",{"$f":"+'[1]PIVOT allegato I'!B97","v":299386.4117231436},{"$f":"+'[1]PIVOT allegato I'!C97","v":4.7561996429870357E-2},{"$f":"+'[1]PIVOT allegato I'!D97","v":645276.34893160593},{"$f":"+'[1]PIVOT allegato I'!E97","v":5.2212424214862496E-2},{"$f":"+'[1]PIVOT allegato I'!F97","v":147187.7734566775},{"$f":"+'[1]PIVOT allegato I'!G97","v":-6.077631920458626E-3},{"$f":"+'[1]PIVOT allegato I'!H97","v":386595.76145938499},{"$f":"+'[1]PIVOT allegato I'!I97","v":1.4496986424771485E-2},{"$f":"+'[1]PIVOT allegato I'!J97","v":332188.70442918845},{"$f":"+'[1]PIVOT allegato I'!K97","v":0.13117247821053835},{"$f":"+'[1]PIVOT allegato I'!L97","v":1810635},{"$f":"+'[1]PIVOT allegato I'!M97","v":5.1547235952393855E-2},null,null,0,0,0,0,0,0,0]
[null,"I semestre 2020",{"$f":"+'[1]PIVOT allegato I'!B98","v":280939.75837395695},{"$f":"+'[1]PIVOT allegato I'!C98","v":-6.1614865026824006E-2},{"$f":"+'[1]PIVOT allegato I'!D98","v":593524.53523527761},{"$f":"+'[1]PIVOT allegato I'!E98","v":-8.0201008113833128E-2},{"$f":"+'[1]PIVOT allegato I'!F98","v":137505.50237788219},{"$f":"+'[1]PIVOT allegato I'!G98","v":-6.5781761972540043E-2},{"$f":"+'[1]PIVOT allegato I'!H98","v":364240.15586605167},{"$f":"+'[1]PIVOT allegato I'!I98","v":-5.7826825387173653E-2},{"$f":"+'[1]PIVOT allegato I'!J98","v":369826.04814683128},{"$f":"+'[1]PIVOT allegato I'!K98","v":0.11330109427506385},{"$f":"+'[1]PIVOT allegato I'!L98","v":1746036},{"$f":"+'[1]PIVOT allegato I'!M98","v":-3.5677538543107845E-2},null,null,0,0,0,0,0,0,0]
[null,"I semestre 2021",{"$f":"+'[1]PIVOT allegato I'!B99","v":298594.0726984053},{"$f":"+'[1]PIVOT allegato I'!C99","v":6.2840213242259635E-2},{"$f":"+'[1]PIVOT allegato I'!D99","v":637647.97946947056},{"$f":"+'[1]PIVOT allegato I'!E99","v":7.4341398905610756E-2},{"$f":"+'[1]PIVOT allegato I'!F99","v":129535.36462778461},{"$f":"+'[1]PIVOT allegato I'!G99","v":-5.7962318687398096E-2},{"$f":"+'[1]PIVOT allegato I'!H99","v":373019.14150584815},{"$f":"+'[1]PIVOT allegato I'!I99","v":2.410219054217877E-2},{"$f":"+'[1]PIVOT allegato I'!J99","v":381229.44169849134},{"$f":"+'[1]PIVOT allegato I'!K99","v":3.0834479098488465E-2},{"$f":"+'[1]PIVOT allegato I'!L99","v":1820026},{"$f":"+'[1]PIVOT allegato I'!M99","v":4.2375987665775439E-2}]
[null,null,null,null,null,null,null,null,null,null,null,null,null,null,null,null,0,{"$f":"+C13+C32-C51","v":0},{"$f":"+E13+E32-E51","v":0},{"$f":"+G13+G32-G51","v":0},{"$f":"+I13+I32-I51","v":0},{"$f":"+K13+K32-K51","v":0},{"$f":"+M13+M32-M51","v":0}]
[null,"Anno 2014",{"$f":"+'[1]PIVOT allegato I'!B101","v":634633.78475680458},{"$f":"+'[1]PIVOT allegato I'!C101","v":"n.d."},{"$f":"+'[1]PIVOT allegato I'!D101","v":1125783.0880526237},{"$f":"+'[1]PIVOT allegato I'!E101","v":"n.d."},{"$f":"+'[1]PIVOT allegato I'!F101","v":307700.35929336818},{"$f":"+'[1]PIVOT allegato I'!G101","v":"n.d."},{"$f":"+'[1]PIVOT allegato I'!H101","v":742621.4548344519},{"$f":"+'[1]PIVOT allegato I'!I101","v":"n.d."},{"$f":"+'[1]PIVOT allegato I'!J101","v":570138.31306275132},{"$f":"+'[1]PIVOT allegato I'!K101","v":"n.d."},{"$f":"+'[1]PIVOT allegato I'!L101","v":3380877},{"$f":"+'[1]PIVOT allegato I'!M101","v":"n.d."},null,null,0,0,0,0,0,0,0]
[null,"Anno 2015",{"$f":"+'[1]PIVOT allegato I'!B102","v":634171.35951264005},{"$f":"+'[1]PIVOT allegato I'!C102","v":-7.286489551477926E-4},{"$f":"+'[1]PIVOT allegato I'!D102","v":1192203.8611244552},{"$f":"+'[1]PIVOT allegato I'!E102","v":5.8999618822419775E-2},{"$f":"+'[1]PIVOT allegato I'!F102","v":304992.63701678079},{"$f":"+'[1]PIVOT allegato I'!G102","v":-8.7998671265956396E-3},{"$f":"+'[1]PIVOT allegato I'!H102","v":718581.99351836066},{"$f":"+'[1]PIVOT allegato I'!I102","v":-3.237108375955855E-2},{"$f":"+'[1]PIVOT allegato I'!J102","v":543927.14882776362},{"$f":"+'[1]PIVOT allegato I'!K102","v":-4.5973343019490742E-2},{"$f":"+'[1]PIVOT allegato I'!L102","v":3393877.0000000005},{"$f":"+'[1]PIVOT allegato I'!M102","v":3.8451561532704126E-3},null,null,0,0,0,0,0,0,0]
[null,"Anno 2016",{"$f":"+'[1]PIVOT allegato I'!B103","v":590003.18336630973},{"$f":"+'[1]PIVOT allegato I'!C103","v":-6.9647068546699331E-2},{"$f":"+'[1]PIVOT allegato I'!D103","v":1233609.3453767281},{"$f":"+'[1]PIVOT allegato I'!E103","v":3.4730204793348207E-2},{"$f":"+'[1]PIVOT allegato I'!F103","v":291925.55355503265},{"$f":"+'[1]PIVOT allegato I'!G103","v":-4.2843930888171511E-2},{"$f":"+'[1]PIVOT allegato I'!H103","v":736535.23393219034},{"$f":"+'[1]PIVOT allegato I'!I103","v":2.4984261470185176E-2},{"$f":"+'[1]PIVOT allegato I'!J103","v":570545.68376973888},{"$f":"+'[1]PIVOT allegato I'!K103","v":4.8937684025042394E-2},{"$f":"+'[1]PIVOT allegato I'!L103","v":3422619},{"$f":"+'[1]PIVOT allegato I'!M103","v":8.468780689459221E-3},null,null,0,0,0,0,0,0,0]
[null,"Anno 2017",{"$f":"+'[1]PIVOT allegato I'!B104","v":605992.73219288012},{"$f":"+'[1]PIVOT allegato I'!C104","v":2.7100783991267141E-2},{"$f":"+'[1]PIVOT allegato I'!D104","v":1252238.0889612879},{"$f":"+'[1]PIVOT allegato I'!E104","v":1.5101007182197312E-2},{"$f":"+'[1]PIVOT allegato I'!F104","v":279575.12329703005},{"$f":"+'[1]PIVOT allegato I'!G104","v":-4.2306780299294133E-2},{"$f":"+'[1]PIVOT allegato I'!H104","v":777090.02991175046},{"$f":"+'[1]PIVOT allegato I'!I104","v":5.506158308686393E-2},{"$f":"+'[1]PIVOT allegato I'!J104","v":599574.02563705086},{"$f":"+'[1]PIVOT allegato I'!K104","v":5.087820781591823E-2},{"$f":"+'[1]PIVOT allegato I'!L104","v":3514470},{"$f":"+'[1]PIVOT allegato I'!M104","v":2.6836466460333552E-2},null,null,0,0,0,0,0,0,0]
[null,"Anno 2018",{"$f":"+'[1]PIVOT allegato I'!B105","v":605103.50687916635},{"$f":"+'[1]PIVOT allegato I'!C105","v":-1.4673861029586011E-3},{"$f":"+'[1]PIVOT allegato I'!D105","v":1267368.1630867748},{"$f":"+'[1]PIVOT allegato I'!E105","v":1.2082426064868423E-2},{"$f":"+'[1]PIVOT allegato I'!F105","v":301350.19468737161},{"$f":"+'[1]PIVOT allegato I'!G105","v":7.7886298085280581E-2},{"$f":"+'[1]PIVOT allegato I'!H105","v":760215.65723625477},{"$f":"+'[1]PIVOT allegato I'!I105","v":-2.1714823284262219E-2},{"$f":"+'[1]PIVOT allegato I'!J105","v":607997.47811043309},{"$f":"+'[1]PIVOT allegato I'!K105","v":1.4049061689142217E-2},{"$f":"+'[1]PIVOT allegato I'!L105","v":3542035},{"$f":"+'[1]PIVOT allegato I'!M105","v":7.8432878926266714E-3},null,null,0,0,0,0,0,0,0]
[null,"Anno 2019",{"$f":"+'[1]PIVOT allegato I'!B106","v":594248.39400336286},{"$f":"+'[1]PIVOT allegato I'!C106","v":-1.7939266179085589E-2},{"$f":"+'[1]PIVOT allegato I'!D106","v":1265093.626170526},{"$f":"+'[1]PIVOT allegato I'!E106","v":-1.7946931148317136E-3},{"$f":"+'[1]PIVOT allegato I'!F106","v":285116.96894029499},{"$f":"+'[1]PIVOT allegato I'!G106","v":-5.3868310136375941E-2},{"$f":"+'[1]PIVOT allegato I'!H106","v":757749.76753527892},{"$f":"+'[1]PIVOT allegato I'!I106","v":-3.2436712891977804E-3},{"$f":"+'[1]PIVOT allegato I'!J106","v":756736.24335053645},{"$f":"+'[1]PIVOT allegato I'!K106","v":0.24463714175651119},{"$f":"+'[1]PIVOT allegato I'!L106","v":3658945},{"$f":"+'[1]PIVOT allegato I'!M106","v":3.3006449682174255E-2},null,null,0,0,0,0,0,0,0]
[null,"Anno 2020",{"$f":"+'[1]PIVOT allegato I'!B107","v":596490.54406982043},{"$f":"+'[1]PIVOT allegato I'!C107","v":3.7730856138331603E-3},{"$f":"+'[1]PIVOT allegato I'!D107","v":1252228.3372477752},{"$f":"+'[1]PIVOT allegato I'!E107","v":-1.0169436203464555E-2},{"$f":"+'[1]PIVOT allegato I'!F107","v":274775.38558577182},{"$f":"+'[1]PIVOT allegato I'!G107","v":-3.6271370984898299E-2},{"$f":"+'[1]PIVOT allegato I'!H107","v":727597.4842128671},{"$f":"+'[1]PIVOT allegato I'!I107","v":-3.9791874064821764E-2},{"$f":"+'[1]PIVOT allegato I'!J107","v":733597.24888376531},{"$f":"+'[1]PIVOT allegato I'!K107","v":-3.057735726297528E-2},{"$f":"+'[1]PIVOT allegato I'!L107","v":3584689},{"$f":"+'[1]PIVOT allegato I'!M107","v":-2.0294374471329868E-2},null,null,0,0,0,0,0,0,0]
[]
[null,"Eventuali varizioni dei dati relativi a semestri precedenti rispetto a quelli già pubblicati in passato sono dovute ad affinamenti nella ripartizione dei premi da parte delle imprese."]
[]
[]
[]
[]
[]
[]
[]
[]
[]
[]
[]
[]
[]
[]
[]
[]
[]
[]
[]
[]
[]
[]
[]
[]
[]
[]
[]
[]
[]
[]
[]
[]
[]
[]
[]
[null,null,null,null,null,null,null,null,null,null,null,null,null,null,null,null,"TIPOLOGIA","GARANZIA","I semestre 2014","I semestre 2015","I semestre 2016","I semestre 2017","I semestre 2018","I semestre 2019","I semestre 2020","I semestre 2021","Anno 2014","Anno 2015","Anno 2016","Anno 2017","Anno 2018","Anno 2019","Anno 2020"]
[null,null,null,null,null,null,null,null,null,null,null,null,null,null,null,null,"IND","Morte",155714.86016259788,147320.35602642025,147484.58464210582,151115.29564877669,150833.25960621421,160530.63745423045,144969.57973015527,147218.58147149309,302985.09048456477,290954.3422136294,279126.0794743977,280548.2288814254,303938.98421221791,302732.29775198945,308110.89474902768]
[null,null,null,null,null,null,null,null,null,null,null,null,null,null,null,null,null,"Invalidità permanente",381986.66178494738,374277.35438879818,381422.99682659935,439899.14554646931,444956.56355058221,482436.22152585461,436765.32388480409,480883.22046210436,707264.5420476991,732645.4731086113,793363.63661965833,854347.62425450585,897728.83917866915,926527.15756611084,930860.04382404464]
[null,null,null,null,null,null,null,null,null,null,null,null,null,null,null,null,null,"Inabilità temporanea",61182.571704770249,68711.214601865446,64996.781374442136,70738.211521314501,84144.4964070485,92394.237708872621,95079.826849530175,100392.0337645423,121708.176532403,133643.64548580433,131065.77151398368,142893.42434235313,170561.85153407772,182446.11711732889,196107.72910716935]
[null,null,null,null,null,null,null,null,null,null,null,null,null,null,null,null,null,"Infortunio del conducente",367136.20982634556,355647.89813221048,348340.57899827039,372443.3711639861,370637.95046345307,376920.36385737313,354414.65015752625,351420.04659557226,669133.50743878563,679076.38786302705,704287.08018541918,742034.69335202768,724885.52749379305,729810.89676279062,699531.72426755843]
[null,null,null,null,null,null,null,null,null,null,null,null,null,null,null,null,null,"Altro",212107.38886646606,191707.07894460746,223976.59588029131,211832.17890393952,232968.53502548757,270862.48228011734,292461.60977468104,307310.60948254075,403410.58087906806,380551.52618151309,407387.86812058307,445708.18964508752,465955.75337415945,592739.31422729522,577381.60900083941]
[null,null,null,null,null,null,null,null,null,null,null,null,null,null,null,null,null,"Totale",1178127.692345127,1137663.9020939018,1166221.5377217091,1246028.2027844861,1283540.8050527859,1383143.9428264478,1323690.9903966971,1387224.4917762526,2204501.8973825211,2216871.3748525851,2315230.4359140424,2465532.1604753998,2563070.9557929169,2734255.7834255155,2711992.0009486396]
[null,null,null,null,null,null,null,null,null,null,null,null,null,null,null,null,"COL","Morte",128857.32077855307,149984.19582907434,143001.77246222689,136446.90100835552,134960.24258598388,138855.77426891314,135970.17864380172,151331.09432431546,331648.69427223981,343217.01729901065,310877.10389191203,325444.50331145484,301164.52266694838,291516.09625137341,288379.64932079281]
[null,null,null,null,null,null,null,null,null,null,null,null,null,null,null,null,null,"Invalidità permanente",166199.44761707616,186353.52731447341,203632.28563737476,183457.77387063703,168300.16492142453,162840.12740575135,156759.21135047355,156331.47351003424,418518.54600492452,459558.38801584387,440245.70875706966,397890.46470678219,369639.32390810573,338566.46860441513,321368.29342373047]
[null,null,null,null,null,null,null,null,null,null,null,null,null,null,null,null,null,"Inabilità temporanea",83306.559167693908,97737.874659591675,82018.064111436906,86010.902082329208,63943.30016913078,54793.535747804868,42425.675528352018,29738.26556810697,185992.18276096517,171348.99153097646,160859.78204104901,136681.69895467689,130788.34315329384,102670.85182296613,78667.65647860241]
[null,null,null,null,null,null,null,null,null,null,null,null,null,null,null,null,null,"Infortunio del conducente",22415.606971169582,19403.675753312073,13531.321135373808,16414.392975964111,10433.424446986253,9675.3976020118807,9825.5057085254084,20815.534319403389,73487.947395666197,39505.605655333573,32248.153746771128,35055.336559722738,35330.129742461788,27938.870772488222,28065.759945308655]
[null,null,null,null,null,null,null,null,null,null,null,null,null,null,null,null,null,"Altro",61698.373120380173,71204.824349646588,70923.018931878672,62461.827278228098,60699.062823688691,61326.222149071102,77364.438372150267,74585.14050188729,166727.7321836832,163375.62264625062,163157.81564915579,153865.83599196334,142041.72473627358,163996.92912324122,156215.63988292599]
[null,null,null,null,null,null,null,null,null,null,null,null,null,null,null,null,null,"Totale",462477.30765487289,524684.09790609812,513106.462278291,484791.79721551394,438336.1949472141,427491.05717355228,422345.00960330298,432801.50822374725,1176375.1026174789,1177005.6251474151,1107388.5640859576,1048937.8395246,978964.04420708318,924689.21657448437,872696.99905136065]
[null,null,null,null,null,null,null,null,null,null,null,null,null,null,null,null,"TOT","Morte",284572.18094115093,297304.55185549462,290486.35710433271,287562.19665713218,285793.50219219812,299386.4117231436,280939.75837395695,298549.67579580855,634633.78475680458,634171.35951264005,590003.18336630973,605992.73219288012,605103.50687916635,594248.39400336286,596490.54406982043]
[null,null,null,null,null,null,null,null,null,null,null,null,null,null,null,null,null,"Invalidità permanente",548186.10940202361,560630.88170327165,585055.28246397409,623356.91941710643,613256.72847200674,645276.34893160593,593524.53523527761,637214.69397213869,1125783.0880526237,1192203.8611244552,1233609.3453767281,1252238.0889612879,1267368.1630867748,1265093.626170526,1252228.3372477752]
[null,null,null,null,null,null,null,null,null,null,null,null,null,null,null,null,null,"Inabilità temporanea",144489.13087246419,166449.08926145712,147014.84548587902,156749.11360364372,148087.79657617927,147187.7734566775,137505.50237788219,130130.29933264926,307700.35929336818,304992.63701678079,291925.55355503265,279575.12329703005,301350.19468737161,285116.96894029499,274775.38558577182]
[null,null,null,null,null,null,null,null,null,null,null,null,null,null,null,null,null,"Infortunio del conducente",389551.81679751514,375051.57388552255,361871.90013364423,388857.76413995022,381071.37491043931,386595.76145938499,364240.15586605167,372235.58091497567,742621.4548344519,718581.99351836066,736535.23393219034,777090.02991175046,760215.65723625477,757749.76753527892,727597.4842128671]
[null,null,null,null,null,null,null,null,null,null,null,null,null,null,null,null,null,"Altro",273805.76198684628,262911.90329425404,294899.61481216998,274294.00618216756,293667.59784917627,332188.70442918845,369826.04814683128,381895.74998442805,570138.31306275132,543927.14882776362,570545.68376973888,599574.02563705086,607997.47811043309,756736.24335053645,733597.24888376531]
[null,null,null,null,null,null,null,null,null,null,null,null,null,null,null,null,null,"Totale",1640605,1662348,1679328,1730820,1721877,1810635,1746036,1820026,3380877,3393877.0000000005,3422619,3514470,3542035,3658945,3584689]
[]
[null,null,null,null,null,null,null,null,null,null,null,null,null,null,null,null,null,{"$f":"+R96","v":"GARANZIA"},{"$f":"+S96","v":"I semestre 2014"},"I semestre 2015","I semestre 2016","I semestre 2017","I semestre 2018","I semestre 2019","I semestre 2020",{"$f":"+Z96","v":"I semestre 2021"},{"$f":"+AA96","v":"Anno 2014"},"Anno 2015","Anno 2016","Anno 2017","Anno 2018","Anno 2019","Anno 2020"]
[null,null,null,null,null,null,null,null,null,null,null,null,null,null,null,null,{"$f":"+Q97","v":"IND"},{"$f":"+R102","v":"Totale"},{"$f":"+S102","v":1178127.692345127},1137663.9020939018,1166221.5377217091,1246028.2027844861,1283540.8050527859,1383143.9428264478,1323690.9903966971,{"$f":"+Z102","v":1387224.4917762526},{"$f":"+AA102","v":2204501.8973825211},2216871.3748525851,2315230.4359140424,2465532.1604753998,2563070.9557929169,2734255.7834255155,2711992.0009486396]
[null,null,null,null,null,null,null,null,null,null,null,null,null,null,null,null,{"$f":"+Q103","v":"COL"},{"$f":"+R108","v":"Totale"},{"$f":"+S108","v":462477.30765487289},524684.09790609812,513106.462278291,484791.79721551394,438336.1949472141,427491.05717355228,422345.00960330298,{"$f":"+Z108","v":432801.50822374725},{"$f":"+AA108","v":1176375.1026174789},1177005.6251474151,1107388.5640859576,1048937.8395246,978964.04420708318,924689.21657448437,872696.99905136065]
[null,null,null,null,null,null,null,null,null,null,null,null,null,null,null,null,{"$f":"+Q109","v":"TOT"},{"$f":"+R114","v":"Totale"},{"$f":"+S114","v":1640605},1662348,1679328,1730820,1721877,1810635,{"$f":"+Y114","v":1746036},1820026,{"$f":"+AA114","v":3380877},3393877.0000000005,3422619,3514470,3542035,3658945,3584689]
[null,null,null,null,null,null,null,null,null,null,null,null,null,null,null,null,null,"Individuali ",{"$f":"+S117/S$119","v":0.7181056331933201},{"$f":"+T117/T$119","v":0.68437168516694569},0.69445726964697141,0.71990628880212049,0.74543118065505598,0.76389992617310931,{"$f":"+Y117/Y$119","v":0.75811208382684958},0.76220037064099777,{"$f":"+AA117/AA$119","v":0.65205031043203321},0.65319732413772946,0.67644994546984116,0.70153740406815246,0.7236153668139691,0.74727982613171706,0.75654875526123455]
[null,null,null,null,null,null,null,null,null,null,null,null,null,null,null,null,null,"Collettive",{"$f":"+S118/S$119","v":0.28189436680667979},{"$f":"+T118/T$119","v":0.31562831483305426},0.3055427303530287,0.28009371119787957,0.25456881934494396,0.23610007382689072,{"$f":"+Y118/Y$119","v":0.24188791617315047},0.23779962935900215,0.34794968956796679,0.34680267586227048,0.32355005453015878,0.29846259593184749,0.27638463318603096,0.25272017386828288,0.24345124473876553]
[]
[]
[]
[null,null,null,null,null,null,null,null,null,null,null,null,null,null,null,null,null,null,"I semestre 2014","I semestre 2015","I semestre 2016","I semestre 2017","I semestre 2018","I semestre 2019","I semestre 2020","I semestre 2021","Anno 2014","Anno 2015","Anno 2016","Anno 2017","Anno 2018","Anno 2019","Anno 2020"]
[]
[null,null,null,null,null,null,null,null,null,null,null,null,null,null,null,null,null,"INDIVIDUALI"]
[null,null,null,null,null,null,null,null,null,null,null,null,null,null,null,null,null,"Morte",{"$f":"+S97/S$102","v":0.13217146254548945},{"$f":"+T97/T$102","v":0.12949374218103701},{"$f":"+U97/U$102","v":0.12646360907570503},0.121277588509699,0.11751341212717516,{"$f":"+X97/X$102","v":0.11606213387030918},0.10951920106875497,0.10612455470923028,0.13743925139928848,0.1312454775293298,0.12056081984089848,0.11378810359031397,0.11858391338143455,0.11071835326712631,0.11361054702272433]
[null,null,null,null,null,null,null,null,null,null,null,null,null,null,null,null,null,"Invalidità permanente",{"$f":"+S98/S$102","v":0.32423196930765819},0.32898763307856599,{"$f":"+U98/U$102","v":0.32705878299223867},0.35304108250794913,0.34666335639581264,0.3487968291572015,{"$f":"+Y98/Y$102","v":0.3299601848569732},0.34665133387773744,{"$f":"+AA98/AA$102","v":0.32082736825378011},0.33048623452830223,0.34267156491765882,0.34651652002372257,0.35025516447356642,0.33885899160660971,0.34323849166901488]
[null,null,null,null,null,null,null,null,null,null,null,null,null,null,null,null,null,"Inabilità temporanea",5.1932037674951026E-2,6.0396760831912276E-2,{"$f":"+U99/U$102","v":5.573279113110674E-2},5.677095539509986E-2,6.5556541775536339E-2,6.6800160741090658E-2,{"$f":"+Y99/Y$102","v":7.1829322356447928E-2},7.236898884044117E-2,5.5208923465618787E-2,6.0284799110048144E-2,5.6610249019225387E-2,5.79564228092651E-2,6.6545895324740381E-2,6.6726060606062884E-2,7.2311322835234018E-2]
[null,null,null,null,null,null,null,null,null,null,null,null,null,null,null,null,null,"Infortunio del conducente",0.31162683995275675,0.31261244861301368,{"$f":"+U100/U$102","v":0.29869160166496045},0.2989044472121023,0.28876210947435405,0.27250986118417886,{"$f":"+Y100/Y$102","v":0.2677472708727221},0.253326010807091,0.3035304747223263,0.30632196146616014,0.30419740050945288,0.30096329922094783,0.28281914156744092,0.26691390805013598,0.25794018714762662]
[null,null,null,null,null,null,null,null,null,null,null,null,null,null,null,null,null,"Altro",{"$f":"+S101/S$102","v":0.18003769051914467},{"$f":"+T101/T$102","v":0.16850941529547109},{"$f":"+U101/U$102","v":0.192053215135989},0.17000592637514977,0.18150458022712154,0.19583101504722003,{"$f":"+Y101/Y$102","v":0.22094402084510162},0.22152911176550025,0.1829939821589861,0.17166152736615969,0.17595996571276423,0.18077565435575044,0.1817958852528179,0.21678268647006491,0.21289945132540014]
[null,null,null,null,null,null,null,null,null,null,null,null,null,null,null,null,null,"Totale",1,1,{"$f":"+U102/U$102","v":1},1,1,1,{"$f":"+Y102/Y$102","v":1},1,1,1,1,1,1,1,1]
[]
[null,null,null,null,null,null,null,null,null,null,null,null,null,null,null,null,null,"COLLETTIVE ORIGINALE"]
[null,null,null,null,null,null,null,null,null,null,null,null,null,null,null,null,null,"Morte",{"$f":"+S103/S$108","v":0.27862409386519305},{"$f":"+T103/T$108","v":0.28585618742330698},{"$f":"+U103/U$108","v":0.27869805386443902},0.28145464051178681,0.30789207950814157,0.32481562348224902,0.32194100925097885,{"$f":"+Z103/Z$108","v":0.34965472959045507},{"$f":"+AA103/AA$108","v":0.28192427188769037},0.29160184961395075,0.28072992080111564,0.31026100026952308,0.30763593867319006,0.31525845768083699,0.33044647756812195]
[null,null,null,null,null,null,null,null,null,null,null,null,null,null,null,null,null,"Invalidità permanente",{"$f":"+S104/S$108","v":0.35936778922157137},0.35517281361903369,{"$f":"+U104/U$108","v":0.39686166635518172},0.37842590349993271,0.38395224227762387,0.38092054716279533,0.37116387736583689,{"$f":"+Z104/Z$108","v":0.36120824567278281},0.35576963935542749,0.39044706176173632,0.39755305683552006,0.37932701988052436,0.37758212479345649,0.3661408206517604,0.36824727685905229]
[null,null,null,null,null,null,null,null,null,null,null,null,null,null,null,null,null,"Inabilità temporanea",0.1801311281414526,0.18627946806400766,{"$f":"+U105/U$108","v":0.15984609460434582},0.17741822897241205,0.1458772989915447,0.12817469471778881,0.10045265023541129,{"$f":"+Z105/Z$108","v":6.8711095047138904E-2},0.15810618768378007,0.14558043553064218,0.14526046887058405,0.13030486059748195,0.13359871991951094,0.11103282052245704,9.0143149986897805E-2]
[null,null,null,null,null,null,null,null,null,null,null,null,null,null,null,null,null,"Infortunio del conducente",4.8468555321848128E-2,3.6981634912794173E-2,{"$f":"+U106/U$108","v":2.637137149918586E-2},3.3858644206117006E-2,2.3802333841590886E-2,2.2632982467476213E-2,2.3264169068208558E-2,{"$f":"+Z106/Z$108","v":4.8094874726365998E-2},6.2469825510717412E-2,3.356450029742692E-2,2.9120901906178585E-2,3.3419841709219425E-2,3.6089302719057068E-2,3.0214336094442525E-2,3.2159798848645872E-2]
[null,null,null,null,null,null,null,null,null,null,null,null,null,null,null,null,null,"Altro",0.13340843344993489,0.13570989598085742,{"$f":"+U107/U$108","v":0.13822281367684763},0.12884258280975147,0.13847604538109903,0.14345615216969079,0.18317829407956435,{"$f":"+Z107/Z$108","v":0.1723310549632574},0.14173007556238457,0.13880615279624386,0.1473356515866017,0.14668727754325125,0.14509391389478557,0.17735356505050273,0.17900329673728174]
[null,null,null,null,null,null,null,null,null,null,null,null,null,null,null,null,null,"Totale",1,1,{"$f":"+U108/U$108","v":1},1,1,1,1,{"$f":"+Z108/Z$108","v":1},1,1,1,1,1,1,1]
[]
[null,null,null,null,null,null,null,null,null,null,null,null,null,null,null,null,null,"TOTALE"]
[null,null,null,null,null,null,null,null,null,null,null,null,null,null,null,null,null,"Morte",{"$f":"+S109/S$114","v":0.17345563431852939},{"$f":"+T109/T$114","v":0.17884615727603043},{"$f":"+U109/U$114","v":0.17297773699023222},0.1661421734536995,0.1659778847108116,0.16534884817930925,0.16090146959968576,{"$f":"+Z109/Z$114","v":0.16403594003371849},{"$f":"+AA109/AA$114","v":0.18771276942544926},0.18685749645984223,0.17238354119062324,0.17242791436344032,0.17083498804477268,0.16240976401759602,0.1663995242180899]
[null,null,null,null,null,null,null,null,null,null,null,null,null,null,null,null,null,"Invalidità permanente",{"$f":"+S110/S$114","v":0.33413655901452427},0.33725241748615309,{"$f":"+U110/U$114","v":0.34838654656146628},0.36015121122768773,0.35615594404943368,0.35638124134991644,0.33992686017658147,{"$f":"+Z110/Z$114","v":0.35011296210721093},0.33298552063639808,0.3512808098597725,0.36042847462037936,0.35630922698480505,0.3578079163776684,0.34575366018634496,0.34932691155293394]
[null,null,null,null,null,null,null,null,null,null,null,null,null,null,null,null,null,"Inabilità temporanea",8.8070639107197757E-2,0.10012890758220128,{"$f":"+U111/U$114","v":8.7543854140393673E-2},9.0563497997275116E-2,8.6003702108907468E-2,8.1290692744080115E-2,7.8752959491031227E-2,{"$f":"+Z111/Z$114","v":7.1499143052159292E-2},9.1011994607721067E-2,8.9865554060085492E-2,8.5293032486243037E-2,7.9549725363150081E-2,8.5078265654453339E-2,7.7923272675674268E-2,7.6652503351273105E-2]
[null,null,null,null,null,null,null,null,null,null,null,null,null,null,null,null,null,"Infortunio del conducente",0.23744400193679474,0.22561555936874983,{"$f":"+U112/U$114","v":0.21548613500974451},0.22466678461073378,0.22131161221762025,0.21351391167153236,0.20860976283768012,{"$f":"+Z112/Z$114","v":0.20452212271416764},0.21965349666209444,0.21172894407144413,0.21519638438639835,0.2211115843674154,0.2146268055612818,0.20709515107094503,0.20297367057863794]
[null,null,null,null,null,null,null,null,null,null,null,null,null,null,null,null,null,"Altro",0.16689316562295389,0.15815695828686535,{"$f":"+U113/U$114","v":0.17560572729816329},0.15847633271060396,0.17055085691322683,0.18346530605516212,0.21180894789502122,{"$f":"+Z113/Z$114","v":0.20982983209274375},0.16863621866833703,0.16026719554885566,0.16669856731635596,0.17060154892118892,0.17165202436182395,0.20681815204943951,0.20464739029906509]
[null,null,null,null,null,null,null,null,null,null,null,null,null,null,null,null,null,"Totale",1,1,{"$f":"+U114/U$114","v":1},1,1,1,1,{"$f":"+Z114/Z$114","v":1},1,1,1,1,1,1,1]

{"sheet":"TAVOLA2mal (anno 2015-2016)","index":31,"n_rows":37,"n_cols":24,"rows_kept":37,"cut":false,"hidden":true,"merged":[[27,0,27,23],[2,1,2,8],[2,15,2,20],[2,22,3,23],[3,0,4,0],[3,3,3,4],[3,6,3,8],[3,15,3,16],[3,18,3,20]]}
["Tavola 2 - Distribuzione % dei premi per principali tipologie"]
["Importi in migliaia"]
[null,"Premi Contabilizzati",null,null,null,null,null,null,null,null,null,null,null,null,null,"di cui: Premi Nuova Produzione",null,null,null,null,null,null,"% Nuova Prod. su Contab."]
["Garanzie assicurative","I semestre 2014",null,2015,null,null,2016,null,null,null,"Anno 2014",null,"Anno 2015",null,null,2015,null,null,2016]
[null,"Premi","Distrib. %","Premi","Distrib.","Var. % annua","Premi","Distrib.","Var. annua",null,"Premi","Distrib. %","Premi","Distrib. %","Var. % annua","Premi","Distrib.","Var. % annua","Premi","Distrib.","Var. annua",null,2015,2016]
["POLIZZE INDIVIDUALI"]
["Rimborso spese mediche",{"$f":"(+#REF!)/1000","v":{"$error":"#REF!"}},{"$f":"+#REF!","v":{"$error":"#REF!"}},{"$f":"(+#REF!)/1000","v":{"$error":"#REF!"}},{"$f":"+D7/$D$12","v":{"$error":"#REF!"}},{"$f":"+D7/B7-1","v":{"$error":"#REF!"}},{"$f":"+#REF!/1000","v":{"$error":"#REF!"}},{"$f":"+G7/$G$12","v":{"$error":"#REF!"}},{"$f":"+G7/D7-1","v":{"$error":"#REF!"}},null,{"$f":"(+#REF!)/1000","v":{"$error":"#REF!"}},{"$f":"+#REF!","v":{"$error":"#REF!"}},{"$f":"(+#REF!)/1000","v":{"$error":"#REF!"}},{"$f":"+#REF!","v":{"$error":"#REF!"}},{"$f":"+M7/K7-1","v":{"$error":"#REF!"}},{"$f":"+#REF!/1000","v":{"$error":"#REF!"}},{"$f":"+P7/$P$12","v":{"$error":"#REF!"}},{"$f":"+P7/N7-1","v":{"$error":"#REF!"}},{"$f":"+#REF!/1000","v":{"$error":"#REF!"}},{"$f":"+S7/$S$12","v":{"$error":"#REF!"}},{"$f":"+S7/P7-1","v":{"$error":"#REF!"}},null,{"$f":"+P7/D7","v":{"$error":"#REF!"}},{"$f":"+S7/G7","v":{"$error":"#REF!"}}]
["Invalidità permanente",{"$f":"(+#REF!)/1000","v":{"$error":"#REF!"}},{"$f":"+#REF!","v":{"$error":"#REF!"}},{"$f":"(+#REF!)/1000","v":{"$error":"#REF!"}},{"$error":"#REF!"},{"$error":"#REF!"},{"$f":"+#REF!/1000","v":{"$error":"#REF!"}},{"$error":"#REF!"},{"$error":"#REF!"},null,{"$f":"(+#REF!)/1000","v":{"$error":"#REF!"}},{"$f":"+#REF!","v":{"$error":"#REF!"}},{"$f":"(+#REF!)/1000","v":{"$error":"#REF!"}},{"$f":"+#REF!","v":{"$error":"#REF!"}},{"$error":"#REF!"},{"$f":"+#REF!/1000","v":{"$error":"#REF!"}},{"$error":"#REF!"},{"$error":"#REF!"},{"$f":"+#REF!/1000","v":{"$error":"#REF!"}},{"$error":"#REF!"},{"$error":"#REF!"},null,{"$error":"#REF!"},{"$error":"#REF!"}]
["Diaria",{"$f":"(+#REF!)/1000","v":{"$error":"#REF!"}},{"$f":"+#REF!","v":{"$error":"#REF!"}},{"$f":"(+#REF!)/1000","v":{"$error":"#REF!"}},{"$error":"#REF!"},{"$error":"#REF!"},{"$f":"+#REF!/1000","v":{"$error":"#REF!"}},{"$error":"#REF!"},{"$error":"#REF!"},null,{"$f":"(+#REF!)/1000","v":{"$error":"#REF!"}},{"$f":"+#REF!","v":{"$error":"#REF!"}},{"$f":"(+#REF!)/1000","v":{"$error":"#REF!"}},{"$f":"+#REF!","v":{"$error":"#REF!"}},{"$error":"#REF!"},{"$f":"+#REF!/1000","v":{"$error":"#REF!"}},{"$error":"#REF!"},{"$error":"#REF!"},{"$f":"+#REF!/1000","v":{"$error":"#REF!"}},{"$error":"#REF!"},{"$error":"#REF!"},null,{"$error":"#REF!"},{"$error":"#REF!"}]
["Long term care",{"$f":"(+#REF!)/1000","v":{"$error":"#REF!"}},{"$f":"+#REF!","v":{"$error":"#REF!"}},{"$f":"(+#REF!)/1000","v":{"$error":"#REF!"}},{"$error":"#REF!"},{"$error":"#REF!"},{"$f":"+#REF!/1000","v":{"$error":"#REF!"}},{"$error":"#REF!"},{"$error":"#REF!"},null,{"$f":"(+#REF!)/1000","v":{"$error":"#REF!"}},{"$f":"+#REF!","v":{"$error":"#REF!"}},{"$f":"(+#REF!)/1000","v":{"$error":"#REF!"}},{"$f":"+#REF!","v":{"$error":"#REF!"}},{"$error":"#REF!"},{"$f":"+#REF!/1000","v":{"$error":"#REF!"}},{"$error":"#REF!"},{"$error":"#REF!"},{"$f":"+#REF!/1000","v":{"$error":"#REF!"}},{"$error":"#REF!"},{"$error":"#REF!"},null,{"$error":"#REF!"},{"$error":"#REF!"}]
["Altro*",{"$f":"(+#REF!)/1000","v":{"$error":"#REF!"}},{"$f":"+#REF!","v":{"$error":"#REF!"}},{"$f":"(+#REF!)/1000","v":{"$error":"#REF!"}},{"$error":"#REF!"},{"$error":"#REF!"},{"$f":"+#REF!/1000","v":{"$error":"#REF!"}},{"$error":"#REF!"},{"$error":"#REF!"},null,{"$f":"(+#REF!)/1000","v":{"$error":"#REF!"}},{"$f":"+#REF!","v":{"$error":"#REF!"}},{"$f":"(+#REF!)/1000","v":{"$error":"#REF!"}},{"$f":"+#REF!","v":{"$error":"#REF!"}},{"$error":"#REF!"},{"$f":"+#REF!/1000","v":{"$error":"#REF!"}},{"$error":"#REF!"},{"$error":"#REF!"},{"$f":"+#REF!/1000","v":{"$error":"#REF!"}},{"$error":"#REF!"},{"$error":"#REF!"},null,{"$error":"#REF!"},{"$error":"#REF!"}]
["Totale",{"$f":"(+#REF!)/1000","v":{"$error":"#REF!"}},{"$f":"+#REF!","v":{"$error":"#REF!"}},{"$f":"(+#REF!)/1000","v":{"$error":"#REF!"}},{"$error":"#REF!"},{"$error":"#REF!"},{"$f":"+#REF!/1000","v":{"$error":"#REF!"}},{"$error":"#REF!"},{"$error":"#REF!"},null,{"$f":"(+#REF!)/1000","v":{"$error":"#REF!"}},{"$f":"+#REF!","v":{"$error":"#REF!"}},{"$f":"(+#REF!)/1000","v":{"$error":"#REF!"}},{"$f":"+#REF!","v":{"$error":"#REF!"}},{"$error":"#REF!"},{"$f":"+#REF!/1000","v":{"$error":"#REF!"}},{"$error":"#REF!"},{"$error":"#REF!"},{"$f":"+#REF!/1000","v":{"$error":"#REF!"}},{"$error":"#REF!"},{"$error":"#REF!"},null,{"$error":"#REF!"},{"$error":"#REF!"}]
["POLIZZE COLLETTIVE"]
["Rimborso spese mediche",{"$f":"(+#REF!)/1000","v":{"$error":"#REF!"}},{"$f":"+#REF!","v":{"$error":"#REF!"}},{"$f":"+#REF!/1000","v":{"$error":"#REF!"}},{"$f":"+D14/$D$19","v":{"$error":"#REF!"}},{"$f":"+D14/B14-1","v":{"$error":"#REF!"}},{"$f":"+#REF!/1000","v":{"$error":"#REF!"}},{"$f":"+G14/$G$19","v":{"$error":"#REF!"}},{"$f":"+G14/D14-1","v":{"$error":"#REF!"}},null,{"$f":"(+#REF!)/1000","v":{"$error":"#REF!"}},{"$f":"+#REF!","v":{"$error":"#REF!"}},{"$f":"(+#REF!)/1000","v":{"$error":"#REF!"}},{"$f":"+#REF!","v":{"$error":"#REF!"}},{"$f":"+M14/K14-1","v":{"$error":"#REF!"}},{"$f":"(+#REF!)/1000","v":{"$error":"#REF!"}},{"$f":"+P14/$P$19","v":{"$error":"#REF!"}},{"$f":"+P14/N14-1","v":{"$error":"#REF!"}},{"$f":"+#REF!/1000","v":{"$error":"#REF!"}},{"$f":"+S14/$S$19","v":{"$error":"#REF!"}},{"$f":"+S14/P14-1","v":{"$error":"#REF!"}},null,{"$f":"+P14/D14","v":{"$error":"#REF!"}},{"$f":"+S14/G14","v":{"$error":"#REF!"}}]
["Invalidità permanente",{"$f":"(+#REF!)/1000","v":{"$error":"#REF!"}},{"$f":"+#REF!","v":{"$error":"#REF!"}},{"$f":"+#REF!/1000","v":{"$error":"#REF!"}},{"$error":"#REF!"},{"$error":"#REF!"},{"$f":"+#REF!/1000","v":{"$error":"#REF!"}},{"$error":"#REF!"},{"$error":"#REF!"},null,{"$f":"(+#REF!)/1000","v":{"$error":"#REF!"}},{"$f":"+#REF!","v":{"$error":"#REF!"}},{"$f":"(+#REF!)/1000","v":{"$error":"#REF!"}},{"$f":"+#REF!","v":{"$error":"#REF!"}},{"$error":"#REF!"},{"$f":"(+#REF!)/1000","v":{"$error":"#REF!"}},{"$error":"#REF!"},{"$error":"#REF!"},{"$f":"+#REF!/1000","v":{"$error":"#REF!"}},{"$error":"#REF!"},{"$error":"#REF!"},null,{"$error":"#REF!"},{"$error":"#REF!"}]
["Diaria",{"$f":"(+#REF!)/1000","v":{"$error":"#REF!"}},{"$f":"+#REF!","v":{"$error":"#REF!"}},{"$f":"+#REF!/1000","v":{"$error":"#REF!"}},{"$error":"#REF!"},{"$error":"#REF!"},{"$f":"+#REF!/1000","v":{"$error":"#REF!"}},{"$error":"#REF!"},{"$error":"#REF!"},null,{"$f":"(+#REF!)/1000","v":{"$error":"#REF!"}},{"$f":"+#REF!","v":{"$error":"#REF!"}},{"$f":"(+#REF!)/1000","v":{"$error":"#REF!"}},{"$f":"+#REF!","v":{"$error":"#REF!"}},{"$error":"#REF!"},{"$f":"(+#REF!)/1000","v":{"$error":"#REF!"}},{"$error":"#REF!"},{"$error":"#REF!"},{"$f":"+#REF!/1000","v":{"$error":"#REF!"}},{"$error":"#REF!"},{"$error":"#REF!"},null,{"$error":"#REF!"},{"$error":"#REF!"}]
["Long term care",{"$f":"(+#REF!)/1000","v":{"$error":"#REF!"}},{"$f":"+#REF!","v":{"$error":"#REF!"}},{"$f":"+#REF!/1000","v":{"$error":"#REF!"}},{"$error":"#REF!"},{"$error":"#REF!"},{"$f":"+#REF!/1000","v":{"$error":"#REF!"}},{"$error":"#REF!"},{"$error":"#REF!"},null,{"$f":"(+#REF!)/1000","v":{"$error":"#REF!"}},{"$f":"+#REF!","v":{"$error":"#REF!"}},{"$f":"(+#REF!)/1000","v":{"$error":"#REF!"}},{"$f":"+#REF!","v":{"$error":"#REF!"}},{"$error":"#REF!"},{"$f":"(+#REF!)/1000","v":{"$error":"#REF!"}},{"$error":"#REF!"},{"$error":"#REF!"},{"$f":"+#REF!/1000","v":{"$error":"#REF!"}},{"$error":"#REF!"},{"$error":"#REF!"},null,{"$error":"#REF!"},{"$error":"#REF!"}]
["Altro*",{"$f":"(+#REF!)/1000","v":{"$error":"#REF!"}},{"$f":"+#REF!","v":{"$error":"#REF!"}},{"$f":"+#REF!/1000","v":{"$error":"#REF!"}},{"$error":"#REF!"},{"$error":"#REF!"},{"$f":"+#REF!/1000","v":{"$error":"#REF!"}},{"$error":"#REF!"},{"$error":"#REF!"},null,{"$f":"(+#REF!)/1000","v":{"$error":"#REF!"}},{"$f":"+#REF!","v":{"$error":"#REF!"}},{"$f":"(+#REF!)/1000","v":{"$error":"#REF!"}},{"$f":"+#REF!","v":{"$error":"#REF!"}},{"$error":"#REF!"},{"$f":"(+#REF!)/1000","v":{"$error":"#REF!"}},{"$error":"#REF!"},{"$error":"#REF!"},{"$f":"+#REF!/1000","v":{"$error":"#REF!"}},{"$error":"#REF!"},{"$error":"#REF!"},null,{"$error":"#REF!"},{"$error":"#REF!"}]
["Totale",{"$f":"(+#REF!)/1000","v":{"$error":"#REF!"}},{"$f":"+#REF!","v":{"$error":"#REF!"}},{"$f":"+#REF!/1000","v":{"$error":"#REF!"}},{"$error":"#REF!"},{"$error":"#REF!"},{"$f":"+#REF!/1000","v":{"$error":"#REF!"}},{"$error":"#REF!"},{"$error":"#REF!"},null,{"$f":"(+#REF!)/1000","v":{"$error":"#REF!"}},{"$f":"+#REF!","v":{"$error":"#REF!"}},{"$f":"(+#REF!)/1000","v":{"$error":"#REF!"}},{"$f":"+#REF!","v":{"$error":"#REF!"}},{"$error":"#REF!"},{"$f":"(+#REF!)/1000","v":{"$error":"#REF!"}},{"$error":"#REF!"},{"$error":"#REF!"},{"$f":"+#REF!/1000","v":{"$error":"#REF!"}},{"$error":"#REF!"},{"$error":"#REF!"},null,{"$error":"#REF!"},{"$error":"#REF!"}]
["POLIZZE INDIVIDUALI E COLLETTIVE",null,null,null,null,null,null,null,null,null,null,null,null,null,null,null,{"$error":"#REF!"}]
["Rimborso spese mediche",{"$f":"(+#REF!)/1000","v":{"$error":"#REF!"}},{"$f":"+#REF!","v":{"$error":"#REF!"}},{"$f":"(+#REF!)/1000","v":{"$error":"#REF!"}},{"$f":"+#REF!","v":{"$error":"#REF!"}},{"$f":"+D21/B21-1","v":{"$error":"#REF!"}},{"$f":"+#REF!/1000","v":{"$error":"#REF!"}},{"$f":"+#REF!","v":{"$error":"#REF!"}},{"$f":"+G21/D21-1","v":{"$error":"#REF!"}},null,{"$f":"(+#REF!)/1000","v":{"$error":"#REF!"}},{"$f":"+#REF!","v":{"$error":"#REF!"}},{"$f":"(+#REF!)/1000","v":{"$error":"#REF!"}},{"$f":"+#REF!","v":{"$error":"#REF!"}},{"$f":"+M21/K21-1","v":{"$error":"#REF!"}},{"$f":"(+#REF!)/1000","v":{"$error":"#REF!"}},{"$error":"#REF!"},{"$f":"+P21/N21-1","v":{"$error":"#REF!"}},{"$f":"+#REF!/1000","v":{"$error":"#REF!"}},{"$f":"+#REF!","v":{"$error":"#REF!"}},{"$f":"+S21/P21-1","v":{"$error":"#REF!"}},null,{"$f":"+P21/D21","v":{"$error":"#REF!"}},{"$f":"+S21/G21","v":{"$error":"#REF!"}}]
["Invalidità permanente",{"$f":"(+#REF!)/1000","v":{"$error":"#REF!"}},{"$f":"+#REF!","v":{"$error":"#REF!"}},{"$f":"(+#REF!)/1000","v":{"$error":"#REF!"}},{"$f":"+#REF!","v":{"$error":"#REF!"}},{"$error":"#REF!"},{"$f":"+#REF!/1000","v":{"$error":"#REF!"}},{"$f":"+#REF!","v":{"$error":"#REF!"}},{"$error":"#REF!"},null,{"$f":"(+#REF!)/1000","v":{"$error":"#REF!"}},{"$f":"+#REF!","v":{"$error":"#REF!"}},{"$f":"(+#REF!)/1000","v":{"$error":"#REF!"}},{"$f":"+#REF!","v":{"$error":"#REF!"}},{"$error":"#REF!"},{"$f":"(+#REF!)/1000","v":{"$error":"#REF!"}},{"$error":"#REF!"},{"$error":"#REF!"},{"$f":"+#REF!/1000","v":{"$error":"#REF!"}},{"$f":"+#REF!","v":{"$error":"#REF!"}},{"$error":"#REF!"},null,{"$error":"#REF!"},{"$error":"#REF!"}]
["Diaria",{"$f":"(+#REF!)/1000","v":{"$error":"#REF!"}},{"$f":"+#REF!","v":{"$error":"#REF!"}},{"$f":"(+#REF!)/1000","v":{"$error":"#REF!"}},{"$f":"+#REF!","v":{"$error":"#REF!"}},{"$error":"#REF!"},{"$f":"+#REF!/1000","v":{"$error":"#REF!"}},{"$f":"+#REF!","v":{"$error":"#REF!"}},{"$error":"#REF!"},null,{"$f":"(+#REF!)/1000","v":{"$error":"#REF!"}},{"$f":"+#REF!","v":{"$error":"#REF!"}},{"$f":"(+#REF!)/1000","v":{"$error":"#REF!"}},{"$f":"+#REF!","v":{"$error":"#REF!"}},{"$error":"#REF!"},{"$f":"(+#REF!)/1000","v":{"$error":"#REF!"}},{"$error":"#REF!"},{"$error":"#REF!"},{"$f":"+#REF!/1000","v":{"$error":"#REF!"}},{"$f":"+#REF!","v":{"$error":"#REF!"}},{"$error":"#REF!"},null,{"$error":"#REF!"},{"$error":"#REF!"}]
["Long term care",{"$f":"(+#REF!)/1000","v":{"$error":"#REF!"}},{"$f":"+#REF!","v":{"$error":"#REF!"}},{"$f":"(+#REF!)/1000","v":{"$error":"#REF!"}},{"$f":"+#REF!","v":{"$error":"#REF!"}},{"$error":"#REF!"},{"$f":"+#REF!/1000","v":{"$error":"#REF!"}},{"$f":"+#REF!","v":{"$error":"#REF!"}},{"$error":"#REF!"},null,{"$f":"(+#REF!)/1000","v":{"$error":"#REF!"}},{"$f":"+#REF!","v":{"$error":"#REF!"}},{"$f":"(+#REF!)/1000","v":{"$error":"#REF!"}},{"$f":"+#REF!","v":{"$error":"#REF!"}},{"$error":"#REF!"},{"$f":"(+#REF!)/1000","v":{"$error":"#REF!"}},{"$error":"#REF!"},{"$error":"#REF!"},{"$f":"+#REF!/1000","v":{"$error":"#REF!"}},{"$f":"+#REF!","v":{"$error":"#REF!"}},{"$error":"#REF!"},null,{"$error":"#REF!"},{"$error":"#REF!"}]
["Altro*",{"$f":"(+#REF!)/1000","v":{"$error":"#REF!"}},{"$f":"+#REF!","v":{"$error":"#REF!"}},{"$f":"(+#REF!)/1000","v":{"$error":"#REF!"}},{"$f":"+#REF!","v":{"$error":"#REF!"}},{"$error":"#REF!"},{"$f":"+#REF!/1000","v":{"$error":"#REF!"}},{"$f":"+#REF!","v":{"$error":"#REF!"}},{"$error":"#REF!"},null,{"$f":"(+#REF!)/1000","v":{"$error":"#REF!"}},{"$f":"+#REF!","v":{"$error":"#REF!"}},{"$f":"(+#REF!)/1000","v":{"$error":"#REF!"}},{"$f":"+#REF!","v":{"$error":"#REF!"}},{"$error":"#REF!"},{"$f":"(+#REF!)/1000","v":{"$error":"#REF!"}},{"$error":"#REF!"},{"$error":"#REF!"},{"$f":"+#REF!/1000","v":{"$error":"#REF!"}},{"$f":"+#REF!","v":{"$error":"#REF!"}},{"$error":"#REF!"},null,{"$error":"#REF!"},{"$error":"#REF!"}]
["Totale",{"$f":"(+#REF!)/1000","v":{"$error":"#REF!"}},{"$f":"+#REF!","v":{"$error":"#REF!"}},{"$f":"(+#REF!)/1000","v":{"$error":"#REF!"}},{"$f":"+#REF!","v":{"$error":"#REF!"}},{"$error":"#REF!"},{"$f":"+#REF!/1000","v":{"$error":"#REF!"}},{"$f":"+#REF!","v":{"$error":"#REF!"}},{"$error":"#REF!"},null,{"$f":"(+#REF!)/1000","v":{"$error":"#REF!"}},{"$f":"+#REF!","v":{"$error":"#REF!"}},{"$f":"(+#REF!)/1000","v":{"$error":"#REF!"}},{"$f":"+#REF!","v":{"$error":"#REF!"}},{"$error":"#REF!"},{"$f":"(+#REF!)/1000","v":{"$error":"#REF!"}},{"$error":"#REF!"},{"$error":"#REF!"},{"$f":"+#REF!/1000","v":{"$error":"#REF!"}},{"$f":"+#REF!","v":{"$error":"#REF!"}},{"$error":"#REF!"},null,{"$error":"#REF!"},{"$error":"#REF!"}]
[null,null,null,null,null,null,null,null,null,null,null,null,null,null,null,null,{"$error":"#REF!"}]
["(*): Nella voce Altro sono incluse porzioni di premi attinenti a coperture di rischio che non rientrano in quelle già indicate (come ad esempio l’inabilità temporanea presente nelle polizze di alcune compagnie) o che non possono essere altrimenti allocate per mancanza di informazioni"]
[]
[]
[]
[null,null,null,null,"POLIZZE INDIVIDUALI",null,"POLIZZE COLLETTIVE",null,null,null,null,null,null,null,null,null,"POLIZZE INDIVIDUALI",null,"POLIZZE COLLETTIVE"]
["Rimborso spese mediche",null,null,null,{"$f":"+H7","v":{"$error":"#REF!"}},null,{"$f":"+H14","v":{"$error":"#REF!"}},null,null,null,null,null,null,null,null,null,{"$f":"+T7","v":{"$error":"#REF!"}},null,{"$f":"+T14","v":{"$error":"#REF!"}}]
["Invalidità permanente",null,null,null,{"$f":"+H8","v":{"$error":"#REF!"}},null,{"$f":"+H15","v":{"$error":"#REF!"}},null,null,null,null,null,null,null,null,null,{"$f":"+T8","v":{"$error":"#REF!"}},null,{"$f":"+T15","v":{"$error":"#REF!"}}]
["Diaria",null,null,null,{"$f":"+H9","v":{"$error":"#REF!"}},null,{"$f":"+H16","v":{"$error":"#REF!"}},null,null,null,null,null,null,null,null,null,{"$f":"+T9","v":{"$error":"#REF!"}},null,{"$f":"+T16","v":{"$error":"#REF!"}}]
["Long term care",null,null,null,{"$f":"+H10","v":{"$error":"#REF!"}},null,{"$f":"+H17","v":{"$error":"#REF!"}},null,null,null,null,null,null,null,null,null,{"$f":"+T10","v":{"$error":"#REF!"}},null,{"$f":"+T17","v":{"$error":"#REF!"}}]
["Altro*",null,null,null,{"$f":"+H11","v":{"$error":"#REF!"}},null,{"$f":"+H18","v":{"$error":"#REF!"}},null,null,null,null,null,null,null,null,null,{"$f":"+T11","v":{"$error":"#REF!"}},null,{"$f":"+T18","v":{"$error":"#REF!"}}]

{"sheet":"Allegato II mal","index":34,"n_rows":149,"n_cols":33,"rows_kept":149,"cut":false,"hidden":false,"merged":[[40,6,40,7],[40,8,40,9],[40,10,40,11],[40,12,40,13],[21,1,22,1],[21,2,21,3],[21,4,21,5],[21,6,21,7],[21,8,21,9],[96,16,101,16],[102,16,107,16],[108,16,113,16],[59,1,59,14],[2,12,2,13],[2,1,3,1],[2,2,2,3],[2,4,2,5],[2,6,2,7],[2,8,2,9],[2,10,2,11],[21,10,21,11],[21,12,21,13],[40,1,41,1],[40,2,40,3],[40,4,40,5]]}
[null,"Premi contabilizzati per garanzia - ramo Malattia"]
[null,"Importi in migliaia di euro"]
[null," POLIZZE INDIVIDUALI","Rimborso spese mediche",null,"Invalidità permanente",null,"Diaria",null,"Long term care",null,"Altro",null,"Totale"]
[null,null,"Premi","Variaz. annua","Premi","Variaz. annua","Premi","Variaz. annua","Premi","Variaz. annua","Premi","Variaz. annua","Premi","Variaz. annua"]
[null,"I semestre 2014",{"$f":"+'[1]PIVOT allegato II'!B58","v":257521.31796022045},{"$f":"+'[1]PIVOT allegato II'!C58","v":"n.d."},{"$f":"+'[1]PIVOT allegato II'!D58","v":34132.432737268326},{"$f":"+'[1]PIVOT allegato II'!E58","v":"n.d."},{"$f":"+'[1]PIVOT allegato II'!F58","v":66646.185892266731},{"$f":"+'[1]PIVOT allegato II'!G58","v":"n.d."},{"$f":"+'[1]PIVOT allegato II'!H58","v":1010.9406163242815},{"$f":"+'[1]PIVOT allegato II'!I58","v":"n.d."},{"$f":"+'[1]PIVOT allegato II'!J58","v":39123.509245052257},{"$f":"+'[1]PIVOT allegato II'!K58","v":"n.d."},{"$f":"+'[1]PIVOT allegato II'!L58","v":398434.38645113207},{"$f":"+'[1]PIVOT allegato II'!M58","v":"n.d."}]
[null,"I semestre 2015",{"$f":"+'[1]PIVOT allegato II'!B59","v":202589.6213135327},{"$f":"+'[1]PIVOT allegato II'!C59","v":-0.21330931777528839},{"$f":"+'[1]PIVOT allegato II'!D59","v":40591.085978458425},{"$f":"+'[1]PIVOT allegato II'!E59","v":0.18922334926739826},{"$f":"+'[1]PIVOT allegato II'!F59","v":55244.285124371818},{"$f":"+'[1]PIVOT allegato II'!G59","v":-0.17108106961028546},{"$f":"+'[1]PIVOT allegato II'!H59","v":1277.5612375151718},{"$f":"+'[1]PIVOT allegato II'!I59","v":0.26373519560457148},{"$f":"+'[1]PIVOT allegato II'!J59","v":34996.692866885285},{"$f":"+'[1]PIVOT allegato II'!K59","v":-0.10548175400929471},{"$f":"+'[1]PIVOT allegato II'!L59","v":334699.24652076338},{"$f":"+'[1]PIVOT allegato II'!M59","v":-0.15996395416083342}]
[null,"I semestre 2016",{"$f":"+'[1]PIVOT allegato II'!B60","v":242729.65977082765},{"$f":"+'[1]PIVOT allegato II'!C60","v":0.19813472278115007},{"$f":"+'[1]PIVOT allegato II'!D60","v":55856.095776041526},{"$f":"+'[1]PIVOT allegato II'!E60","v":0.37606803143143797},{"$f":"+'[1]PIVOT allegato II'!F60","v":46553.855490937516},{"$f":"+'[1]PIVOT allegato II'!G60","v":-0.15730911557402694},{"$f":"+'[1]PIVOT allegato II'!H60","v":930.95264017111526},{"$f":"+'[1]PIVOT allegato II'!I60","v":-0.27130487930128699},{"$f":"+'[1]PIVOT allegato II'!J60","v":44651.017217856963},{"$f":"+'[1]PIVOT allegato II'!K60","v":0.27586390484647283},{"$f":"+'[1]PIVOT allegato II'!L60","v":390721.58089583472},{"$f":"+'[1]PIVOT allegato II'!M60","v":0.16738111889234841}]
[null,"I semestre 2017",{"$f":"+'[1]PIVOT allegato II'!B61","v":260712.79105772232},{"$f":"+'[1]PIVOT allegato II'!C61","v":7.4087078208214807E-2},{"$f":"+'[1]PIVOT allegato II'!D61","v":64599.709348088902},{"$f":"+'[1]PIVOT allegato II'!E61","v":0.15653821575903604},{"$f":"+'[1]PIVOT allegato II'!F61","v":47184.871744671218},{"$f":"+'[1]PIVOT allegato II'!G61","v":1.3554543379474593E-2},{"$f":"+'[1]PIVOT allegato II'!H61","v":1332.1728914027108},{"$f":"+'[1]PIVOT allegato II'!I61","v":0.43097815497665759},{"$f":"+'[1]PIVOT allegato II'!J61","v":48438.568177372268},{"$f":"+'[1]PIVOT allegato II'!K61","v":8.4825636581479236E-2},{"$f":"+'[1]PIVOT allegato II'!L61","v":422268.11321925756},{"$f":"+'[1]PIVOT allegato II'!M61","v":8.0739160225278273E-2}]
[null,"I semestre 2018",{"$f":"+'[1]PIVOT allegato II'!B62","v":269766.85304523999},{"$f":"+'[1]PIVOT allegato II'!C62","v":3.4728108087006326E-2},{"$f":"+'[1]PIVOT allegato II'!D62","v":66132.090123249916},{"$f":"+'[1]PIVOT allegato II'!E62","v":2.3721171358588311E-2},{"$f":"+'[1]PIVOT allegato II'!F62","v":48508.979309193273},{"$f":"+'[1]PIVOT allegato II'!G62","v":2.8062120666282997E-2},{"$f":"+'[1]PIVOT allegato II'!H62","v":1675.0847762137287},{"$f":"+'[1]PIVOT allegato II'!I62","v":0.25740794383674115},{"$f":"+'[1]PIVOT allegato II'!J62","v":52687.455317848769},{"$f":"+'[1]PIVOT allegato II'!K62","v":8.771702592277153E-2},{"$f":"+'[1]PIVOT allegato II'!L62","v":438770.46257174574},{"$f":"+'[1]PIVOT allegato II'!M62","v":3.9080264021544853E-2}]
[null,"I semestre 2019",{"$f":"+'[1]PIVOT allegato II'!B63","v":272358.62355847569},{"$f":"+'[1]PIVOT allegato II'!C63","v":9.6074461483266482E-3},{"$f":"+'[1]PIVOT allegato II'!D63","v":77304.2586242494},{"$f":"+'[1]PIVOT allegato II'!E63","v":0.16893717528325491},{"$f":"+'[1]PIVOT allegato II'!F63","v":49678.165069119437},{"$f":"+'[1]PIVOT allegato II'!G63","v":2.4102460545991855E-2},{"$f":"+'[1]PIVOT allegato II'!H63","v":1837.7295906013585},{"$f":"+'[1]PIVOT allegato II'!I63","v":9.7096467412988829E-2},{"$f":"+'[1]PIVOT allegato II'!J63","v":81651.796731923809},{"$f":"+'[1]PIVOT allegato II'!K63","v":0.54973885603966299},{"$f":"+'[1]PIVOT allegato II'!L63","v":482830.57357436954},{"$f":"+'[1]PIVOT allegato II'!M63","v":0.10041722212652204}]
[null,"I semestre 2020",{"$f":"+'[1]PIVOT allegato II'!B64","v":251050.20584216792},{"$f":"+'[1]PIVOT allegato II'!C64","v":-7.8236618462469321E-2},{"$f":"+'[1]PIVOT allegato II'!D64","v":71490.161916019584},{"$f":"+'[1]PIVOT allegato II'!E64","v":-7.5210561639174722E-2},{"$f":"+'[1]PIVOT allegato II'!F64","v":49970.428610432558},{"$f":"+'[1]PIVOT allegato II'!G64","v":5.8831388177578159E-3},{"$f":"+'[1]PIVOT allegato II'!H64","v":1248.4584773770723},{"$f":"+'[1]PIVOT allegato II'!I64","v":-0.32065169774594504},{"$f":"+'[1]PIVOT allegato II'!J64","v":84173.882284170133},{"$f":"+'[1]PIVOT allegato II'!K64","v":3.0888304399800726E-2},{"$f":"+'[1]PIVOT allegato II'!L64","v":457933.13713016722},{"$f":"+'[1]PIVOT allegato II'!M64","v":-5.1565575601163594E-2}]
[null,"I semestre 2021",{"$f":"+'[1]PIVOT allegato II'!B65","v":256794.06625986556},{"$f":"+'[1]PIVOT allegato II'!C65","v":2.2879329648145097E-2},{"$f":"+'[1]PIVOT allegato II'!D65","v":73719.34136009599},{"$f":"+'[1]PIVOT allegato II'!E65","v":3.1181625336015539E-2},{"$f":"+'[1]PIVOT allegato II'!F65","v":59601.057004517752},{"$f":"+'[1]PIVOT allegato II'!G65","v":0.19272655172052211},{"$f":"+'[1]PIVOT allegato II'!H65","v":1062.2895037889607},{"$f":"+'[1]PIVOT allegato II'!I65","v":-0.14911907521284984},{"$f":"+'[1]PIVOT allegato II'!J65","v":80989.753477782506},{"$f":"+'[1]PIVOT allegato II'!K65","v":-3.7827990345485563E-2},{"$f":"+'[1]PIVOT allegato II'!L65","v":472166.50760605093},{"$f":"+'[1]PIVOT allegato II'!M65","v":3.1081765702921649E-2}]
[]
[null,"Anno 2014",{"$f":"+'[1]PIVOT allegato II'!B67","v":491561.39809063234},{"$f":"+'[1]PIVOT allegato II'!C67","v":"n.d."},{"$f":"+'[1]PIVOT allegato II'!D67","v":70490.734073959509},{"$f":"+'[1]PIVOT allegato II'!E67","v":"n.d."},{"$f":"+'[1]PIVOT allegato II'!F67","v":134868.49267355478},{"$f":"+'[1]PIVOT allegato II'!G67","v":"n.d."},{"$f":"+'[1]PIVOT allegato II'!H67","v":1579.3186656158023},{"$f":"+'[1]PIVOT allegato II'!I67","v":"n.d."},{"$f":"+'[1]PIVOT allegato II'!J67","v":81869.962771893071},{"$f":"+'[1]PIVOT allegato II'!K67","v":"n.d."},{"$f":"+'[1]PIVOT allegato II'!L67","v":780369.90627565526},{"$f":"+'[1]PIVOT allegato II'!M67","v":"n.d."}]
[null,"Anno 2015",{"$f":"+'[1]PIVOT allegato II'!B68","v":389549.86836654961},{"$f":"+'[1]PIVOT allegato II'!C68","v":-0.2075255097742118},{"$f":"+'[1]PIVOT allegato II'!D68","v":88476.646875784281},{"$f":"+'[1]PIVOT allegato II'!E68","v":0.25515286566534812},{"$f":"+'[1]PIVOT allegato II'!F68","v":94506.353343205032},{"$f":"+'[1]PIVOT allegato II'!G68","v":-0.2992703375728023},{"$f":"+'[1]PIVOT allegato II'!H68","v":2576.2906866563221},{"$f":"+'[1]PIVOT allegato II'!I68","v":0.63126716776426117},{"$f":"+'[1]PIVOT allegato II'!J68","v":74572.962972523907},{"$f":"+'[1]PIVOT allegato II'!K68","v":-8.9129145199444371E-2},{"$f":"+'[1]PIVOT allegato II'!L68","v":649682.12224471918},{"$f":"+'[1]PIVOT allegato II'!M68","v":-0.16746902075536008}]
[null,"Anno 2016",{"$f":"+'[1]PIVOT allegato II'!B69","v":440570.15261095448},{"$f":"+'[1]PIVOT allegato II'!C69","v":0.13097240786742348},{"$f":"+'[1]PIVOT allegato II'!D69","v":123255.71461852259},{"$f":"+'[1]PIVOT allegato II'!E69","v":0.39308754310689409},{"$f":"+'[1]PIVOT allegato II'!F69","v":82467.883460843863},{"$f":"+'[1]PIVOT allegato II'!G69","v":-0.12738265160483764},{"$f":"+'[1]PIVOT allegato II'!H69","v":2465.2778724071218},{"$f":"+'[1]PIVOT allegato II'!I69","v":-4.3090174111245161E-2},{"$f":"+'[1]PIVOT allegato II'!J69","v":70499.438322656599},{"$f":"+'[1]PIVOT allegato II'!K69","v":-5.4624685509253257E-2},{"$f":"+'[1]PIVOT allegato II'!L69","v":719258.46688538441},{"$f":"+'[1]PIVOT allegato II'!M69","v":0.10709290321899534}]
[null,"Anno 2017",{"$f":"+'[1]PIVOT allegato II'!B70","v":484662.45186658949},{"$f":"+'[1]PIVOT allegato II'!C70","v":0.10008008711967986},{"$f":"+'[1]PIVOT allegato II'!D70","v":131889.24797362674},{"$f":"+'[1]PIVOT allegato II'!E70","v":7.0045704426971334E-2},{"$f":"+'[1]PIVOT allegato II'!F70","v":97083.0813401575},{"$f":"+'[1]PIVOT allegato II'!G70","v":0.17722290503857785},{"$f":"+'[1]PIVOT allegato II'!H70","v":2738.391592018314},{"$f":"+'[1]PIVOT allegato II'!I70","v":0.11078415243492268},{"$f":"+'[1]PIVOT allegato II'!J70","v":86571.91623305688},{"$f":"+'[1]PIVOT allegato II'!K70","v":0.22798022640749216},{"$f":"+'[1]PIVOT allegato II'!L70","v":802945.08900544886},{"$f":"+'[1]PIVOT allegato II'!M70","v":0.11635125059070051}]
[null,"Anno 2018",{"$f":"+'[1]PIVOT allegato II'!B71","v":489621.20961918315},{"$f":"+'[1]PIVOT allegato II'!C71","v":1.0231363567563267E-2},{"$f":"+'[1]PIVOT allegato II'!D71","v":145366.36543791299},{"$f":"+'[1]PIVOT allegato II'!E71","v":0.1021851111546348},{"$f":"+'[1]PIVOT allegato II'!F71","v":93163.631333164958},{"$f":"+'[1]PIVOT allegato II'!G71","v":-4.0372122030816748E-2},{"$f":"+'[1]PIVOT allegato II'!H71","v":3454.2683206266656},{"$f":"+'[1]PIVOT allegato II'!I71","v":0.26142233663546977},{"$f":"+'[1]PIVOT allegato II'!J71","v":96093.735228259146},{"$f":"+'[1]PIVOT allegato II'!K71","v":0.10998738863038393},{"$f":"+'[1]PIVOT allegato II'!L71","v":827699.209939147},{"$f":"+'[1]PIVOT allegato II'!M71","v":3.0829157899650683E-2}]
[null,"Anno 2019",{"$f":"+'[1]PIVOT allegato II'!B72","v":546930.08585218864},{"$f":"+'[1]PIVOT allegato II'!C72","v":0.11704737275899291},{"$f":"+'[1]PIVOT allegato II'!D72","v":151629.53625678318},{"$f":"+'[1]PIVOT allegato II'!E72","v":4.3085419381591716E-2},{"$f":"+'[1]PIVOT allegato II'!F72","v":92864.391891160296},{"$f":"+'[1]PIVOT allegato II'!G72","v":-3.2119770099401368E-3},{"$f":"+'[1]PIVOT allegato II'!H72","v":3095.1558350184027},{"$f":"+'[1]PIVOT allegato II'!I72","v":-0.10396195439244671},{"$f":"+'[1]PIVOT allegato II'!J72","v":180749.07427975364},{"$f":"+'[1]PIVOT allegato II'!K72","v":0.8809662653908279},{"$f":"+'[1]PIVOT allegato II'!L72","v":975268.24411490408},{"$f":"+'[1]PIVOT allegato II'!M72","v":0.17828823853366549}]
[null,"Anno 2020",{"$f":"+'[1]PIVOT allegato II'!B73","v":498516.29760712822},{"$f":"+'[1]PIVOT allegato II'!C73","v":-8.8519153539753481E-2},{"$f":"+'[1]PIVOT allegato II'!D73","v":153988.46495977},{"$f":"+'[1]PIVOT allegato II'!E73","v":1.5557184709659833E-2},{"$f":"+'[1]PIVOT allegato II'!F73","v":99719.30874994013},{"$f":"+'[1]PIVOT allegato II'!G73","v":7.3816418965129138E-2},{"$f":"+'[1]PIVOT allegato II'!H73","v":2275.9039212779912},{"$f":"+'[1]PIVOT allegato II'!I73","v":-0.26468842197586495},{"$f":"+'[1]PIVOT allegato II'!J73","v":180201.20912606764},{"$f":"+'[1]PIVOT allegato II'!K73","v":-3.0310813810201509E-3},{"$f":"+'[1]PIVOT allegato II'!L73","v":934701.18436418392},{"$f":"+'[1]PIVOT allegato II'!M73","v":-4.1595796844114852E-2}]
[]
[null," POLIZZE COLLETTIVE",{"$f":"+C3","v":"Rimborso spese mediche"},null,{"$f":"+E3","v":"Invalidità permanente"},null,{"$f":"+G3","v":"Diaria"},null,{"$f":"+I3","v":"Long term care"},null,{"$f":"+K3","v":"Altro"},null,{"$f":"+M3","v":"Totale"}]
[null,null,"Premi","Variaz. annua","Premi","Variaz. annua","Premi","Variaz. annua","Premi","Variaz. annua","Premi","Variaz. annua","Premi","Variaz. annua"]
[null,"I semestre 2014",{"$f":"+'[1]PIVOT allegato II'!B75","v":522046.66879888723},{"$f":"+'[1]PIVOT allegato II'!C75","v":"n.d."},{"$f":"+'[1]PIVOT allegato II'!D75","v":56773.802043959826},{"$f":"+'[1]PIVOT allegato II'!E75","v":"n.d."},{"$f":"+'[1]PIVOT allegato II'!F75","v":55060.337177383917},{"$f":"+'[1]PIVOT allegato II'!G75","v":"n.d."},{"$f":"+'[1]PIVOT allegato II'!H75","v":18089.854655164483},{"$f":"+'[1]PIVOT allegato II'!I75","v":"n.d."},{"$f":"+'[1]PIVOT allegato II'!J75","v":21537.950873472535},{"$f":"+'[1]PIVOT allegato II'!K75","v":"n.d."},{"$f":"+'[1]PIVOT allegato II'!L75","v":673508.61354886799},{"$f":"+'[1]PIVOT allegato II'!M75","v":"n.d."},null,null,{"$f":"+C24+E24+G24+I24+K24-M24","v":0}]
[null,"I semestre 2015",{"$f":"+'[1]PIVOT allegato II'!B76","v":652191.35380498553},{"$f":"+'[1]PIVOT allegato II'!C76","v":0.24929703182577945},{"$f":"+'[1]PIVOT allegato II'!D76","v":44409.356236572552},{"$f":"+'[1]PIVOT allegato II'!E76","v":-0.21778435409017549},{"$f":"+'[1]PIVOT allegato II'!F76","v":39756.018969491823},{"$f":"+'[1]PIVOT allegato II'!G76","v":-0.27795540297160326},{"$f":"+'[1]PIVOT allegato II'!H76","v":15167.19620920273},{"$f":"+'[1]PIVOT allegato II'!I76","v":-0.16156340123646939},{"$f":"+'[1]PIVOT allegato II'!J76","v":15478.82825898392},{"$f":"+'[1]PIVOT allegato II'!K76","v":-0.2813230771155395},{"$f":"+'[1]PIVOT allegato II'!L76","v":767002.75347923662},{"$f":"+'[1]PIVOT allegato II'!M76","v":0.13881654673683697},null,null,{"$f":"+C25+E25+G25+I25+K25-M25","v":0}]
[null,"I semestre 2016",{"$f":"+'[1]PIVOT allegato II'!B77","v":686800.29728125967},{"$f":"+'[1]PIVOT allegato II'!C77","v":5.3065627556023509E-2},{"$f":"+'[1]PIVOT allegato II'!D77","v":45129.401916759743},{"$f":"+'[1]PIVOT allegato II'!E77","v":1.6213828373270012E-2},{"$f":"+'[1]PIVOT allegato II'!F77","v":39803.471547180328},{"$f":"+'[1]PIVOT allegato II'!G77","v":1.1935948044727862E-3},{"$f":"+'[1]PIVOT allegato II'!H77","v":17584.796923543072},{"$f":"+'[1]PIVOT allegato II'!I77","v":0.15939667958363057},{"$f":"+'[1]PIVOT allegato II'!J77","v":15020.451435422612},{"$f":"+'[1]PIVOT allegato II'!K77","v":-2.9613147448371291E-2},{"$f":"+'[1]PIVOT allegato II'!L77","v":804338.41910416528},{"$f":"+'[1]PIVOT allegato II'!M77","v":4.8677355401357536E-2},null,null,0]
[null,"I semestre 2017",{"$f":"+'[1]PIVOT allegato II'!B78","v":680568.88701564574},{"$f":"+'[1]PIVOT allegato II'!C78","v":-9.0731036231075368E-3},{"$f":"+'[1]PIVOT allegato II'!D78","v":59460.824886668022},{"$f":"+'[1]PIVOT allegato II'!E78","v":0.31756288275972056},{"$f":"+'[1]PIVOT allegato II'!F78","v":40711.715078160407},{"$f":"+'[1]PIVOT allegato II'!G78","v":2.2818198907688547E-2},{"$f":"+'[1]PIVOT allegato II'!H78","v":13228.017637583989},{"$f":"+'[1]PIVOT allegato II'!I78","v":-0.24775829399121985},{"$f":"+'[1]PIVOT allegato II'!J78","v":51299.44216268423},{"$f":"+'[1]PIVOT allegato II'!K78","v":2.4153062831191052},{"$f":"+'[1]PIVOT allegato II'!L78","v":845268.88678074244},{"$f":"+'[1]PIVOT allegato II'!M78","v":5.0887122515126837E-2},null,null,0]
[null,"I semestre 2018",{"$f":"+'[1]PIVOT allegato II'!B79","v":800958.34686741908},{"$f":"+'[1]PIVOT allegato II'!C79","v":0.17689533293197068},{"$f":"+'[1]PIVOT allegato II'!D79","v":42000.347227929597},{"$f":"+'[1]PIVOT allegato II'!E79","v":-0.29364674459222506},{"$f":"+'[1]PIVOT allegato II'!F79","v":40509.57437309665},{"$f":"+'[1]PIVOT allegato II'!G79","v":-4.9651729158468605E-3},{"$f":"+'[1]PIVOT allegato II'!H79","v":15081.849282166659},{"$f":"+'[1]PIVOT allegato II'!I79","v":0.14014432815053768},{"$f":"+'[1]PIVOT allegato II'!J79","v":40189.41967764205},{"$f":"+'[1]PIVOT allegato II'!K79","v":-0.21657199409321704},{"$f":"+'[1]PIVOT allegato II'!L79","v":938739.53742825426},{"$f":"+'[1]PIVOT allegato II'!M79","v":0.11058096673059903},null,null,0]
[null,"I semestre 2019",{"$f":"+'[1]PIVOT allegato II'!B80","v":832834.64126169228},{"$f":"+'[1]PIVOT allegato II'!C80","v":3.9797692999820278E-2},{"$f":"+'[1]PIVOT allegato II'!D80","v":51270.215363560033},{"$f":"+'[1]PIVOT allegato II'!E80","v":0.22070932140927901},{"$f":"+'[1]PIVOT allegato II'!F80","v":130092.67878643524},{"$f":"+'[1]PIVOT allegato II'!G80","v":2.2114057182697238},{"$f":"+'[1]PIVOT allegato II'!H80","v":12493.138186481072},{"$f":"+'[1]PIVOT allegato II'!I80","v":-0.1716441430525748},{"$f":"+'[1]PIVOT allegato II'!J80","v":70020.752827461969},{"$f":"+'[1]PIVOT allegato II'!K80","v":0.74226832308343882},{"$f":"+'[1]PIVOT allegato II'!L80","v":1096711.4264256305},{"$f":"+'[1]PIVOT allegato II'!M80","v":0.16828085182195673},null,null,0]
[null,"I semestre 2020",{"$f":"+'[1]PIVOT allegato II'!B81","v":792086.21013229399},{"$f":"+'[1]PIVOT allegato II'!C81","v":-4.8927397001242601E-2},{"$f":"+'[1]PIVOT allegato II'!D81","v":40128.193071201182},{"$f":"+'[1]PIVOT allegato II'!E81","v":-0.21731959215209329},{"$f":"+'[1]PIVOT allegato II'!F81","v":169992.1183675495},{"$f":"+'[1]PIVOT allegato II'!G81","v":0.30670011528177232},{"$f":"+'[1]PIVOT allegato II'!H81","v":13093.018816717227},{"$f":"+'[1]PIVOT allegato II'!I81","v":4.8016809010028583E-2},{"$f":"+'[1]PIVOT allegato II'!J81","v":78218.322482070973},{"$f":"+'[1]PIVOT allegato II'!K81","v":0.11707342928472397},{"$f":"+'[1]PIVOT allegato II'!L81","v":1093517.8628698327},{"$f":"+'[1]PIVOT allegato II'!M81","v":-2.9119451834346277E-3},null,null,0]
[null,"I semestre 2021",{"$f":"+'[1]PIVOT allegato II'!B82","v":875125.76220882498},{"$f":"+'[1]PIVOT allegato II'!C82","v":0.10483650771127784},{"$f":"+'[1]PIVOT allegato II'!D82","v":44179.576631990043},{"$f":"+'[1]PIVOT allegato II'!E82","v":0.10096102641851612},{"$f":"+'[1]PIVOT allegato II'!F82","v":180319.7298267837},{"$f":"+'[1]PIVOT allegato II'!G82","v":6.0753472328077596E-2},{"$f":"+'[1]PIVOT allegato II'!H82","v":12541.237347015172},{"$f":"+'[1]PIVOT allegato II'!I82","v":-4.2143181601292601E-2},{"$f":"+'[1]PIVOT allegato II'!J82","v":68083.186379335428},{"$f":"+'[1]PIVOT allegato II'!K82","v":-0.12957496122546863},{"$f":"+'[1]PIVOT allegato II'!L82","v":1180249.4923939491},{"$f":"+'[1]PIVOT allegato II'!M82","v":7.9314323495820682E-2}]
[null,null,null,null,null,null,null,null,null,null,null,null,null,null,null,null,0]
[null,"Anno 2014",{"$f":"+'[1]PIVOT allegato II'!B84","v":1116924.1335708397},{"$f":"+'[1]PIVOT allegato II'!C84","v":"n.d."},{"$f":"+'[1]PIVOT allegato II'!D84","v":134498.08845159947},{"$f":"+'[1]PIVOT allegato II'!E84","v":"n.d."},{"$f":"+'[1]PIVOT allegato II'!F84","v":105709.41569239115},{"$f":"+'[1]PIVOT allegato II'!G84","v":"n.d."},{"$f":"+'[1]PIVOT allegato II'!H84","v":29333.1574634526},{"$f":"+'[1]PIVOT allegato II'!I84","v":"n.d."},{"$f":"+'[1]PIVOT allegato II'!J84","v":67554.2985460622},{"$f":"+'[1]PIVOT allegato II'!K84","v":"n.d."},{"$f":"+'[1]PIVOT allegato II'!L84","v":1454019.0937243446},{"$f":"+'[1]PIVOT allegato II'!M84","v":"n.d."},null,null,0]
[null,"Anno 2015",{"$f":"+'[1]PIVOT allegato II'!B85","v":1402594.0579885088},{"$f":"+'[1]PIVOT allegato II'!C85","v":0.2557648418826568},{"$f":"+'[1]PIVOT allegato II'!D85","v":98766.011942184414},{"$f":"+'[1]PIVOT allegato II'!E85","v":-0.265669772119279},{"$f":"+'[1]PIVOT allegato II'!F85","v":76617.125411792833},{"$f":"+'[1]PIVOT allegato II'!G85","v":-0.27521001880528173},{"$f":"+'[1]PIVOT allegato II'!H85","v":25212.50280332518},{"$f":"+'[1]PIVOT allegato II'!I85","v":-0.14047770565652595},{"$f":"+'[1]PIVOT allegato II'!J85","v":30885.179609469335},{"$f":"+'[1]PIVOT allegato II'!K85","v":-0.54280955802671627},{"$f":"+'[1]PIVOT allegato II'!L85","v":1634074.877755281},{"$f":"+'[1]PIVOT allegato II'!M85","v":0.12383316340759953},null,null,0]
[null,"Anno 2016",{"$f":"+'[1]PIVOT allegato II'!B86","v":1464165.0239305594},{"$f":"+'[1]PIVOT allegato II'!C86","v":4.3897922988744842E-2},{"$f":"+'[1]PIVOT allegato II'!D86","v":114930.05530645864},{"$f":"+'[1]PIVOT allegato II'!E86","v":0.16365997822951805},{"$f":"+'[1]PIVOT allegato II'!F86","v":87584.097771597822},{"$f":"+'[1]PIVOT allegato II'!G86","v":0.14313996121442796},{"$f":"+'[1]PIVOT allegato II'!H86","v":25535.913763473025},{"$f":"+'[1]PIVOT allegato II'!I86","v":1.2827404033255663E-2},{"$f":"+'[1]PIVOT allegato II'!J86","v":59262.442342526403},{"$f":"+'[1]PIVOT allegato II'!K86","v":0.91879869542208059},{"$f":"+'[1]PIVOT allegato II'!L86","v":1751477.5331146154},{"$f":"+'[1]PIVOT allegato II'!M86","v":7.1846557925552057E-2},null,null,0]
[null,"Anno 2017",{"$f":"+'[1]PIVOT allegato II'!B87","v":1583274.2576774403},{"$f":"+'[1]PIVOT allegato II'!C87","v":8.1349596391212531E-2},{"$f":"+'[1]PIVOT allegato II'!D87","v":87972.461297700793},{"$f":"+'[1]PIVOT allegato II'!E87","v":-0.23455652167638807},{"$f":"+'[1]PIVOT allegato II'!F87","v":93561.451536864755},{"$f":"+'[1]PIVOT allegato II'!G87","v":6.8247021061456747E-2},{"$f":"+'[1]PIVOT allegato II'!H87","v":25413.637800311913},{"$f":"+'[1]PIVOT allegato II'!I87","v":-4.7883919210292003E-3},{"$f":"+'[1]PIVOT allegato II'!J87","v":110852.10268223332},{"$f":"+'[1]PIVOT allegato II'!K87","v":0.87052875818934083},{"$f":"+'[1]PIVOT allegato II'!L87","v":1901073.9109945511},{"$f":"+'[1]PIVOT allegato II'!M87","v":8.5411531151022846E-2},null,null,0]
[null,"Anno 2018",{"$f":"+'[1]PIVOT allegato II'!B88","v":1765451.0992143243},{"$f":"+'[1]PIVOT allegato II'!C88","v":0.11506335093461662},{"$f":"+'[1]PIVOT allegato II'!D88","v":91319.990808324626},{"$f":"+'[1]PIVOT allegato II'!E88","v":3.8052016065524441E-2},{"$f":"+'[1]PIVOT allegato II'!F88","v":89334.213554063317},{"$f":"+'[1]PIVOT allegato II'!G88","v":-4.5181406587475159E-2},{"$f":"+'[1]PIVOT allegato II'!H88","v":25255.454864568528},{"$f":"+'[1]PIVOT allegato II'!I88","v":-6.2243326589569437E-3},{"$f":"+'[1]PIVOT allegato II'!J88","v":102381.03161957242},{"$f":"+'[1]PIVOT allegato II'!K88","v":-7.6417775194972393E-2},{"$f":"+'[1]PIVOT allegato II'!L88","v":2073741.7900608531},{"$f":"+'[1]PIVOT allegato II'!M88","v":9.082649447120672E-2},null,null,0]
[null,"Anno 2019",{"$f":"+'[1]PIVOT allegato II'!B89","v":1602831.2758059634},{"$f":"+'[1]PIVOT allegato II'!C89","v":-9.2112335187721328E-2},{"$f":"+'[1]PIVOT allegato II'!D89","v":118298.52520676427},{"$f":"+'[1]PIVOT allegato II'!E89","v":0.29542857111172993},{"$f":"+'[1]PIVOT allegato II'!F89","v":317427.07014414266},{"$f":"+'[1]PIVOT allegato II'!G89","v":2.553253087654284},{"$f":"+'[1]PIVOT allegato II'!H89","v":21507.980639302175},{"$f":"+'[1]PIVOT allegato II'!I89","v":-0.14838276504470216},{"$f":"+'[1]PIVOT allegato II'!J89","v":174546.90408892324},{"$f":"+'[1]PIVOT allegato II'!K89","v":0.70487541810972254},{"$f":"+'[1]PIVOT allegato II'!L89","v":2234611.7558850963},{"$f":"+'[1]PIVOT allegato II'!M89","v":7.7574733072010238E-2},null,null,0]
[null,"Anno 2020",{"$f":"+'[1]PIVOT allegato II'!B90","v":1530497.0016632094},{"$f":"+'[1]PIVOT allegato II'!C90","v":-4.5129063323512741E-2},{"$f":"+'[1]PIVOT allegato II'!D90","v":101092.11807082167},{"$f":"+'[1]PIVOT allegato II'!E90","v":-0.14544904178533868},{"$f":"+'[1]PIVOT allegato II'!F90","v":347655.67646590708},{"$f":"+'[1]PIVOT allegato II'!G90","v":9.5230083269324473E-2},{"$f":"+'[1]PIVOT allegato II'!H90","v":20162.481294981637},{"$f":"+'[1]PIVOT allegato II'!I90","v":-6.25581437367424E-2},{"$f":"+'[1]PIVOT allegato II'!J90","v":170406.53814089645},{"$f":"+'[1]PIVOT allegato II'!K90","v":-2.3720649584924591E-2},{"$f":"+'[1]PIVOT allegato II'!L90","v":2169813.8156358162},{"$f":"+'[1]PIVOT allegato II'!M90","v":-2.8997404170378882E-2},null,null,0]
[null,null,null,null,null,null,null,null,null,null,null,null,null,null,null,null,0]
[null,"TOTALE RAMO",{"$f":"+C3","v":"Rimborso spese mediche"},null,{"$f":"+E3","v":"Invalidità permanente"},null,{"$f":"+G3","v":"Diaria"},null,{"$f":"+I3","v":"Long term care"},null,{"$f":"+K3","v":"Altro"},null,{"$f":"+M3","v":"Totale"}]
[null,null,"Premi","Variaz. annua","Premi","Variaz. annua","Premi","Variaz. annua","Premi","Variaz. annua","Premi","Variaz. annua","Premi","Variaz. annua"]
[null,"I semestre 2014",{"$f":"+'[1]PIVOT allegato II'!B92","v":779567.98675910768},{"$f":"+'[1]PIVOT allegato II'!C92","v":"n.d."},{"$f":"+'[1]PIVOT allegato II'!D92","v":90906.234781228151},{"$f":"+'[1]PIVOT allegato II'!E92","v":"n.d."},{"$f":"+'[1]PIVOT allegato II'!F92","v":121706.52306965065},{"$f":"+'[1]PIVOT allegato II'!G92","v":"n.d."},{"$f":"+'[1]PIVOT allegato II'!H92","v":19100.795271488769},{"$f":"+'[1]PIVOT allegato II'!I92","v":"n.d."},{"$f":"+'[1]PIVOT allegato II'!J92","v":60661.460118524788},{"$f":"+'[1]PIVOT allegato II'!K92","v":"n.d."},{"$f":"+'[1]PIVOT allegato II'!L92","v":1071943},{"$f":"+'[1]PIVOT allegato II'!M92","v":"n.d."},null,null,0,{"$f":"+C5+C24-C43","v":0},{"$f":"+E5+E24-E43","v":0},{"$f":"+G5+G24-G43","v":0},{"$f":"+I5+I24-I43","v":0},{"$f":"+K5+K24-K43","v":0},{"$f":"+M5+M24-M43","v":0}]
[null,"I semestre 2015",{"$f":"+'[1]PIVOT allegato II'!B93","v":854780.97511851822},{"$f":"+'[1]PIVOT allegato II'!C93","v":9.6480345058925554E-2},{"$f":"+'[1]PIVOT allegato II'!D93","v":85000.442215030969},{"$f":"+'[1]PIVOT allegato II'!E93","v":-6.4965759283836411E-2},{"$f":"+'[1]PIVOT allegato II'!F93","v":95000.30409386364},{"$f":"+'[1]PIVOT allegato II'!G93","v":-0.21943128685471913},{"$f":"+'[1]PIVOT allegato II'!H93","v":16444.7574467179},{"$f":"+'[1]PIVOT allegato II'!I93","v":-0.13905378216034092},{"$f":"+'[1]PIVOT allegato II'!J93","v":50475.5211258692},{"$f":"+'[1]PIVOT allegato II'!K93","v":-0.16791450408139796},{"$f":"+'[1]PIVOT allegato II'!L93","v":1101702},{"$f":"+'[1]PIVOT allegato II'!M93","v":2.7761737331182701E-2},null,null,0,0,0,0,0,0,0]
[null,"I semestre 2016",{"$f":"+'[1]PIVOT allegato II'!B94","v":929529.95705208729},{"$f":"+'[1]PIVOT allegato II'!C94","v":8.7448111398601203E-2},{"$f":"+'[1]PIVOT allegato II'!D94","v":100985.49769280126},{"$f":"+'[1]PIVOT allegato II'!E94","v":0.18805849782912776},{"$f":"+'[1]PIVOT allegato II'!F94","v":86357.327038117844},{"$f":"+'[1]PIVOT allegato II'!G94","v":-9.0978414629138804E-2},{"$f":"+'[1]PIVOT allegato II'!H94","v":18515.749563714187},{"$f":"+'[1]PIVOT allegato II'!I94","v":0.12593631275538342},{"$f":"+'[1]PIVOT allegato II'!J94","v":59671.468653279582},{"$f":"+'[1]PIVOT allegato II'!K94","v":0.18218628202923837},{"$f":"+'[1]PIVOT allegato II'!L94","v":1195060},{"$f":"+'[1]PIVOT allegato II'!M94","v":8.4739793519481577E-2},null,null,0,0,0,0,0,0,0]
[null,"I semestre 2017",{"$f":"+'[1]PIVOT allegato II'!B95","v":941281.67807336804},{"$f":"+'[1]PIVOT allegato II'!C95","v":1.264264904226442E-2},{"$f":"+'[1]PIVOT allegato II'!D95","v":124060.53423475692},{"$f":"+'[1]PIVOT allegato II'!E95","v":0.22849851779856656},{"$f":"+'[1]PIVOT allegato II'!F95","v":87896.586822831625},{"$f":"+'[1]PIVOT allegato II'!G95","v":1.7824310194713977E-2},{"$f":"+'[1]PIVOT allegato II'!H95","v":14560.190528986699},{"$f":"+'[1]PIVOT allegato II'!I95","v":-0.2136321309119078},{"$f":"+'[1]PIVOT allegato II'!J95","v":99738.010340056513},{"$f":"+'[1]PIVOT allegato II'!K95","v":0.67145224662699587},{"$f":"+'[1]PIVOT allegato II'!L95","v":1267537},{"$f":"+'[1]PIVOT allegato II'!M95","v":6.0647164159121747E-2},null,null,0,0,0,0,0,0,0]
[null,"I semestre 2018",{"$f":"+'[1]PIVOT allegato II'!B96","v":1070725.1999126591},{"$f":"+'[1]PIVOT allegato II'!C96","v":0.13751836974479126},{"$f":"+'[1]PIVOT allegato II'!D96","v":108132.43735117951},{"$f":"+'[1]PIVOT allegato II'!E96","v":-0.12838971701860513},{"$f":"+'[1]PIVOT allegato II'!F96","v":89018.55368228993},{"$f":"+'[1]PIVOT allegato II'!G96","v":1.2764623747220094E-2},{"$f":"+'[1]PIVOT allegato II'!H96","v":16756.934058380386},{"$f":"+'[1]PIVOT allegato II'!I96","v":0.15087326810870838},{"$f":"+'[1]PIVOT allegato II'!J96","v":92876.874995490813},{"$f":"+'[1]PIVOT allegato II'!K96","v":-6.8791580272883679E-2},{"$f":"+'[1]PIVOT allegato II'!L96","v":1377510},{"$f":"+'[1]PIVOT allegato II'!M96","v":8.6761175413419878E-2},null,null,0,0,0,0,0,0,0]
[null,"I semestre 2019",{"$f":"+'[1]PIVOT allegato II'!B97","v":1105193.264820168},{"$f":"+'[1]PIVOT allegato II'!C97","v":3.2191326878568294E-2},{"$f":"+'[1]PIVOT allegato II'!D97","v":128574.47398780944},{"$f":"+'[1]PIVOT allegato II'!E97","v":0.18904629487117486},{"$f":"+'[1]PIVOT allegato II'!F97","v":179770.84385555467},{"$f":"+'[1]PIVOT allegato II'!G97","v":1.0194761251363684},{"$f":"+'[1]PIVOT allegato II'!H97","v":14330.867777082431},{"$f":"+'[1]PIVOT allegato II'!I97","v":-0.14477984295012758},{"$f":"+'[1]PIVOT allegato II'!J97","v":151672.54955938578},{"$f":"+'[1]PIVOT allegato II'!K97","v":0.63304966458819267},{"$f":"+'[1]PIVOT allegato II'!L97","v":1579542},{"$f":"+'[1]PIVOT allegato II'!M97","v":0.14666463401354624},null,null,0,0,0,0,0,0,0]
[null,"I semestre 2020",{"$f":"+'[1]PIVOT allegato II'!B98","v":1043136.4159744618},{"$f":"+'[1]PIVOT allegato II'!C98","v":-5.6150223513897202E-2},{"$f":"+'[1]PIVOT allegato II'!D98","v":111618.35498722077},{"$f":"+'[1]PIVOT allegato II'!E98","v":-0.13187780182710562},{"$f":"+'[1]PIVOT allegato II'!F98","v":219962.54697798207},{"$f":"+'[1]PIVOT allegato II'!G98","v":0.22357186660769801},{"$f":"+'[1]PIVOT allegato II'!H98","v":14341.4772940943},{"$f":"+'[1]PIVOT allegato II'!I98","v":7.4032620891495426E-4},{"$f":"+'[1]PIVOT allegato II'!J98","v":162392.20476624111},{"$f":"+'[1]PIVOT allegato II'!K98","v":7.0676303905989002E-2},{"$f":"+'[1]PIVOT allegato II'!L98","v":1551451},{"$f":"+'[1]PIVOT allegato II'!M98","v":-1.778426911091946E-2},null,null,0,0,0,0,0,0,0]
[null,"I semestre 2021",{"$f":"+'[1]PIVOT allegato II'!B99","v":1131919.8284686906},{"$f":"+'[1]PIVOT allegato II'!C99","v":8.5111986442626852E-2},{"$f":"+'[1]PIVOT allegato II'!D99","v":117898.91799208603},{"$f":"+'[1]PIVOT allegato II'!E99","v":5.6268191782474553E-2},{"$f":"+'[1]PIVOT allegato II'!F99","v":239920.78683130146},{"$f":"+'[1]PIVOT allegato II'!G99","v":9.0734718830643324E-2},{"$f":"+'[1]PIVOT allegato II'!H99","v":13603.526850804134},{"$f":"+'[1]PIVOT allegato II'!I99","v":-5.1455678390541326E-2},{"$f":"+'[1]PIVOT allegato II'!J99","v":149072.93985711795},{"$f":"+'[1]PIVOT allegato II'!K99","v":-8.2019114946409233E-2},{"$f":"+'[1]PIVOT allegato II'!L99","v":1652416},{"$f":"+'[1]PIVOT allegato II'!M99","v":6.507778847027712E-2}]
[null,null,null,null,null,null,null,null,null,null,null,null,null,null,null,null,0,{"$f":"+C13+C32-C51","v":0},{"$f":"+E13+E32-E51","v":0},{"$f":"+G13+G32-G51","v":0},{"$f":"+I13+I32-I51","v":0},{"$f":"+K13+K32-K51","v":0},{"$f":"+M13+M32-M51","v":0}]
[null,"Anno 2014",{"$f":"+'[1]PIVOT allegato II'!B101","v":1608485.5316614718},{"$f":"+'[1]PIVOT allegato II'!C101","v":"n.d."},{"$f":"+'[1]PIVOT allegato II'!D101","v":204988.82252555902},{"$f":"+'[1]PIVOT allegato II'!E101","v":"n.d."},{"$f":"+'[1]PIVOT allegato II'!F101","v":240577.90836594594},{"$f":"+'[1]PIVOT allegato II'!G101","v":"n.d."},{"$f":"+'[1]PIVOT allegato II'!H101","v":30912.4761290684},{"$f":"+'[1]PIVOT allegato II'!I101","v":"n.d."},{"$f":"+'[1]PIVOT allegato II'!J101","v":149424.26131795524},{"$f":"+'[1]PIVOT allegato II'!K101","v":"n.d."},{"$f":"+'[1]PIVOT allegato II'!L101","v":2234389},{"$f":"+'[1]PIVOT allegato II'!M101","v":"n.d."},null,null,0,0,0,0,0,0,0]
[null,"Anno 2015",{"$f":"+'[1]PIVOT allegato II'!B102","v":1792143.9263550586},{"$f":"+'[1]PIVOT allegato II'!C102","v":0.11418094292951353},{"$f":"+'[1]PIVOT allegato II'!D102","v":187242.65881796871},{"$f":"+'[1]PIVOT allegato II'!E102","v":-8.6571372472651009E-2},{"$f":"+'[1]PIVOT allegato II'!F102","v":171123.47875499784},{"$f":"+'[1]PIVOT allegato II'!G102","v":-0.28869828523614949},{"$f":"+'[1]PIVOT allegato II'!H102","v":27788.793489981501},{"$f":"+'[1]PIVOT allegato II'!I102","v":-0.10104925357789629},{"$f":"+'[1]PIVOT allegato II'!J102","v":105458.14258199325},{"$f":"+'[1]PIVOT allegato II'!K102","v":-0.29423681501364662},{"$f":"+'[1]PIVOT allegato II'!L102","v":2283757},{"$f":"+'[1]PIVOT allegato II'!M102","v":2.2094630791684056E-2},null,null,0,0,0,0,0,0,0]
[null,"Anno 2016",{"$f":"+'[1]PIVOT allegato II'!B103","v":1904735.176541514},{"$f":"+'[1]PIVOT allegato II'!C103","v":6.2824892873112326E-2},{"$f":"+'[1]PIVOT allegato II'!D103","v":238185.76992498123},{"$f":"+'[1]PIVOT allegato II'!E103","v":0.27207000492626943},{"$f":"+'[1]PIVOT allegato II'!F103","v":170051.98123244167},{"$f":"+'[1]PIVOT allegato II'!G103","v":-6.2615459336836654E-3},{"$f":"+'[1]PIVOT allegato II'!H103","v":28001.19163588015},{"$f":"+'[1]PIVOT allegato II'!I103","v":7.6433021813351321E-3},{"$f":"+'[1]PIVOT allegato II'!J103","v":129761.88066518301},{"$f":"+'[1]PIVOT allegato II'!K103","v":0.23045862072047885},{"$f":"+'[1]PIVOT allegato II'!L103","v":2470736},{"$f":"+'[1]PIVOT allegato II'!M103","v":8.1873421734449003E-2},null,null,0,0,0,0,0,0,0]
[null,"Anno 2017",{"$f":"+'[1]PIVOT allegato II'!B104","v":2067936.70954403},{"$f":"+'[1]PIVOT allegato II'!C104","v":8.5682007143295325E-2},{"$f":"+'[1]PIVOT allegato II'!D104","v":219861.70927132756},{"$f":"+'[1]PIVOT allegato II'!E104","v":-7.6931802682523753E-2},{"$f":"+'[1]PIVOT allegato II'!F104","v":190644.53287702225},{"$f":"+'[1]PIVOT allegato II'!G104","v":0.1210956290855143},{"$f":"+'[1]PIVOT allegato II'!H104","v":28152.029392330227},{"$f":"+'[1]PIVOT allegato II'!I104","v":5.3868334752151803E-3},{"$f":"+'[1]PIVOT allegato II'!J104","v":197424.01891529019},{"$f":"+'[1]PIVOT allegato II'!K104","v":0.52143308884904216},{"$f":"+'[1]PIVOT allegato II'!L104","v":2704019},{"$f":"+'[1]PIVOT allegato II'!M104","v":9.4418424307574744E-2},null,null,0,0,0,0,0,0,0]
[null,"Anno 2018",{"$f":"+'[1]PIVOT allegato II'!B105","v":2255072.3088335074},{"$f":"+'[1]PIVOT allegato II'!C105","v":9.0493871705938256E-2},{"$f":"+'[1]PIVOT allegato II'!D105","v":236686.35624623764},{"$f":"+'[1]PIVOT allegato II'!E105","v":7.6523770467676444E-2},{"$f":"+'[1]PIVOT allegato II'!F105","v":182497.84488722828},{"$f":"+'[1]PIVOT allegato II'!G105","v":-4.2732345202099786E-2},{"$f":"+'[1]PIVOT allegato II'!H105","v":28709.723185195191},{"$f":"+'[1]PIVOT allegato II'!I105","v":1.9810074261179311E-2},{"$f":"+'[1]PIVOT allegato II'!J105","v":198474.76684783155},{"$f":"+'[1]PIVOT allegato II'!K105","v":5.3222902578646814E-3},{"$f":"+'[1]PIVOT allegato II'!L105","v":2901441},{"$f":"+'[1]PIVOT allegato II'!M105","v":7.301058165641594E-2},null,null,0,0,0,0,0,0,0]
[null,"Anno 2019",{"$f":"+'[1]PIVOT allegato II'!B106","v":2149761.3616581522},{"$f":"+'[1]PIVOT allegato II'!C106","v":-4.6699587752833449E-2},{"$f":"+'[1]PIVOT allegato II'!D106","v":269928.06146354746},{"$f":"+'[1]PIVOT allegato II'!E106","v":0.14044622488812442},{"$f":"+'[1]PIVOT allegato II'!F106","v":410291.462035303},{"$f":"+'[1]PIVOT allegato II'!G106","v":1.2481989433290912},{"$f":"+'[1]PIVOT allegato II'!H106","v":24603.136474320578},{"$f":"+'[1]PIVOT allegato II'!I106","v":-0.14303818550895209},{"$f":"+'[1]PIVOT allegato II'!J106","v":355295.97836867691},{"$f":"+'[1]PIVOT allegato II'!K106","v":0.79013173317431584},{"$f":"+'[1]PIVOT allegato II'!L106","v":3209880},{"$f":"+'[1]PIVOT allegato II'!M106","v":0.1063054530490195},null,null,0,0,0,0,0,0,0]
[null,"Anno 2020",{"$f":"+'[1]PIVOT allegato II'!B107","v":2029013.2992703377},{"$f":"+'[1]PIVOT allegato II'!C107","v":-5.6168123839884787E-2},{"$f":"+'[1]PIVOT allegato II'!D107","v":255080.58303059166},{"$f":"+'[1]PIVOT allegato II'!E107","v":-5.5005316425616901E-2},{"$f":"+'[1]PIVOT allegato II'!F107","v":447374.98521584726},{"$f":"+'[1]PIVOT allegato II'!G107","v":9.0383365514326686E-2},{"$f":"+'[1]PIVOT allegato II'!H107","v":22438.385216259627},{"$f":"+'[1]PIVOT allegato II'!I107","v":-8.7986800395161047E-2},{"$f":"+'[1]PIVOT allegato II'!J107","v":350607.74726696406},{"$f":"+'[1]PIVOT allegato II'!K107","v":-1.3195283333176544E-2},{"$f":"+'[1]PIVOT allegato II'!L107","v":3104515},{"$f":"+'[1]PIVOT allegato II'!M107","v":-3.2825214649768841E-2},null,null,0,0,0,0,0,0,0]
[]
[null,"Eventuali varizioni dei dati relativi a semestri precedenti rispetto a quelli già pubblicati in passato sono dovute ad affinamenti nella ripartizione dei premi da parte delle imprese."]
[]
[]
[]
[]
[]
[]
[]
[]
[]
[]
[]
[]
[]
[]
[]
[]
[]
[]
[]
[]
[]
[]
[]
[]
[]
[]
[]
[]
[]
[]
[]
[]
[]
[]
[]
[null,null,null,null,null,null,null,null,null,null,null,null,null,null,null,null,"TIPOLOGIA","GARANZIA","I semestre 2014","I semestre 2015","I semestre 2016","I semestre 2017","I semestre 2018","I semestre 2019","I semestre 2020","I semestre 2021","Anno 2014","Anno 2015","Anno 2016","Anno 2017","Anno 2018","Anno 2019","Anno 2020"]
[null,null,null,null,null,null,null,null,null,null,null,null,null,null,null,null,"IND","Rimborso spese mediche",257521.31796022045,202589.6213135327,242729.65977082765,260712.79105772232,269766.85304523999,272358.62355847569,251050.20584216792,257605.52337187497,400016.18687035562,411034.78966485604,379367.0503328208,450522.4728552603,484113.77882507409,482176.00650601496,523051.29975121783]
[null,null,null,null,null,null,null,null,null,null,null,null,null,null,null,null,null,"Invalidità permanente",34132.432737268326,40591.085978458425,55856.095776041526,64599.709348088902,66132.090123249916,77304.2586242494,71490.161916019584,73017.008841248069,57362.996287919646,58943.082524289464,86163.870852656852,126040.01658849178,131739.93978078,143155.91765655554,145009.44100781999]
[null,null,null,null,null,null,null,null,null,null,null,null,null,null,null,null,null,"Diaria",66646.185892266731,55244.285124371818,46553.855490937516,47184.871744671218,48508.979309193273,49678.165069119437,49970.428610432558,59431.77216472174,109751.45806359849,112774.60503167853,92035.961033331085,84330.803091709487,96973.176251959623,91746.980778800265,88809.963349511148]
[null,null,null,null,null,null,null,null,null,null,null,null,1071943,null,null,null,null,"Long term care",1010.9406163242815,1277.5612375151718,930.95264017111526,1332.1728914027108,1675.0847762137287,1837.7295906013585,1248.4584773770723,1062.5242502252929,1285.1965856691031,1320.5978298065697,2508.9465507842833,2520.9676070203118,2735.2915341577013,3401.7425542807787,2960.0223580980091]
[null,null,null,null,null,null,null,null,null,null,null,null,1101702,null,null,null,null,"Altro",39123.509245052257,34996.692866885285,44651.017217856963,48438.568177372268,52687.455317848769,81651.796731923809,84173.882284170133,80987.81484754417,66623.031129861905,68458.188658683357,72623.628692501312,72091.995110883581,86473.91054599265,94632.529376425548,172857.62966128893]
[null,null,null,null,null,null,null,null,null,null,null,null,1195060,null,null,null,null,"Totale",398434.38645113207,334699.24652076338,390721.58089583472,422268.11321925756,438770.46257174574,482830.57357436954,457933.13713016722,472104.64347561437,635038.86893740459,652531.2637093137,632699.45746209426,735506.25525336526,802036.09693796386,815113.17687207728,932688.35612793593]
[null,null,null,null,null,null,null,null,null,null,null,null,1267537,null,null,null,"COL","Rimborso spese mediche",522046.66879888723,652191.35380498553,686800.29728125967,680568.88701564574,800958.34686741908,832834.64126169228,792086.21013229399,875148.63165351364,1228562.1056308888,1253047.7763521988,1577662.7913592428,1645597.7627610008,1748450.5574646492,2038751.2758418792,1557797.0809734885]
[null,null,null,null,null,null,null,null,null,null,null,null,1377510,null,null,null,null,"Invalidità permanente",56773.802043959826,44409.356236572552,45129.401916759743,59460.824886668022,42000.347227929597,51270.215363560033,40128.193071201182,44161.972318670145,147941.34156914652,150889.86404035747,111093.7702927325,129171.670402691,97150.255713207574,105456.75711618143,114974.7325450089]
[null,null,null,null,null,null,null,null,null,null,null,null,1579542,null,null,null,null,"Diaria",55060.337177383917,39756.018969491823,39803.471547180328,40711.715078160407,40509.57437309665,130092.67878643524,169992.1183675495,180363.80748878085,116275.20475616811,118592.61009014622,86180.30801901524,98437.124907866688,103322.3216404751,103163.57215486206,308508.43177106453]
[null,null,null,null,null,null,null,null,null,null,null,null,1551451,null,null,null,null,"Long term care",18089.854655164483,15167.19620920273,17584.796923543072,13228.017637583989,15081.849282166659,12493.138186481072,13093.018816717227,12544.008729735147,32265.043448285476,32908.097003382529,28359.472452700644,28700.209247193448,28064.935031750294,29165.118677045433,20903.678361711296]
[null,null,null,null,null,null,null,null,null,null,null,null,2234389,null,null,null,null,"Altro",21537.950873472535,15478.82825898392,15020.451435422612,51299.44216268423,40189.41967764205,70020.752827461969,78218.322482070973,68092.936333685953,74306.435658106449,75787.388804601433,34740.200414214327,66605.977427882754,122416.83321195393,118230.09933795479,169642.72022079071]
[null,null,null,null,null,null,null,null,null,null,null,null,2283757,null,null,null,null,"Totale",673508.61354886799,767002.75347923662,804338.41910416528,845268.88678074244,938739.53742825426,1096711.4264256305,1093517.8628698327,1180311.3565243857,1599350.1310625954,1631225.7362906861,1838036.5425379057,1968512.7447466347,2099404.9030620363,2394766.8231279231,2171826.6438720641]
[null,null,null,null,null,null,null,null,null,null,null,null,2470736,null,null,null,"TOT","Rimborso spese mediche",779567.98675910768,854780.97511851822,929529.95705208729,941281.67807336804,1070725.1999126591,1105193.264820168,1043136.4159744618,1132754.1550253888,1628578.2925012445,1664082.5660170547,1957029.8416920633,2096120.2356162611,2232564.3362897234,2520927.2823478943,2080848.3807247065]
[null,null,null,null,null,null,null,null,null,null,null,null,2704019,null,null,null,null,"Invalidità permanente",90906.234781228151,85000.442215030969,100985.49769280126,124060.53423475692,108132.43735117951,128574.47398780944,111618.35498722077,117178.98115991821,205304.33785706616,209832.94656464693,197257.64114538938,255211.6869911828,228890.19549398756,248612.67477273697,259984.17355282887]
[null,null,null,null,null,null,null,null,null,null,null,null,2901441,null,null,null,null,"Diaria",121706.52306965065,95000.30409386364,86357.327038117844,87896.586822831625,89018.55368228993,179770.84385555467,219962.54697798207,239795.57965350259,226026.66281976659,231367.21512182473,178216.26905234632,182767.92799957618,200295.49789243471,194910.55293366231,397318.39512057567]
[null,null,null,null,null,null,null,null,null,null,null,null,3209880,null,null,null,null,"Long term care",19100.795271488769,16444.7574467179,18515.749563714187,14560.190528986699,16756.934058380386,14330.867777082431,14341.4772940943,13606.532979960441,33550.240033954578,34228.694833189104,30868.419003484927,31221.176854213758,30800.226565907997,32566.861231326217,23863.700719809305]
[null,null,null,null,null,null,null,null,null,null,null,null,null,null,null,null,null,"Altro",60661.460118524788,50475.5211258692,59671.468653279582,99738.010340056513,92876.874995490813,151672.54955938578,162392.20476624111,149080.75118123012,140929.46678796833,144245.5774632848,107363.82910671564,138697.97253876633,208890.74375794659,212862.62871438032,342500.34988207958]
[null,null,null,null,null,null,null,null,null,null,null,null,null,null,null,null,null,"Totale",1071943,1101702,1195060,1267537,1377510,1579542,1551451,1652416,2234389,2283757,2470736,2704019,2901441,3209880,3104515]
[]
[null,null,null,null,null,null,null,null,null,null,null,null,null,null,null,null,null,{"$f":"+R96","v":"GARANZIA"},{"$f":"+S96","v":"I semestre 2014"},"I semestre 2015","I semestre 2016","I semestre 2017","I semestre 2018","I semestre 2019","I semestre 2020",{"$f":"+Z96","v":"I semestre 2021"},{"$f":"+AA96","v":"Anno 2014"},"Anno 2015","Anno 2016","Anno 2017","Anno 2018","Anno 2019","Anno 2020"]
[null,null,null,null,null,null,null,null,null,null,null,null,null,null,null,null,{"$f":"+Q102","v":0},{"$f":"+R102","v":"Totale"},{"$f":"+S102","v":398434.38645113207},{"$f":"+T102","v":334699.24652076338},390721.58089583472,422268.11321925756,438770.46257174574,482830.57357436954,457933.13713016722,{"$f":"+Z102","v":472104.64347561437},{"$f":"+AA102","v":635038.86893740459},652531.2637093137,632699.45746209426,735506.25525336526,802036.09693796386,815113.17687207728,932688.35612793593]
[null,null,null,null,null,null,null,null,null,null,null,null,null,null,null,null,{"$f":"+Q108","v":0},{"$f":"+R108","v":"Totale"},{"$f":"+S108","v":673508.61354886799},{"$f":"+T108","v":767002.75347923662},804338.41910416528,845268.88678074244,938739.53742825426,1096711.4264256305,1093517.8628698327,{"$f":"+Z108","v":1180311.3565243857},{"$f":"+AA108","v":1599350.1310625954},1631225.7362906861,1838036.5425379057,1968512.7447466347,2099404.9030620363,2394766.8231279231,2171826.6438720641]
[null,null,null,null,null,null,null,null,null,null,null,null,null,null,null,null,{"$f":"+Q114","v":0},{"$f":"+R114","v":"Totale"},{"$f":"+S114","v":1071943},{"$f":"+T114","v":1101702},1195060,1267537,1377510,1579542,1551451,{"$f":"+Z114","v":1652416},{"$f":"+AA114","v":2234389},2283757,2470736,2704019,2901441,3209880,3104515]
[null,null,null,null,null,null,null,null,null,null,null,null,null,null,null,null,null,"Individuali ",{"$f":"+S117/S$119","v":0.37169363151877671},0.30380197777689738,0.32694725026009969,0.33314066036672502,0.31852433925833262,0.30567757842106735,0.29516442164797163,{"$f":"+Z117/Z$119","v":0.28570568396554763},{"$f":"+AA117/AA$119","v":0.28421141929064481},0.2857270995597665,0.25607732168151282,0.27200483992655572,0.27642681582633039,0.25393883162986691,0.30042965040527614]
[null,null,null,null,null,null,null,null,null,null,null,null,null,null,null,null,null,"Collettive",{"$f":"+S118/S$119","v":0.62830636848122334},0.69619802222310267,0.67305274973990037,0.66685933963327493,0.68147566074166743,0.69432242157893265,0.70483557835202826,{"$f":"+Z118/Z$119","v":0.71429431603445248},0.71578858070935514,0.71427290044023339,0.74392267831848713,0.72799516007344434,0.72357318417366967,0.74606116837013314,0.69957034959472386]
[]
[]
[]
[null,null,null,null,null,null,null,null,null,null,null,null,null,null,null,null,null,null,"I semestre 2014","I semestre 2015","I semestre 2016","I semestre 2017","I semestre 2018","I semestre 2019","I semestre 2020","I semestre 2021","Anno 2014","Anno 2015","Anno 2016","Anno 2017","Anno 2018","Anno 2019","Anno 2020"]
[]
[null,null,null,null,null,null,null,null,null,null,null,null,null,null,null,null,null,"INDIVIDUALI"]
[null,null,null,null,null,null,null,null,null,null,null,null,null,null,null,null,null,"Rimborso spese mediche",{"$f":"+S97/S$102","v":0.64633306440734484},{"$f":"+T97/T$102","v":0.6052885491063239},0.62123433063078926,0.61741055716975335,0.61482455191734553,0.56408735996608295,0.54822458888972492,{"$f":"+Z97/Z$102","v":0.54565344131206595},{"$f":"+AA97/AA$102","v":0.62990819371370632},0.62990819371370643,0.59960072015005494,0.61253384269324196,0.60360597318915865,0.59154485559455872,0.56079964579237374]
[null,null,null,null,null,null,null,null,null,null,null,null,null,null,null,null,null,"Invalidità permanente",{"$f":"+S98/S$102","v":8.5666382967813107E-2},0.12127629924598686,0.14295625966698933,0.15298268404781559,0.15072138114227845,0.16010638690911805,0.15611484760426619,{"$f":"+Z98/Z$102","v":0.15466276354263314},9.0329898048451401E-2,9.0329898048451401E-2,0.13618451831503114,0.17136498253855617,0.16425687108565371,0.17562704384917854,0.15547469854757057]
[null,null,null,null,null,null,null,null,null,null,null,null,null,null,null,null,null,"Diaria",0.16727016582551135,0.16505649683601747,0.11914841095851485,0.11174149851132863,0.11055662002603767,0.10288943531755781,0.10912166986559109,{"$f":"+Z99/Z$102","v":0.12588686213121641},0.17282636297088869,0.17282636297088869,0.14546552861371004,0.11465681289503028,0.12090874291342567,0.11255735201198803,9.5219333195287761E-2]
[null,null,null,null,null,null,null,null,null,null,null,null,null,null,null,null,null,"Long term care",2.5372825506572417E-3,3.8170424666191089E-3,2.382649655636259E-3,3.154803428671386E-3,3.8176789895920274E-3,3.8061582906748059E-3,2.726289879786967E-3,{"$f":"+Z100/Z$102","v":2.2506117338796637E-3},2.0238077518303596E-3,2.0238077518303596E-3,3.9654634142539903E-3,3.427527079496959E-3,3.410434448774282E-3,4.1733377042617028E-3,3.173645664867704E-3]
[null,null,null,null,null,null,null,null,null,null,null,null,null,null,null,null,null,"Altro",9.8193104248673446E-2,0.10456161234505269,0.11427834908807047,0.11471045684243066,0.1200797679247462,0.16911065951656667,0.18381260376063102,{"$f":"+Z101/Z$102","v":0.17154632128020456},0.1049117375151235,0.1049117375151235,0.11478376950694995,9.8016834793674901E-2,0.1078179783629879,0.11609741084001277,0.18533267679990015]
[null,null,null,null,null,null,null,null,null,null,null,null,null,null,null,null,null,"Totale",1,1,1,1,1,1,1,{"$f":"+Z102/Z$102","v":1},1,1,1,1,1,1,1]
[]
[null,null,null,null,null,null,null,null,null,null,null,null,null,null,null,null,null,"COLLETTIVE CORRETTO"]
[null,null,null,null,null,null,null,null,null,null,null,null,null,null,null,null,null,"Rimborso spese mediche",{"$f":"+S103/S$108","v":0.77511505910534118},{"$f":"+T103/T$108","v":0.85031161993428339},0.85386981520314031,0.80515076049661949,0.85322745546832213,0.7593926909068891,0.72434684153539086,{"$f":"+Z103/Z$108","v":0.74145574116183022},{"$f":"+AA103/AA$108","v":0.76816331944440586},0.76816331944440608,0.85834136310524778,0.8359599231209468,0.83283151092697216,0.85133602827308485,0.71727505755070464]
[null,null,null,null,null,null,null,null,null,null,null,null,null,null,null,null,null,"Invalidità permanente",{"$f":"+S104/S$108","v":8.4295584201671783E-2},5.7899865463487868E-2,5.610748019101558E-2,7.0345455530876289E-2,4.4741214738853577E-2,4.674904822561976E-2,3.6696422101316746E-2,{"$f":"+Z104/Z$108","v":3.7415527754229259E-2},9.2500909398028741E-2,9.2500909398028741E-2,6.0441546031145578E-2,6.5618914963802566E-2,4.6275139955856734E-2,4.403633627195451E-2,5.2939185026308073E-2]
[null,null,null,null,null,null,null,null,null,null,null,null,null,null,null,null,null,"Diaria",8.1751496669446658E-2,5.1832954691691406E-2,4.9485975805447141E-2,4.8164218173477824E-2,4.3153156714881312E-2,0.11862070153716686,0.15545435894519499,{"$f":"+Z105/Z$108","v":0.15281036354669222},7.2701532014703876E-2,7.2701532014703876E-2,4.688715704205753E-2,5.0005835710520856E-2,4.9215052079652107E-2,4.3078754540333504E-2,0.14205021042611257]
[null,null,null,null,null,null,null,null,null,null,null,null,null,null,null,null,null,"Long term care",2.6859128883066515E-2,1.9774630717298094E-2,2.1862435643852745E-2,1.5649478934405939E-2,1.6066063781104277E-2,1.1391454383947052E-2,1.1973301270411674E-2,{"$f":"+Z106/Z$108","v":1.06277116291357E-2},2.0173846127644883E-2,2.0173846127644883E-2,1.5429221234928623E-2,1.4579641063430059E-2,1.3368043006290431E-2,1.2178688294566998E-2,9.6249295129941636E-3]
[null,null,null,null,null,null,null,null,null,null,null,null,null,null,null,null,null,"Altro",3.1978731140473823E-2,2.0180929193239126E-2,1.8674293156544345E-2,6.0690086864620386E-2,4.2812109296838513E-2,6.3846104946377324E-2,7.1529076147685861E-2,{"$f":"+Z107/Z$108","v":5.7690655908112599E-2},4.6460393015216657E-2,4.646039301521665E-2,1.8900712586620339E-2,3.3835685141299678E-2,5.8310254031228477E-2,4.9370192620060031E-2,7.8110617483880485E-2]
[null,null,null,null,null,null,null,null,null,null,null,null,null,null,null,null,null,"Totale",1,1,1,1,1,1,1,{"$f":"+Z108/Z$108","v":1},1,1,1,1,1,1,1]
[]
[null,null,null,null,null,null,null,null,null,null,null,null,null,null,null,null,null,"TOTALE (IND.+COLL.)"]
[null,null,null,null,null,null,null,null,null,null,null,null,null,null,null,null,null,"Rimborso spese mediche",{"$f":"+S109/S$114","v":0.72724761182181108},{"$f":"+T109/T$114","v":0.77587312641578055},0.77781028320928425,0.74260686518292407,0.77729032813747934,0.69969223029217842,0.67236181869389477,{"$f":"+Z109/Z$114","v":0.68551391116122629},{"$f":"+AA109/AA$114","v":0.72886963393627724},0.72866008337010235,0.79208375224712935,0.77518694787879117,0.76946742542403013,0.78536496141534706,0.67026520429912773]
[null,null,null,null,null,null,null,null,null,null,null,null,null,null,null,null,null,"Invalidità permanente",{"$f":"+S110/S$114","v":8.4805101373140318E-2},7.7153751391057623E-2,8.4502449829130979E-2,9.7875276409885414E-2,7.8498477216992629E-2,8.13998450106483E-2,7.1944492599006205E-2,{"$f":"+Z110/Z$114","v":7.0913729448225035E-2},9.1883883181069256E-2,9.1880592622002655E-2,7.983760350980007E-2,9.4382357147336171E-2,7.888845421774475E-2,7.7452326807462266E-2,8.3743893507626427E-2]
[null,null,null,null,null,null,null,null,null,null,null,null,null,null,null,null,null,"Diaria",0.11353824137071715,8.6230490726043552E-2,7.2261917425165134E-2,6.9344395329549849E-2,6.4622800329790661E-2,0.11381200617365962,0.14177859756961841,{"$f":"+Z111/Z$114","v":0.14511816616003634},0.10115815232699704,0.10130990955772647,7.2130842409851278E-2,6.7591214410688744E-2,6.9033110751669499E-2,6.0722068405567285E-2,0.12798082635148347]
[null,null,null,null,null,null,null,null,null,null,null,null,null,null,null,null,null,"Long term care",1.7818853494531675E-2,1.4926683846192437E-2,1.5493573179350148E-2,1.1486994485357586E-2,1.2164655108406027E-2,9.0727994425488095E-3,9.2439125013257274E-3,{"$f":"+Z112/Z$114","v":8.2343265739138576E-3},1.5015397960674966E-2,1.4987888305624943E-2,1.2493612835804767E-2,1.1546212084387631E-2,1.0615492979491225E-2,1.0145818918877409E-2,7.6867725618363272E-3]
[null,null,null,null,null,null,null,null,null,null,null,null,null,null,null,null,null,"Altro",5.6590191939799771E-2,4.5815947620925807E-2,4.9931776357069586E-2,7.8686468592282913E-2,6.7423739207331204E-2,9.60231190809651E-2,0.10467117863615487,{"$f":"+Z113/Z$114","v":9.021986665659866E-2},6.307293259498159E-2,6.3161526144543748E-2,4.3454188997414392E-2,5.1293268478796318E-2,7.1995516627064479E-2,6.6314824452746002E-2,0.11032330327992604]
[null,null,null,null,null,null,null,null,null,null,null,null,null,null,null,null,null,"Totale",1,1,1,1,1,1,1,{"$f":"+Z114/Z$114","v":1},1,1,1,1,1,1,1]

{"sheet":"pivot-MAL2014","index":45,"n_rows":113,"n_cols":20,"rows_kept":113,"cut":false,"hidden":true,"merged":[[1,6,1,11],[1,12,1,17],[58,6,58,12],[58,13,58,19]]}
[null,null,null,null,null,"MAL2","Dicembre 2014",{"$f":"+RIGHT(G1,4)","v":"2014"}]
[null,{"$f":"SUM(B5:B52)","v":{"$error":"#N/A"}},{"$f":"SUM(C5:C52)","v":{"$error":"#N/A"}},null,null,"PREMI CONTABILIZZATI - MALATTIA","INDIVIDUALI",null,null,null,null,null,"COLLETTIVE"]
[null,null,null,null,null,null,"Dati"]
[null,"premi ind","premi coll",null,null,"MAL1","Somma di MAL_SM","Somma di MAL_IP","Somma di MAL_DI","Somma di MAL_LTC","Somma di MAL_AL","Somma di MAL_TOT","Somma di MALCOL_SM","Somma di MALC_IP","Somma di MALC_DI","Somma di MALC_LTC","Somma di MALC_AL","Somma di MALC_TOT"]
[{"$f":"IF(AND(L5=\"\",R5=\"\"),\"\",(MID(F5,7,50)))","v":"ALLIANZ S.P.A."},{"$f":"+IF(L5=\"\",\"\",VLOOKUP(A5,'Quota Mal (2014)'!$B$9:$E$116,4,FALSE))","v":7.71},{"$f":"IF(R5=\"\",\"\",VLOOKUP(A5,'Quota Mal (2014)'!$B$9:$E$116,4,FALSE))","v":7.71},null,1,"003 - ALLIANZ S.P.A.",21147137.056322917,7541013.2963003526,8416211.8558596484,0,17837133.385009576,54941495.593492493,2536955.4092554827,1390385.7646495858,1224210.4482908575,0,1341254.2597040888,6492805.8819000144,"PREMI ANNUI IMPONIBILI. La distinzione fra Linea Persone e linea SMC è la loro migliore proxy disponibile al momento fra individuali e collettive. Non hanno il dato della nuova produzione vita."]
[{"$f":"IF(AND(L6=\"\",R6=\"\"),\"\",(MID(F6,7,50)))","v":"GENERALI ITALIA"},{"$f":"+IF(L6=\"\",\"\",VLOOKUP(A6,'Quota Mal (2014)'!$B$9:$E$116,4,FALSE))","v":20.54},null,null,2,"005 - GENERALI ITALIA",105124228,3574352,19582574,0,7216640,135497794,0,0,0,0,0,0,"STIMA per le polizze individuali hanno ripartito i PLC  per garanzia in base alla percentuale rilevata in portafoglio per le medesime garanzie, non hanno dati sullle collettive e sul numero di polizze"]
["",{"$f":"+IF(L7=\"\",\"\",VLOOKUP(A7,'Quota Mal (2014)'!$B$9:$E$116,4,FALSE))","v":""},{"$f":"IF(R7=\"\",\"\",VLOOKUP(A7,'Quota Mal (2014)'!$B$9:$E$116,4,FALSE))","v":""},null,3,"007 - COMPAGNIA DI ASS. DI MILANO"]
["AXA ASSICURAZIONI",{"$f":"+IF(L8=\"\",\"\",VLOOKUP(A8,'Quota Mal (2014)'!$B$9:$E$116,4,FALSE))","v":2.2999999999999998},{"$f":"IF(R8=\"\",\"\",VLOOKUP(A8,'Quota Mal (2014)'!$B$9:$E$116,4,FALSE))","v":2.2999999999999998},null,4,"014 - AXA ASSICURAZIONI",39250863,3747379,5248520,0,1671831,49918593,3521262,657206,15157,0,333398,4527023]
["",{"$f":"+IF(L9=\"\",\"\",VLOOKUP(A9,'Quota Mal (2014)'!$B$9:$E$116,4,FALSE))","v":""},{"$f":"IF(R9=\"\",\"\",VLOOKUP(A9,'Quota Mal (2014)'!$B$9:$E$116,4,FALSE))","v":""},null,5,"019 - HELVETIA SA"]
["ITAS MUTUA",{"$f":"+IF(L10=\"\",\"\",VLOOKUP(A10,'Quota Mal (2014)'!$B$9:$E$116,4,FALSE))","v":0.45},{"$f":"IF(R10=\"\",\"\",VLOOKUP(A10,'Quota Mal (2014)'!$B$9:$E$116,4,FALSE))","v":0.45},null,6,"022 - ITAS MUTUA",1291074.2549711617,1392230.6692038565,3276578.6587471184,0,4122326.0265653976,10082209.609487534,0,0,29364.149447536111,0,23186.66106492978,52550.81051246589]
["ITALIANA ASSICURAZIONI",{"$f":"+IF(L11=\"\",\"\",VLOOKUP(A11,'Quota Mal (2014)'!$B$9:$E$116,4,FALSE))","v":0.76},{"$f":"IF(R11=\"\",\"\",VLOOKUP(A11,'Quota Mal (2014)'!$B$9:$E$116,4,FALSE))","v":0.76},null,7,"023 - ITALIANA ASSICURAZIONI",5613944.3478989014,2146237.5097956667,2929829.4323642803,48141.220134082781,281078.15331269015,11019230.663505621,5848610.0410951683,52190.249350915103,578.11604829439614,0,0,5901378.4064943772]
["SARA ASSICURAZIONI",{"$f":"+IF(L12=\"\",\"\",VLOOKUP(A12,'Quota Mal (2014)'!$B$9:$E$116,4,FALSE))","v":0.32},{"$f":"IF(R12=\"\",\"\",VLOOKUP(A12,'Quota Mal (2014)'!$B$9:$E$116,4,FALSE))","v":0.32},null,8,"032 - SARA ASSICURAZIONI",1678287,357617,1188634,0,1660449,4884987,2316270,3707,7235,0,0,2327212]
["",{"$f":"+IF(L13=\"\",\"\",VLOOKUP(A13,'Quota Mal (2014)'!$B$9:$E$116,4,FALSE))","v":""},{"$f":"IF(R13=\"\",\"\",VLOOKUP(A13,'Quota Mal (2014)'!$B$9:$E$116,4,FALSE))","v":""},null,9,"034 - FONDIARIA - SAI"]
["UNIPOLSAI ASSICURAZIONI",{"$f":"+IF(L14=\"\",\"\",VLOOKUP(A14,'Quota Mal (2014)'!$B$9:$E$116,4,FALSE))","v":10.78},{"$f":"IF(R14=\"\",\"\",VLOOKUP(A14,'Quota Mal (2014)'!$B$9:$E$116,4,FALSE))","v":10.78},null,10,"034 - UNIPOLSAI ASSICURAZIONI",94142419,6754321,17699275,0,10948006,129544021,101358532,3262789,2069921,0,4028156,110719398]
["SOCIETA' REALE MUTUA",{"$f":"+IF(L15=\"\",\"\",VLOOKUP(A15,'Quota Mal (2014)'!$B$9:$E$116,4,FALSE))","v":3.79},{"$f":"IF(R15=\"\",\"\",VLOOKUP(A15,'Quota Mal (2014)'!$B$9:$E$116,4,FALSE))","v":3.79},null,11,"035 - SOCIETA' REALE MUTUA",19494644.809035942,5679232.9148798054,4398235.7256807778,107480.45686921512,384923.63274645648,30064517.539212197,41442360.097164005,1354957.1176807235,762772.21085187152,2085902.0831980263,8949319.7912931759,54595311.300187796]
["VITTORIA ASSICURAZIONI",{"$f":"+IF(L16=\"\",\"\",VLOOKUP(A16,'Quota Mal (2014)'!$B$9:$E$116,4,FALSE))","v":0.53},{"$f":"IF(R16=\"\",\"\",VLOOKUP(A16,'Quota Mal (2014)'!$B$9:$E$116,4,FALSE))","v":0.53},null,12,"038 - VITTORIA ASSICURAZIONI",5328008,656089,2903155,0,31389,8918641,938428,216279,351439,0,5729,1511875]
["ASSICURAZIONI RISCHI AGRICOLI VMG 1857",{"$f":"+IF(L17=\"\",\"\",VLOOKUP(A17,'Quota Mal (2014)'!$B$9:$E$116,4,FALSE))","v":0},{"$f":"IF(R17=\"\",\"\",VLOOKUP(A17,'Quota Mal (2014)'!$B$9:$E$116,4,FALSE))","v":0},null,13,"045 - ASSICURAZIONI RISCHI AGRICOLI VMG 1857",1952,0,0,0,0,1952,0,0,0,0,0,0,"ok, non emettono polizze collettive"]
["SUN INSURANCE OFFICE LIMITED RSA",{"$f":"+IF(L18=\"\",\"\",VLOOKUP(A18,'Quota Mal (2014)'!$B$9:$E$116,4,FALSE))","v":0.05},{"$f":"IF(R18=\"\",\"\",VLOOKUP(A18,'Quota Mal (2014)'!$B$9:$E$116,4,FALSE))","v":0.05},null,14,"080 - SUN INSURANCE OFFICE LIMITED RSA",87182,293944,514659,0,10043,905828,298,199109,5607,0,0,205014]
["",{"$f":"+IF(L19=\"\",\"\",VLOOKUP(A19,'Quota Mal (2014)'!$B$9:$E$116,4,FALSE))","v":""},{"$f":"IF(R19=\"\",\"\",VLOOKUP(A19,'Quota Mal (2014)'!$B$9:$E$116,4,FALSE))","v":""},null,15,"082 - UNIPOL ASSICURAZIONI",null,null,null,null,null,null,null,null,null,null,null,null,"oggi 30/03/2016 Puccioni mi ha detto che ha solo il numero delle polizze collettive e non il numero delle teste"]
["CARIGE R.D. ASSICURAZIONI E RIASSICURAZIONI",{"$f":"+IF(L20=\"\",\"\",VLOOKUP(A20,'Quota Mal (2014)'!$B$9:$E$116,4,FALSE))","v":0.2},null,null,16,"086 - CARIGE R.D. ASSICURAZIONI E RIASSICURAZIONI",1560452,799555,1401902,0,120148,3882057,0,0,0,0,0,0]
["HDI ASSICURAZIONI",{"$f":"+IF(L21=\"\",\"\",VLOOKUP(A21,'Quota Mal (2014)'!$B$9:$E$116,4,FALSE))","v":0.13},{"$f":"IF(R21=\"\",\"\",VLOOKUP(A21,'Quota Mal (2014)'!$B$9:$E$116,4,FALSE))","v":0.13},null,17,"133 - HDI ASSICURAZIONI",651848,267687,319625,0,261,1239421,1207651,208336,154805,0,161,1570953]
["GENIALLOYD",{"$f":"+IF(L22=\"\",\"\",VLOOKUP(A22,'Quota Mal (2014)'!$B$9:$E$116,4,FALSE))","v":0},{"$f":"IF(R22=\"\",\"\",VLOOKUP(A22,'Quota Mal (2014)'!$B$9:$E$116,4,FALSE))","v":0},null,18,"139 - GENIALLOYD",0,0,0,0,1024.3900000000001,1024.3900000000001,0,0,0,0,0,0,"ok, non emettono polizze collettive"]
["GROUPAMA ASSICURAZIONI",{"$f":"+IF(L23=\"\",\"\",VLOOKUP(A23,'Quota Mal (2014)'!$B$9:$E$116,4,FALSE))","v":0.88},{"$f":"IF(R23=\"\",\"\",VLOOKUP(A23,'Quota Mal (2014)'!$B$9:$E$116,4,FALSE))","v":0.88},null,19,"151 - GROUPAMA ASSICURAZIONI",9705352,1862748,3897086,0,849531,16314717,2017567,125859,153521,0,960793,3257740]
["NATIONALE SUISSE",{"$f":"+IF(L24=\"\",\"\",VLOOKUP(A24,'Quota Mal (2014)'!$B$9:$E$116,4,FALSE))","v":0.04},{"$f":"IF(R24=\"\",\"\",VLOOKUP(A24,'Quota Mal (2014)'!$B$9:$E$116,4,FALSE))","v":0.04},null,20,"208 - NATIONALE SUISSE",286276,25861,250127,0,18720,580984,90147,0,81328,0,57498,228973]
["",{"$f":"+IF(L25=\"\",\"\",VLOOKUP(A25,'Quota Mal (2014)'!$B$9:$E$116,4,FALSE))","v":""},{"$f":"IF(R25=\"\",\"\",VLOOKUP(A25,'Quota Mal (2014)'!$B$9:$E$116,4,FALSE))","v":""},null,21,"225 - ISI INSURANCE Compagnia di Assicurazioni"]
["AXA MPS ASSICURAZIONI DANNI",{"$f":"+IF(L26=\"\",\"\",VLOOKUP(A26,'Quota Mal (2014)'!$B$9:$E$116,4,FALSE))","v":0.49},{"$f":"IF(R26=\"\",\"\",VLOOKUP(A26,'Quota Mal (2014)'!$B$9:$E$116,4,FALSE))","v":0.49},null,22,"243 - AXA MPS ASSICURAZIONI DANNI",1729325.5,1370487.7,1819428.01,0,-17727.450000000012,4901513.76,26025.73,4445829.67,0,0,1258912,5730767.4000000004]
["GENERTEL",{"$f":"+IF(L27=\"\",\"\",VLOOKUP(A27,'Quota Mal (2014)'!$B$9:$E$116,4,FALSE))","v":0.09},{"$f":"IF(R27=\"\",\"\",VLOOKUP(A27,'Quota Mal (2014)'!$B$9:$E$116,4,FALSE))","v":0.09},null,23,"247 - GENERTEL",87906,30164,7590,0,715,126375,0,1232407,0,0,633068,1865475]
["ASSIMOCO",{"$f":"+IF(L28=\"\",\"\",VLOOKUP(A28,'Quota Mal (2014)'!$B$9:$E$116,4,FALSE))","v":0.42},{"$f":"IF(R28=\"\",\"\",VLOOKUP(A28,'Quota Mal (2014)'!$B$9:$E$116,4,FALSE))","v":0.42},null,24,"254 - ASSIMOCO",4614376,606594,1330449,0,5662,6557081,2812918,0,0,0,0,2812918]
["",{"$f":"+IF(L29=\"\",\"\",VLOOKUP(A29,'Quota Mal (2014)'!$B$9:$E$116,4,FALSE))","v":""},{"$f":"IF(R29=\"\",\"\",VLOOKUP(A29,'Quota Mal (2014)'!$B$9:$E$116,4,FALSE))","v":""},null,25,"292 - HELVETIA ITALIA ASSICURAZIONI"]
["ERGO ASSICURAZIONI",{"$f":"+IF(L30=\"\",\"\",VLOOKUP(A30,'Quota Mal (2014)'!$B$9:$E$116,4,FALSE))","v":0.14000000000000001},{"$f":"IF(R30=\"\",\"\",VLOOKUP(A30,'Quota Mal (2014)'!$B$9:$E$116,4,FALSE))","v":0.14000000000000001},null,26,"293 - ERGO ASSICURAZIONI",470701,402676,1335625,0,35803,2244805,0,0,0,0,0,0]
["CARGEAS ASSICURAZIONI",{"$f":"+IF(L31=\"\",\"\",VLOOKUP(A31,'Quota Mal (2014)'!$B$9:$E$116,4,FALSE))","v":2.14},{"$f":"IF(R31=\"\",\"\",VLOOKUP(A31,'Quota Mal (2014)'!$B$9:$E$116,4,FALSE))","v":2.14},null,27,"304 - CARGEAS ASSICURAZIONI",3976360,4517139,2293185,0,205473,10992157,8660772,27375673,826448,0,44376,36907269]
["",{"$f":"+IF(L32=\"\",\"\",VLOOKUP(A32,'Quota Mal (2014)'!$B$9:$E$116,4,FALSE))","v":""},{"$f":"IF(R32=\"\",\"\",VLOOKUP(A32,'Quota Mal (2014)'!$B$9:$E$116,4,FALSE))","v":""},null,28,"304 - UBI ASSICURAZIONI"]
["UNISALUTE",{"$f":"+IF(L33=\"\",\"\",VLOOKUP(A33,'Quota Mal (2014)'!$B$9:$E$116,4,FALSE))","v":11.7},{"$f":"IF(R33=\"\",\"\",VLOOKUP(A33,'Quota Mal (2014)'!$B$9:$E$116,4,FALSE))","v":11.7},null,29,"342 - UNISALUTE",4951124,1116,541756,80343,5021,5579360,221760788,2106491,30307132,6951418,3489404,264615233,"oggi 14/04/2016 Bontade conferma la nuova produzione vita malattia del 2015."]
["AIG EUROPE LIMITED",{"$f":"+IF(L34=\"\",\"\",VLOOKUP(A34,'Quota Mal (2014)'!$B$9:$E$116,4,FALSE))","v":0.32},{"$f":"IF(R34=\"\",\"\",VLOOKUP(A34,'Quota Mal (2014)'!$B$9:$E$116,4,FALSE))","v":0.32},null,30,"344 - AIG EUROPE LIMITED",368866,587319,0,856949,298653,2111787,834062,1254046,0,2443936,502709,5034753]
["",{"$f":"+IF(L35=\"\",\"\",VLOOKUP(A35,'Quota Mal (2014)'!$B$9:$E$116,4,FALSE))","v":""},{"$f":"IF(R35=\"\",\"\",VLOOKUP(A35,'Quota Mal (2014)'!$B$9:$E$116,4,FALSE))","v":""},null,31,"344 - AIG EUROPE S.A."]
["",{"$f":"+IF(L36=\"\",\"\",VLOOKUP(A36,'Quota Mal (2014)'!$B$9:$E$116,4,FALSE))","v":""},{"$f":"IF(R36=\"\",\"\",VLOOKUP(A36,'Quota Mal (2014)'!$B$9:$E$116,4,FALSE))","v":""},null,32,"344 - CHARTIS EUROPE S.A."]
["AVIVA ITALIA",null,null,null,33,"352 - AVIVA ITALIA",917942,891384,381780,0,0,2191106,2438591,2280779,1407300,0,2793413,8920083]
["AVIVA ASSICURAZIONI",{"$f":"+IF(L38=\"\",\"\",VLOOKUP(A38,'Quota Mal (2014)'!$B$9:$E$116,4,FALSE))","v":{"$error":"#N/A"}},{"$f":"IF(R38=\"\",\"\",VLOOKUP(A38,'Quota Mal (2014)'!$B$9:$E$116,4,FALSE))","v":{"$error":"#N/A"}},null,34,"378 - AVIVA ASSICURAZIONI",0,100382,87847,0,0,188229,0,65976,252832,0,211931,530739]
["ARCA ASSICURAZIONI",{"$f":"+IF(L39=\"\",\"\",VLOOKUP(A39,'Quota Mal (2014)'!$B$9:$E$116,4,FALSE))","v":0.56000000000000005},{"$f":"IF(R39=\"\",\"\",VLOOKUP(A39,'Quota Mal (2014)'!$B$9:$E$116,4,FALSE))","v":0.56000000000000005},null,35,"417 - ARCA ASSICURAZIONI",3531773,766266,979401,0,6910954,12188394,432663,0,84,0,0,432747]
["",null,null,null,36,"419 - INTESA SANPAOLO ASSICURA"]
["CNP UNICREDIT VITA",{"$f":"+IF(L41=\"\",\"\",VLOOKUP(A41,'Quota Mal (2014)'!$B$9:$E$116,4,FALSE))","v":{"$error":"#N/A"}},{"$f":"IF(R41=\"\",\"\",VLOOKUP(A41,'Quota Mal (2014)'!$B$9:$E$116,4,FALSE))","v":{"$error":"#N/A"}},null,37,"426 - CNP UNICREDIT VITA",0,0,0,0,0,0,0,342,0,0,0,342,"Schiarea mi ha mandato e-mail, non hanno distribuzione per le polizze individuali, dice che per INFORTUNI si potrebbero dividere i premi tra MR e IP (50 e 50), mentre per MALATTIA tra IP e DIARIA (75 e 25)"]
["",{"$f":"+IF(L42=\"\",\"\",VLOOKUP(A42,'Quota Mal (2014)'!$B$9:$E$116,4,FALSE))","v":""},{"$f":"IF(R42=\"\",\"\",VLOOKUP(A42,'Quota Mal (2014)'!$B$9:$E$116,4,FALSE))","v":""},null,38,"428 - CREDEMASSICURAZIONI"]
["",null,null,null,39,"431 - POSTE VITA"]
["POSTE VITA - Gruppo Assicurativo Poste Vita",{"$f":"+IF(L44=\"\",\"\",VLOOKUP(A44,'Quota Mal (2014)'!$B$9:$E$116,4,FALSE))","v":0.02},{"$f":"IF(R44=\"\",\"\",VLOOKUP(A44,'Quota Mal (2014)'!$B$9:$E$116,4,FALSE))","v":0.02},null,40,"431 - POSTE VITA - Gruppo Assicurativo Poste Vita",0,0,401932,0,0,401932,0,0,0,0,0,0]
["DIRECT LINE INSURANCE",{"$f":"+IF(L45=\"\",\"\",VLOOKUP(A45,'Quota Mal (2014)'!$B$9:$E$116,4,FALSE))","v":{"$error":"#N/A"}},{"$f":"IF(R45=\"\",\"\",VLOOKUP(A45,'Quota Mal (2014)'!$B$9:$E$116,4,FALSE))","v":{"$error":"#N/A"}},null,41,"432 - DIRECT LINE INSURANCE",0,0,0,0,0,0,0,0,0,0,0,0]
["AVIPOP ASSICURAZIONI",{"$f":"+IF(L46=\"\",\"\",VLOOKUP(A46,'Quota Mal (2014)'!$B$9:$E$116,4,FALSE))","v":0.68},{"$f":"IF(R46=\"\",\"\",VLOOKUP(A46,'Quota Mal (2014)'!$B$9:$E$116,4,FALSE))","v":0.68},null,42,"457 - AVIPOP ASSICURAZIONI",56,0,5508772,0,1609645,7118473,0,0,0,0,0,0]
["CF ASSICURAZIONI",{"$f":"+IF(L47=\"\",\"\",VLOOKUP(A47,'Quota Mal (2014)'!$B$9:$E$116,4,FALSE))","v":0.09},{"$f":"IF(R47=\"\",\"\",VLOOKUP(A47,'Quota Mal (2014)'!$B$9:$E$116,4,FALSE))","v":0.09},null,43,"464 - CF ASSICURAZIONI",729539,1200948,2839,4239,84701,2022266,49936,0,0,30556,-718,79774,"oggi 31/03/2016 bovi stefano ha mandato email in cui comunica che almeno per quest'anno sono impossibilitati a inviare dati in quanto hanno cambiato sistema informativo"]
["",{"$f":"+IF(L48=\"\",\"\",VLOOKUP(A48,'Quota Mal (2014)'!$B$9:$E$116,4,FALSE))","v":""},{"$f":"IF(R48=\"\",\"\",VLOOKUP(A48,'Quota Mal (2014)'!$B$9:$E$116,4,FALSE))","v":""},null,44,"468 - RBM SALUTE"]
["",{"$f":"+IF(L49=\"\",\"\",VLOOKUP(A49,'Quota Mal (2014)'!$B$9:$E$116,4,FALSE))","v":""},{"$f":"IF(R49=\"\",\"\",VLOOKUP(A49,'Quota Mal (2014)'!$B$9:$E$116,4,FALSE))","v":""},null,45,"469 - ARISCOM COMPAGNIA DI ASSICURAZIONI"]
["",{"$f":"+IF(L50=\"\",\"\",VLOOKUP(A50,'Quota Mal (2014)'!$B$9:$E$116,4,FALSE))","v":""},{"$f":"IF(R50=\"\",\"\",VLOOKUP(A50,'Quota Mal (2014)'!$B$9:$E$116,4,FALSE))","v":""},null,46,"474 - NOBIS COMPAGNIA DI ASSICURAZIONI"]
["POSTE ASSICURA - Gruppo Assicurativo Poste Vita",{"$f":"+IF(L51=\"\",\"\",VLOOKUP(A51,'Quota Mal (2014)'!$B$9:$E$116,4,FALSE))","v":0.34},{"$f":"IF(R51=\"\",\"\",VLOOKUP(A51,'Quota Mal (2014)'!$B$9:$E$116,4,FALSE))","v":0.34},null,47,"480 - POSTE ASSICURA - Gruppo Assicurativo Poste Vita",2093174,54348,1383468,0,1019059,4550049,0,2440132,475180,0,0,2915312]
["",null,null,null,null,"485 - QUADRA ASSICURAZIONI"]
[null,null,null,null,null,"618 - METLIFE EUROPE LIMITED",33589.67,0,1767.87,0,0,35357.54,7613020.6500000004,0,400685.29,0,0,8013705.9400000004]
[null,null,null,null,null,"853 - ACE EUROPEAN GROUP LTD",7653210.6153333336,368722.87099999824,3826605.3076666668,0,0,11848538.794,0,1707461.2060000009,0,0,0,1707461.2060000009]
[null,null,null,null,null,"864 - ZURICH INSURANCE PLC",4966093,2974099,1764284,0,1563601,11268077,32430569,2403886,2960113,0,1879127,39673695]
[null,null,null,null,null,"Totale complessivo",341487703.25356227,48969912.961179681,93693141.860318512,1097152.677003298,56875063.137634121,542122973.88969779,438337425.92751461,52783841.007681221,41485712.214638561,11511812.083198026,26511717.712062195,570630508.9450947]
[]
[null,null,null,null,null,"MAL2","Dicembre 2014",{"$f":"+RIGHT(G58,4)","v":"2014"}]
[null,{"$f":"SUM(B62:B109)","v":{"$error":"#N/A"}},{"$f":"SUM(C62:C109)","v":{"$error":"#N/A"}},{"$f":"SUM(D62:D109)","v":55.300000000000026},{"$f":"SUM(E62:E109)","v":{"$error":"#N/A"}},"NUOVA PRODUZIONE - MALATTIA","INDIVIDUALI",null,null,null,null,null,null,"COLLETTIVE"]
[null,null,null,null,null,null,"Dati"]
[null,"pre ind","pre coll","pol ind","pol coll","MAL1","Somma di MALNP_SM","Somma di MALNP_IP","Somma di MALNP_DI","Somma di MALNP_LTC","Somma di MALNP_AL","Somma di MALNP_TOT","Somma di MALNUM_POL","Somma di MALCNP_SM","Somma di MALCNP_IP","Somma di MALCNP_DI","Somma di MALCNP_LTC","Somma di MALCNP_AL","Somma di MALCNP_TOT","Somma di MALCNUM_POL"]
[{"$f":"IF(AND(L62=\"\",R62=\"\"),\"\",(MID(F62,7,50)))","v":"ALLIANZ S.P.A."},null,null,{"$f":"IF(OR(M62=\"\",M62=0),\"\",VLOOKUP(A62,'Quota Mal (2014)'!$B$9:$E$113,4,FALSE))","v":""},{"$f":"IF(OR(T62=\"\",T62=0),\"\",VLOOKUP(A62,'Quota Mal (2014)'!$B$9:$E$113,4,FALSE))","v":""},"003 - ALLIANZ S.P.A.",0,0,0,0,0,0,0,0,0,0,0,0,0,0]
[{"$f":"IF(AND(L63=\"\",R63=\"\"),\"\",(MID(F63,7,50)))","v":"GENERALI ITALIA"},{"$f":"+IF(L63=\"\",\"\",VLOOKUP(A63,'Quota Mal (2014)'!$B$9:$E$113,4,FALSE))","v":20.54},null,{"$f":"IF(OR(M63=\"\",M63=0),\"\",VLOOKUP(A63,'Quota Mal (2014)'!$B$9:$E$113,4,FALSE))","v":20.54},{"$f":"IF(OR(T63=\"\",T63=0),\"\",VLOOKUP(A63,'Quota Mal (2014)'!$B$9:$E$113,4,FALSE))","v":""},"005 - GENERALI ITALIA",7454368,350779,757412,0,530140,9092699,170403,0,0,0,0,0,0,0]
["",{"$f":"+IF(L64=\"\",\"\",VLOOKUP(A64,'Quota Mal (2014)'!$B$9:$E$113,4,FALSE))","v":""},{"$f":"IF(S64=\"\",\"\",VLOOKUP(A64,'Quota Mal (2014)'!$B$9:$E$113,4,FALSE))","v":""},{"$f":"IF(OR(M64=\"\",M64=0),\"\",VLOOKUP(A64,'Quota Mal (2014)'!$B$9:$E$113,4,FALSE))","v":""},{"$f":"IF(OR(T64=\"\",T64=0),\"\",VLOOKUP(A64,'Quota Mal (2014)'!$B$9:$E$113,4,FALSE))","v":""},"007 - COMPAGNIA DI ASS. DI MILANO"]
["AXA ASSICURAZIONI",{"$f":"+IF(L65=\"\",\"\",VLOOKUP(A65,'Quota Mal (2014)'!$B$9:$E$113,4,FALSE))","v":2.2999999999999998},{"$f":"IF(S65=\"\",\"\",VLOOKUP(A65,'Quota Mal (2014)'!$B$9:$E$113,4,FALSE))","v":2.2999999999999998},{"$f":"IF(OR(M65=\"\",M65=0),\"\",VLOOKUP(A65,'Quota Mal (2014)'!$B$9:$E$113,4,FALSE))","v":2.2999999999999998},{"$f":"IF(OR(T65=\"\",T65=0),\"\",VLOOKUP(A65,'Quota Mal (2014)'!$B$9:$E$113,4,FALSE))","v":2.2999999999999998},"014 - AXA ASSICURAZIONI",2780217,106433,148563,0,67963,3103176,51497.108448993822,19971,0,0,0,14135,34106,31877.38713910761]
["",{"$f":"+IF(L66=\"\",\"\",VLOOKUP(A66,'Quota Mal (2014)'!$B$9:$E$113,4,FALSE))","v":""},{"$f":"IF(S66=\"\",\"\",VLOOKUP(A66,'Quota Mal (2014)'!$B$9:$E$113,4,FALSE))","v":""},{"$f":"IF(OR(M66=\"\",M66=0),\"\",VLOOKUP(A66,'Quota Mal (2014)'!$B$9:$E$113,4,FALSE))","v":""},{"$f":"IF(OR(T66=\"\",T66=0),\"\",VLOOKUP(A66,'Quota Mal (2014)'!$B$9:$E$113,4,FALSE))","v":""},"019 - HELVETIA SA"]
["ITAS MUTUA",{"$f":"+IF(L67=\"\",\"\",VLOOKUP(A67,'Quota Mal (2014)'!$B$9:$E$113,4,FALSE))","v":0.45},{"$f":"IF(S67=\"\",\"\",VLOOKUP(A67,'Quota Mal (2014)'!$B$9:$E$113,4,FALSE))","v":0.45},{"$f":"IF(OR(M67=\"\",M67=0),\"\",VLOOKUP(A67,'Quota Mal (2014)'!$B$9:$E$113,4,FALSE))","v":0.45},{"$f":"IF(OR(T67=\"\",T67=0),\"\",VLOOKUP(A67,'Quota Mal (2014)'!$B$9:$E$113,4,FALSE))","v":""},"022 - ITAS MUTUA",149879.66647515845,347421.35136530577,539996.9166313319,0,1053418.8310869667,2090716.7655587629,32021,0,0,12775.046641155921,0,135.06506284897026,12910.111704004892,0]
["ITALIANA ASSICURAZIONI",{"$f":"+IF(L68=\"\",\"\",VLOOKUP(A68,'Quota Mal (2014)'!$B$9:$E$113,4,FALSE))","v":0.76},{"$f":"IF(S68=\"\",\"\",VLOOKUP(A68,'Quota Mal (2014)'!$B$9:$E$113,4,FALSE))","v":0.76},{"$f":"IF(OR(M68=\"\",M68=0),\"\",VLOOKUP(A68,'Quota Mal (2014)'!$B$9:$E$113,4,FALSE))","v":0.76},{"$f":"IF(OR(T68=\"\",T68=0),\"\",VLOOKUP(A68,'Quota Mal (2014)'!$B$9:$E$113,4,FALSE))","v":""},"023 - ITALIANA ASSICURAZIONI",583277.62,318922.93505999999,221200.59028999999,1572.68,7264.1846500000001,1132238.0099999998,14581,1836979.28,2671.12,0,0,0,1839650.4000000001,0]
["SARA ASSICURAZIONI",{"$f":"+IF(L69=\"\",\"\",VLOOKUP(A69,'Quota Mal (2014)'!$B$9:$E$113,4,FALSE))","v":0.32},{"$f":"IF(S69=\"\",\"\",VLOOKUP(A69,'Quota Mal (2014)'!$B$9:$E$113,4,FALSE))","v":0.32},{"$f":"IF(OR(M69=\"\",M69=0),\"\",VLOOKUP(A69,'Quota Mal (2014)'!$B$9:$E$113,4,FALSE))","v":0.32},{"$f":"IF(OR(T69=\"\",T69=0),\"\",VLOOKUP(A69,'Quota Mal (2014)'!$B$9:$E$113,4,FALSE))","v":0.32},"032 - SARA ASSICURAZIONI",163735,49006,129502,0,174564,516807,15381,1569,1188,937,0,0,3694,1128]
["",{"$f":"+IF(L70=\"\",\"\",VLOOKUP(A70,'Quota Mal (2014)'!$B$9:$E$113,4,FALSE))","v":""},{"$f":"IF(S70=\"\",\"\",VLOOKUP(A70,'Quota Mal (2014)'!$B$9:$E$113,4,FALSE))","v":""},{"$f":"IF(OR(M70=\"\",M70=0),\"\",VLOOKUP(A70,'Quota Mal (2014)'!$B$9:$E$113,4,FALSE))","v":""},{"$f":"IF(OR(T70=\"\",T70=0),\"\",VLOOKUP(A70,'Quota Mal (2014)'!$B$9:$E$113,4,FALSE))","v":""},"034 - FONDIARIA - SAI"]
["UNIPOLSAI ASSICURAZIONI",{"$f":"+IF(L71=\"\",\"\",VLOOKUP(A71,'Quota Mal (2014)'!$B$9:$E$113,4,FALSE))","v":10.78},{"$f":"IF(S71=\"\",\"\",VLOOKUP(A71,'Quota Mal (2014)'!$B$9:$E$113,4,FALSE))","v":10.78},{"$f":"IF(OR(M71=\"\",M71=0),\"\",VLOOKUP(A71,'Quota Mal (2014)'!$B$9:$E$113,4,FALSE))","v":10.78},{"$f":"IF(OR(T71=\"\",T71=0),\"\",VLOOKUP(A71,'Quota Mal (2014)'!$B$9:$E$113,4,FALSE))","v":""},"034 - UNIPOLSAI ASSICURAZIONI",5541579,569161,1399749,0,742189,8252678,141999,1722140,42068,65099,0,212471,2041778,0]
["SOCIETA' REALE MUTUA",{"$f":"+IF(L72=\"\",\"\",VLOOKUP(A72,'Quota Mal (2014)'!$B$9:$E$113,4,FALSE))","v":3.79},{"$f":"IF(S72=\"\",\"\",VLOOKUP(A72,'Quota Mal (2014)'!$B$9:$E$113,4,FALSE))","v":3.79},{"$f":"IF(OR(M72=\"\",M72=0),\"\",VLOOKUP(A72,'Quota Mal (2014)'!$B$9:$E$113,4,FALSE))","v":3.79},{"$f":"IF(OR(T72=\"\",T72=0),\"\",VLOOKUP(A72,'Quota Mal (2014)'!$B$9:$E$113,4,FALSE))","v":""},"035 - SOCIETA' REALE MUTUA",2906359.4165099999,555397.22430999996,375375.41568999999,19964.09,32901.253490000003,3889997.4,101074,2632499.7291799998,19760.37,17458.61,10351.33599,150193.40483000001,2830263.4499999997,0]
["VITTORIA ASSICURAZIONI",{"$f":"+IF(L73=\"\",\"\",VLOOKUP(A73,'Quota Mal (2014)'!$B$9:$E$113,4,FALSE))","v":0.53},{"$f":"IF(S73=\"\",\"\",VLOOKUP(A73,'Quota Mal (2014)'!$B$9:$E$113,4,FALSE))","v":0.53},{"$f":"IF(OR(M73=\"\",M73=0),\"\",VLOOKUP(A73,'Quota Mal (2014)'!$B$9:$E$113,4,FALSE))","v":0.53},{"$f":"IF(OR(T73=\"\",T73=0),\"\",VLOOKUP(A73,'Quota Mal (2014)'!$B$9:$E$113,4,FALSE))","v":0.53},"038 - VITTORIA ASSICURAZIONI",1417669,180369,482064,0,8357,2088459,18529,164597,74887,64054,0,3497,307035,2599]
["ASSICURAZIONI RISCHI AGRICOLI VMG 1857",{"$f":"+IF(L74=\"\",\"\",VLOOKUP(A74,'Quota Mal (2014)'!$B$9:$E$113,4,FALSE))","v":0},{"$f":"IF(S74=\"\",\"\",VLOOKUP(A74,'Quota Mal (2014)'!$B$9:$E$113,4,FALSE))","v":0},{"$f":"IF(OR(M74=\"\",M74=0),\"\",VLOOKUP(A74,'Quota Mal (2014)'!$B$9:$E$113,4,FALSE))","v":0},{"$f":"IF(OR(T74=\"\"),\"\",VLOOKUP(A74,'Quota Mal (2014)'!$B$9:$E$113,4,FALSE))","v":0},"045 - ASSICURAZIONI RISCHI AGRICOLI VMG 1857",0,0,0,0,0,0,2,0,0,0,0,0,0,0]
["SUN INSURANCE OFFICE LIMITED RSA",{"$f":"+IF(L75=\"\",\"\",VLOOKUP(A75,'Quota Mal (2014)'!$B$9:$E$113,4,FALSE))","v":0.05},{"$f":"IF(S75=\"\",\"\",VLOOKUP(A75,'Quota Mal (2014)'!$B$9:$E$113,4,FALSE))","v":0.05},{"$f":"IF(OR(M75=\"\",M75=0),\"\",VLOOKUP(A75,'Quota Mal (2014)'!$B$9:$E$113,4,FALSE))","v":0.05},{"$f":"IF(OR(T75=\"\",T75=0),\"\",VLOOKUP(A75,'Quota Mal (2014)'!$B$9:$E$113,4,FALSE))","v":0.05},"080 - SUN INSURANCE OFFICE LIMITED RSA",1366,10249,6252,0,0,17867,6992,0,7754,0,0,0,7754,733]
["",{"$f":"+IF(L76=\"\",\"\",VLOOKUP(A76,'Quota Mal (2014)'!$B$9:$E$113,4,FALSE))","v":""},{"$f":"IF(S76=\"\",\"\",VLOOKUP(A76,'Quota Mal (2014)'!$B$9:$E$113,4,FALSE))","v":""},{"$f":"IF(OR(M76=\"\",M76=0),\"\",VLOOKUP(A76,'Quota Mal (2014)'!$B$9:$E$113,4,FALSE))","v":""},{"$f":"IF(OR(T76=\"\",T76=0),\"\",VLOOKUP(A76,'Quota Mal (2014)'!$B$9:$E$113,4,FALSE))","v":""},"082 - UNIPOL ASSICURAZIONI"]
["CARIGE R.D. ASSICURAZIONI E RIASSICURAZIONI",{"$f":"+IF(L77=\"\",\"\",VLOOKUP(A77,'Quota Mal (2014)'!$B$9:$E$113,4,FALSE))","v":0.2},null,{"$f":"IF(OR(M77=\"\",M77=0),\"\",VLOOKUP(A77,'Quota Mal (2014)'!$B$9:$E$113,4,FALSE))","v":0.2},{"$f":"IF(OR(T77=\"\",T77=0),\"\",VLOOKUP(A77,'Quota Mal (2014)'!$B$9:$E$113,4,FALSE))","v":0.2},"086 - CARIGE R.D. ASSICURAZIONI E RIASSICURAZIONI",207823,137290,254433,0,0,599546,12282,0,0,0,0,0,0,50567]
["HDI ASSICURAZIONI",{"$f":"+IF(L78=\"\",\"\",VLOOKUP(A78,'Quota Mal (2014)'!$B$9:$E$113,4,FALSE))","v":0.13},{"$f":"IF(S78=\"\",\"\",VLOOKUP(A78,'Quota Mal (2014)'!$B$9:$E$113,4,FALSE))","v":0.13},{"$f":"IF(OR(M78=\"\",M78=0),\"\",VLOOKUP(A78,'Quota Mal (2014)'!$B$9:$E$113,4,FALSE))","v":0.13},{"$f":"IF(OR(T78=\"\",T78=0),\"\",VLOOKUP(A78,'Quota Mal (2014)'!$B$9:$E$113,4,FALSE))","v":0.13},"133 - HDI ASSICURAZIONI",223749,42136,33004,0,0,298889,4698,412554,122763,10442,0,0,545759,26652]
["GENIALLOYD",{"$f":"+IF(L79=\"\",\"\",VLOOKUP(A79,'Quota Mal (2014)'!$B$9:$E$113,4,FALSE))","v":0},{"$f":"IF(S79=\"\",\"\",VLOOKUP(A79,'Quota Mal (2014)'!$B$9:$E$113,4,FALSE))","v":0},{"$f":"IF(OR(M79=\"\"),\"\",VLOOKUP(A79,'Quota Mal (2014)'!$B$9:$E$113,4,FALSE))","v":0},{"$f":"IF(OR(T79=\"\"),\"\",VLOOKUP(A79,'Quota Mal (2014)'!$B$9:$E$113,4,FALSE))","v":0},"139 - GENIALLOYD",0,0,0,0,1024.3900000000001,1024.3900000000001,1,0,0,0,0,0,0,0]
["GROUPAMA ASSICURAZIONI",null,null,{"$f":"IF(OR(M80=\"\",M80=0),\"\",VLOOKUP(A80,'Quota Mal (2014)'!$B$9:$E$113,4,FALSE))","v":0.88},{"$f":"IF(OR(T80=\"\",T80=0),\"\",VLOOKUP(A80,'Quota Mal (2014)'!$B$9:$E$113,4,FALSE))","v":0.88},"151 - GROUPAMA ASSICURAZIONI",1389115,436139,466462,0,41178,2332894,44368,426804,26622,8036,0,0,461462,2600]
["NATIONALE SUISSE",{"$f":"+IF(L81=\"\",\"\",VLOOKUP(A81,'Quota Mal (2014)'!$B$9:$E$113,4,FALSE))","v":0.04},{"$f":"IF(S81=\"\",\"\",VLOOKUP(A81,'Quota Mal (2014)'!$B$9:$E$113,4,FALSE))","v":0.04},{"$f":"IF(OR(M81=\"\",M81=0),\"\",VLOOKUP(A81,'Quota Mal (2014)'!$B$9:$E$113,4,FALSE))","v":0.04},{"$f":"IF(OR(T81=\"\",T81=0),\"\",VLOOKUP(A81,'Quota Mal (2014)'!$B$9:$E$113,4,FALSE))","v":0.04},"208 - NATIONALE SUISSE",0,0,0,0,0,0,1597,12126,0,11441,0,5833,29400,767]
["",{"$f":"+IF(L82=\"\",\"\",VLOOKUP(A82,'Quota Mal (2014)'!$B$9:$E$113,4,FALSE))","v":""},{"$f":"IF(S82=\"\",\"\",VLOOKUP(A82,'Quota Mal (2014)'!$B$9:$E$113,4,FALSE))","v":""},{"$f":"IF(OR(M82=\"\",M82=0),\"\",VLOOKUP(A82,'Quota Mal (2014)'!$B$9:$E$113,4,FALSE))","v":""},{"$f":"IF(OR(T82=\"\",T82=0),\"\",VLOOKUP(A82,'Quota Mal (2014)'!$B$9:$E$113,4,FALSE))","v":""},"225 - ISI INSURANCE Compagnia di Assicurazioni"]
["AXA MPS ASSICURAZIONI DANNI",{"$f":"+IF(L83=\"\",\"\",VLOOKUP(A83,'Quota Mal (2014)'!$B$9:$E$113,4,FALSE))","v":0.49},{"$f":"IF(S83=\"\",\"\",VLOOKUP(A83,'Quota Mal (2014)'!$B$9:$E$113,4,FALSE))","v":0.49},{"$f":"IF(OR(M83=\"\",M83=0),\"\",VLOOKUP(A83,'Quota Mal (2014)'!$B$9:$E$113,4,FALSE))","v":0.49},{"$f":"IF(OR(T83=\"\",T83=0),\"\",VLOOKUP(A83,'Quota Mal (2014)'!$B$9:$E$113,4,FALSE))","v":0.49},"243 - AXA MPS ASSICURAZIONI DANNI",369931.86,404743.2,556119.57000000007,0,0,1330794.6300000001,30200,795.47,4205878.1399999997,0,1892843.72,0,6099517.3299999991,130422]
["GENERTEL",{"$f":"+IF(L84=\"\",\"\",VLOOKUP(A84,'Quota Mal (2014)'!$B$9:$E$113,4,FALSE))","v":0.09},null,{"$f":"IF(OR(M84=\"\",M84=0),\"\",VLOOKUP(A84,'Quota Mal (2014)'!$B$9:$E$113,4,FALSE))","v":0.09},{"$f":"IF(OR(T84=\"\",T84=0),\"\",VLOOKUP(A84,'Quota Mal (2014)'!$B$9:$E$113,4,FALSE))","v":0.09},"247 - GENERTEL",77996,5230,6163,0,1,89390,1527,0,0,0,0,591685,591685,4249]
["ASSIMOCO",{"$f":"+IF(L85=\"\",\"\",VLOOKUP(A85,'Quota Mal (2014)'!$B$9:$E$113,4,FALSE))","v":0.42},{"$f":"IF(S85=\"\",\"\",VLOOKUP(A85,'Quota Mal (2014)'!$B$9:$E$113,4,FALSE))","v":0.42},{"$f":"IF(OR(M85=\"\",M85=0),\"\",VLOOKUP(A85,'Quota Mal (2014)'!$B$9:$E$113,4,FALSE))","v":0.42},{"$f":"IF(OR(T85=\"\",T85=0),\"\",VLOOKUP(A85,'Quota Mal (2014)'!$B$9:$E$113,4,FALSE))","v":0.42},"254 - ASSIMOCO",2477058,110500,78816,0,0,2666374,33967,182504,0,0,0,0,182504,6309]
["",{"$f":"+IF(L86=\"\",\"\",VLOOKUP(A86,'Quota Mal (2014)'!$B$9:$E$113,4,FALSE))","v":""},{"$f":"IF(S86=\"\",\"\",VLOOKUP(A86,'Quota Mal (2014)'!$B$9:$E$113,4,FALSE))","v":""},{"$f":"IF(OR(M86=\"\",M86=0),\"\",VLOOKUP(A86,'Quota Mal (2014)'!$B$9:$E$113,4,FALSE))","v":""},{"$f":"IF(OR(T86=\"\",T86=0),\"\",VLOOKUP(A86,'Quota Mal (2014)'!$B$9:$E$113,4,FALSE))","v":""},"292 - HELVETIA ITALIA ASSICURAZIONI"]
["ERGO ASSICURAZIONI",{"$f":"+IF(L87=\"\",\"\",VLOOKUP(A87,'Quota Mal (2014)'!$B$9:$E$113,4,FALSE))","v":0.14000000000000001},{"$f":"IF(S87=\"\",\"\",VLOOKUP(A87,'Quota Mal (2014)'!$B$9:$E$113,4,FALSE))","v":0.14000000000000001},{"$f":"IF(OR(M87=\"\",M87=0),\"\",VLOOKUP(A87,'Quota Mal (2014)'!$B$9:$E$113,4,FALSE))","v":0.14000000000000001},{"$f":"IF(OR(T87=\"\",T87=0),\"\",VLOOKUP(A87,'Quota Mal (2014)'!$B$9:$E$113,4,FALSE))","v":""},"293 - ERGO ASSICURAZIONI",63770,28748,66280,0,4578,163376,24993.520547945311,0,0,0,0,0,0,0]
["CARGEAS ASSICURAZIONI",{"$f":"+IF(L88=\"\",\"\",VLOOKUP(A88,'Quota Mal (2014)'!$B$9:$E$113,4,FALSE))","v":2.14},{"$f":"IF(S88=\"\",\"\",VLOOKUP(A88,'Quota Mal (2014)'!$B$9:$E$113,4,FALSE))","v":2.14},{"$f":"IF(OR(M88=\"\",M88=0),\"\",VLOOKUP(A88,'Quota Mal (2014)'!$B$9:$E$113,4,FALSE))","v":""},{"$f":"IF(OR(T88=\"\",T88=0),\"\",VLOOKUP(A88,'Quota Mal (2014)'!$B$9:$E$113,4,FALSE))","v":""},"304 - CARGEAS ASSICURAZIONI",369755,369755,61836,0,0,801346,0,0,11486368,522452,0,44376,12053196,0]
["",{"$f":"+IF(L89=\"\",\"\",VLOOKUP(A89,'Quota Mal (2014)'!$B$9:$E$113,4,FALSE))","v":""},{"$f":"IF(S89=\"\",\"\",VLOOKUP(A89,'Quota Mal (2014)'!$B$9:$E$113,4,FALSE))","v":""},{"$f":"IF(OR(M89=\"\",M89=0),\"\",VLOOKUP(A89,'Quota Mal (2014)'!$B$9:$E$113,4,FALSE))","v":""},{"$f":"IF(OR(T89=\"\",T89=0),\"\",VLOOKUP(A89,'Quota Mal (2014)'!$B$9:$E$113,4,FALSE))","v":""},"304 - UBI ASSICURAZIONI"]
["UNISALUTE",{"$f":"+IF(L90=\"\",\"\",VLOOKUP(A90,'Quota Mal (2014)'!$B$9:$E$113,4,FALSE))","v":11.7},{"$f":"IF(S90=\"\",\"\",VLOOKUP(A90,'Quota Mal (2014)'!$B$9:$E$113,4,FALSE))","v":11.7},{"$f":"IF(OR(M90=\"\",M90=0),\"\",VLOOKUP(A90,'Quota Mal (2014)'!$B$9:$E$113,4,FALSE))","v":11.7},{"$f":"IF(OR(T90=\"\",T90=0),\"\",VLOOKUP(A90,'Quota Mal (2014)'!$B$9:$E$113,4,FALSE))","v":11.7},"342 - UNISALUTE",618511,0,12624,0,292,631427,16124,9844397,290007,1303726,337774,77860,11853764,3468481]
["AIG EUROPE LIMITED",{"$f":"+IF(L91=\"\",\"\",VLOOKUP(A91,'Quota Mal (2014)'!$B$9:$E$113,4,FALSE))","v":0.32},{"$f":"IF(S91=\"\",\"\",VLOOKUP(A91,'Quota Mal (2014)'!$B$9:$E$113,4,FALSE))","v":0.32},{"$f":"IF(OR(M91=\"\",M91=0),\"\",VLOOKUP(A91,'Quota Mal (2014)'!$B$9:$E$113,4,FALSE))","v":""},{"$f":"IF(OR(T91=\"\",T91=0),\"\",VLOOKUP(A91,'Quota Mal (2014)'!$B$9:$E$113,4,FALSE))","v":""},"344 - AIG EUROPE LIMITED",82275,143156,0,107946,94977,428354,0,265254,418216,0,644493,205131,1533094,0]
["",{"$f":"+IF(L92=\"\",\"\",VLOOKUP(A92,'Quota Mal (2014)'!$B$9:$E$113,4,FALSE))","v":""},{"$f":"IF(S92=\"\",\"\",VLOOKUP(A92,'Quota Mal (2014)'!$B$9:$E$113,4,FALSE))","v":""},{"$f":"IF(OR(M92=\"\",M92=0),\"\",VLOOKUP(A92,'Quota Mal (2014)'!$B$9:$E$113,4,FALSE))","v":""},{"$f":"IF(OR(T92=\"\",T92=0),\"\",VLOOKUP(A92,'Quota Mal (2014)'!$B$9:$E$113,4,FALSE))","v":""},"344 - AIG EUROPE S.A."]
["",{"$f":"+IF(L93=\"\",\"\",VLOOKUP(A93,'Quota Mal (2014)'!$B$9:$E$113,4,FALSE))","v":""},{"$f":"IF(S93=\"\",\"\",VLOOKUP(A93,'Quota Mal (2014)'!$B$9:$E$113,4,FALSE))","v":""},{"$f":"IF(OR(M93=\"\",M93=0),\"\",VLOOKUP(A93,'Quota Mal (2014)'!$B$9:$E$113,4,FALSE))","v":""},{"$f":"IF(OR(T93=\"\",T93=0),\"\",VLOOKUP(A93,'Quota Mal (2014)'!$B$9:$E$113,4,FALSE))","v":""},"344 - CHARTIS EUROPE S.A."]
["AVIVA ITALIA",null,null,null,null,"352 - AVIVA ITALIA",202627,116870,82267,0,0,401764,6155.8522274538209,26443,41267,9759,0,2465396,2542865,10863.147772546179]
["AVIVA ASSICURAZIONI",{"$f":"+IF(L95=\"\",\"\",VLOOKUP(A95,'Quota Mal (2014)'!$B$9:$E$113,4,FALSE))","v":{"$error":"#N/A"}},null,{"$f":"IF(OR(M95=\"\",M95=0),\"\",VLOOKUP(A95,'Quota Mal (2014)'!$B$9:$E$113,4,FALSE))","v":""},{"$f":"IF(OR(T95=\"\",T95=0),\"\",VLOOKUP(A95,'Quota Mal (2014)'!$B$9:$E$113,4,FALSE))","v":{"$error":"#N/A"}},"378 - AVIVA ASSICURAZIONI",0,0,0,0,0,0,0,0,0,0,0,100484,100484,5839]
["ARCA ASSICURAZIONI",{"$f":"+IF(L96=\"\",\"\",VLOOKUP(A96,'Quota Mal (2014)'!$B$9:$E$113,4,FALSE))","v":0.56000000000000005},{"$f":"IF(S96=\"\",\"\",VLOOKUP(A96,'Quota Mal (2014)'!$B$9:$E$113,4,FALSE))","v":0.56000000000000005},{"$f":"IF(OR(M96=\"\",M96=0),\"\",VLOOKUP(A96,'Quota Mal (2014)'!$B$9:$E$113,4,FALSE))","v":0.56000000000000005},{"$f":"IF(OR(T96=\"\",T96=0),\"\",VLOOKUP(A96,'Quota Mal (2014)'!$B$9:$E$113,4,FALSE))","v":0.56000000000000005},"417 - ARCA ASSICURAZIONI",1280773,748117,1955,0,1108479,3139324,68744,0,0,0,0,0,0,77290]
["",null,null,null,null,"419 - INTESA SANPAOLO ASSICURA"]
["CNP UNICREDIT VITA",{"$f":"+IF(L98=\"\",\"\",VLOOKUP(A98,'Quota Mal (2014)'!$B$9:$E$113,4,FALSE))","v":{"$error":"#N/A"}},{"$f":"IF(S98=\"\",\"\",VLOOKUP(A98,'Quota Mal (2014)'!$B$9:$E$113,4,FALSE))","v":{"$error":"#N/A"}},{"$f":"IF(OR(M98=\"\",M98=0),\"\",VLOOKUP(A98,'Quota Mal (2014)'!$B$9:$E$113,4,FALSE))","v":""},{"$f":"IF(OR(T98=\"\",T98=0),\"\",VLOOKUP(A98,'Quota Mal (2014)'!$B$9:$E$113,4,FALSE))","v":{"$error":"#N/A"}},"426 - CNP UNICREDIT VITA",0,0,0,0,0,0,0,0,0,0,0,0,0,2]
["",{"$f":"+IF(L99=\"\",\"\",VLOOKUP(A99,'Quota Mal (2014)'!$B$9:$E$113,4,FALSE))","v":""},{"$f":"IF(S99=\"\",\"\",VLOOKUP(A99,'Quota Mal (2014)'!$B$9:$E$113,4,FALSE))","v":""},{"$f":"IF(OR(M99=\"\",M99=0),\"\",VLOOKUP(A99,'Quota Mal (2014)'!$B$9:$E$113,4,FALSE))","v":""},{"$f":"IF(OR(T99=\"\"),\"\",VLOOKUP(A99,'Quota Mal (2014)'!$B$9:$E$113,4,FALSE))","v":""},"428 - CREDEMASSICURAZIONI"]
["",null,null,null,null,"431 - POSTE VITA"]
["POSTE VITA - Gruppo Assicurativo Poste Vita",{"$f":"+IF(L101=\"\",\"\",VLOOKUP(A101,'Quota Mal (2014)'!$B$9:$E$113,4,FALSE))","v":0.02},null,{"$f":"IF(OR(M101=\"\",M101=0),\"\",VLOOKUP(A101,'Quota Mal (2014)'!$B$9:$E$113,4,FALSE))","v":0.02},{"$f":"IF(OR(T101=\"\",T101=0),\"\",VLOOKUP(A101,'Quota Mal (2014)'!$B$9:$E$113,4,FALSE))","v":""},"431 - POSTE VITA - Gruppo Assicurativo Poste Vita",0,0,0,0,0,0,1918,0,0,0,0,0,0,0]
["DIRECT LINE INSURANCE",{"$f":"+IF(L102=\"\",\"\",VLOOKUP(A102,'Quota Mal (2014)'!$B$9:$E$113,4,FALSE))","v":{"$error":"#N/A"}},{"$f":"IF(S102=\"\",\"\",VLOOKUP(A102,'Quota Mal (2014)'!$B$9:$E$113,4,FALSE))","v":{"$error":"#N/A"}},{"$f":"IF(OR(M102=\"\",M102=0),\"\",VLOOKUP(A102,'Quota Mal (2014)'!$B$9:$E$113,4,FALSE))","v":""},{"$f":"IF(OR(T102=\"\",T102=0),\"\",VLOOKUP(A102,'Quota Mal (2014)'!$B$9:$E$113,4,FALSE))","v":""},"432 - DIRECT LINE INSURANCE",0,0,0,0,0,0,0,0,0,0,0,0,0,0]
["AVIPOP ASSICURAZIONI",{"$f":"+IF(L103=\"\",\"\",VLOOKUP(A103,'Quota Mal (2014)'!$B$9:$E$113,4,FALSE))","v":0.68},{"$f":"IF(S103=\"\",\"\",VLOOKUP(A103,'Quota Mal (2014)'!$B$9:$E$113,4,FALSE))","v":0.68},{"$f":"IF(OR(M103=\"\",M103=0),\"\",VLOOKUP(A103,'Quota Mal (2014)'!$B$9:$E$113,4,FALSE))","v":0.68},{"$f":"IF(OR(T103=\"\",T103=0),\"\",VLOOKUP(A103,'Quota Mal (2014)'!$B$9:$E$113,4,FALSE))","v":""},"457 - AVIPOP ASSICURAZIONI",56,0,4673806,0,1419388,6093250,63427.154968839779,0,0,0,0,0,0,0]
["CF ASSICURAZIONI",{"$f":"+IF(L104=\"\",\"\",VLOOKUP(A104,'Quota Mal (2014)'!$B$9:$E$113,4,FALSE))","v":0.09},{"$f":"IF(S104=\"\",\"\",VLOOKUP(A104,'Quota Mal (2014)'!$B$9:$E$113,4,FALSE))","v":0.09},{"$f":"IF(OR(M104=\"\",M104=0),\"\",VLOOKUP(A104,'Quota Mal (2014)'!$B$9:$E$113,4,FALSE))","v":0.09},{"$f":"IF(OR(T104=\"\",T104=0),\"\",VLOOKUP(A104,'Quota Mal (2014)'!$B$9:$E$113,4,FALSE))","v":0.09},"464 - CF ASSICURAZIONI",713175,1164231,1712,675,77476,1957269,5139,42170,0,0,30556,2195,74921,44]
["",{"$f":"+IF(L105=\"\",\"\",VLOOKUP(A105,'Quota Mal (2014)'!$B$9:$E$113,4,FALSE))","v":""},{"$f":"IF(S105=\"\",\"\",VLOOKUP(A105,'Quota Mal (2014)'!$B$9:$E$113,4,FALSE))","v":""},{"$f":"IF(OR(M105=\"\",M105=0),\"\",VLOOKUP(A105,'Quota Mal (2014)'!$B$9:$E$113,4,FALSE))","v":""},{"$f":"IF(OR(T105=\"\",T105=0),\"\",VLOOKUP(A105,'Quota Mal (2014)'!$B$9:$E$113,4,FALSE))","v":""},"468 - RBM SALUTE"]
["",{"$f":"+IF(L106=\"\",\"\",VLOOKUP(A106,'Quota Mal (2014)'!$B$9:$E$113,4,FALSE))","v":""},{"$f":"IF(S106=\"\",\"\",VLOOKUP(A106,'Quota Mal (2014)'!$B$9:$E$113,4,FALSE))","v":""},{"$f":"IF(OR(M106=\"\",M106=0),\"\",VLOOKUP(A106,'Quota Mal (2014)'!$B$9:$E$113,4,FALSE))","v":""},{"$f":"IF(OR(T106=\"\",T106=0),\"\",VLOOKUP(A106,'Quota Mal (2014)'!$B$9:$E$113,4,FALSE))","v":""},"469 - ARISCOM COMPAGNIA DI ASSICURAZIONI"]
["",{"$f":"+IF(L107=\"\",\"\",VLOOKUP(A107,'Quota Mal (2014)'!$B$9:$E$113,4,FALSE))","v":""},{"$f":"IF(S107=\"\",\"\",VLOOKUP(A107,'Quota Mal (2014)'!$B$9:$E$113,4,FALSE))","v":""},{"$f":"IF(OR(M107=\"\",M107=0),\"\",VLOOKUP(A107,'Quota Mal (2014)'!$B$9:$E$113,4,FALSE))","v":""},{"$f":"IF(OR(T107=\"\",T107=0),\"\",VLOOKUP(A107,'Quota Mal (2014)'!$B$9:$E$113,4,FALSE))","v":""},"474 - NOBIS COMPAGNIA DI ASSICURAZIONI"]
["POSTE ASSICURA - Gruppo Assicurativo Poste Vita",{"$f":"+IF(L108=\"\",\"\",VLOOKUP(A108,'Quota Mal (2014)'!$B$9:$E$113,4,FALSE))","v":0.34},{"$f":"IF(S108=\"\",\"\",VLOOKUP(A108,'Quota Mal (2014)'!$B$9:$E$113,4,FALSE))","v":0.34},{"$f":"IF(OR(M108=\"\",M108=0),\"\",VLOOKUP(A108,'Quota Mal (2014)'!$B$9:$E$113,4,FALSE))","v":0.34},{"$f":"IF(OR(T108=\"\",T108=0),\"\",VLOOKUP(A108,'Quota Mal (2014)'!$B$9:$E$113,4,FALSE))","v":0.34},"480 - POSTE ASSICURA - Gruppo Assicurativo Poste Vita",62625,6588,161881,0,102841,333935,55753,0,2506611,475916,0,0,2982527,447477]
["",null,null,null,null,"485 - QUADRA ASSICURAZIONI"]
[null,null,null,null,null,"618 - METLIFE EUROPE LIMITED",18607.86,0,979.36,0,0,19587.22,15165,2941423.54,0,154811.76,0,0,3096235.3,19168]
[null,null,null,null,null,"853 - ACE EUROPEAN GROUP LTD",0,0,0,0,0,0,51016,0,0,0,0,0,0,0]
[null,null,null,null,null,"864 - ZURICH INSURANCE PLC",470787,326694,158800,0,0,956281,0,1920289,276606,166943,0,0,2363838,0]
[null,null,null,null,null,"Totale complessivo",29627085.422985155,6527935.7107353061,10677252.852611331,130157.77,5467031.659226967,52429463.415558763,989554.63619323284,22452516.01918,19522666.629999999,2823850.4166411562,2916018.0559900003,3873391.4698928492,51588442.591703996,4287067.534911654]

{"sheet":"pivot-INF2015","index":46,"n_rows":113,"n_cols":20,"rows_kept":113,"cut":false,"hidden":true,"merged":[[1,6,1,11],[1,12,1,17],[58,6,58,12],[58,13,58,19]]}
[null,null,null,null,null,"INF2","Dicembre 2015"]
[null,{"$f":"SUM(B5:B51)","v":{"$error":"#N/A"}},{"$f":"SUM(C5:C51)","v":{"$error":"#N/A"}},null,null,"PREMI CONTABILIZZATI - INFORTUNI","INDIVIDUALI",null,null,null,null,null,"COLLETTIVE"]
[null,null,null,null,null,null,"Dati"]
[null,"premi ind","premi coll",null,null,"INF1","Somma di INF_MR","Somma di INF_IP","Somma di INF_IT","Somma di INF_COND","Somma di INF_AL","Somma di INF_TOT","Somma di INFC_MR","Somma di INFC_IP","Somma di INFC_IT","Somma di INFC_COND","Somma di INFC_AL","Somma di INFC_TOT"]
[{"$f":"IF(AND(L5=\"\",R5=\"\"),\"\",(MID(F5,7,50)))","v":""},{"$f":"+IF(L5=\"\",\"\",VLOOKUP(A5,'Quota Inf (2015)'!$B$9:$E$116,4,FALSE))","v":""},{"$f":"IF(R5=\"\",\"\",VLOOKUP(A5,'Quota Inf (2015)'!$B$9:$E$116,4,FALSE))","v":""},null,1,0,null,null,null,null,null,null,null,null,null,null,null,null,"oggi 11/05/2016 ho parlato con Simona Colonna, mi ha detto che stanno ultimando i test ma prima del 6-7 giugno non può mandarmi nulla, oggi 15/03/2016 ho detto a Simona Colonna che ci saremmo risentiti verso metà maggio per i mesi di Dicembre; PREMI ANNUI IMPONIBILI. La distinzione fra Linea Persone e linea SMC è la loro migliore proxy disponibile al momento fra individuali e collettive. Non hanno il dato della nuova produzione vita. Dati di dicembre per fine Aprile"]
["ALLIANZ S.P.A.",{"$f":"+IF(L6=\"\",\"\",VLOOKUP(A6,'Quota Inf (2015)'!$B$9:$E$116,4,FALSE))","v":10.82},null,null,2,"003 - ALLIANZ S.P.A.",16397942.104549006,79952451.831358165,13030882.886031449,73116006.065367222,42996724.125579156,225494007.012885,3485098.7250162391,13920737.938688718,3818853.025074638,8157779.8121646335,4257121.5520064225,33639591.05295065,"STIMA per le polizze individuali hanno ripartito i PLC  per garanzia in base alla percentuale rilevata in portafoglio per le medesime garanzie, non hanno dati sullle collettive e sul numero di polizze. Memo mi ha detto oggi 07/04/2016 che manda nei prox giorni Dicembre 2015 e non sa per Giugno 2014."]
["GENERALI ITALIA",{"$f":"+IF(L7=\"\",\"\",VLOOKUP(A7,'Quota Inf (2015)'!$B$9:$E$116,4,FALSE))","v":17.8},{"$f":"IF(R7=\"\",\"\",VLOOKUP(A7,'Quota Inf (2015)'!$B$9:$E$116,4,FALSE))","v":17.8},null,3,"005 - GENERALI ITALIA",40877764,150392645,21384409,30956973,54617606,298229397,0,0,0,0,0,0]
["",{"$f":"+IF(L8=\"\",\"\",VLOOKUP(A8,'Quota Inf (2015)'!$B$9:$E$116,4,FALSE))","v":""},{"$f":"IF(R8=\"\",\"\",VLOOKUP(A8,'Quota Inf (2015)'!$B$9:$E$116,4,FALSE))","v":""},null,4,"007 - COMPAGNIA DI ASS. DI MILANO",null,null,null,null,null,null,null,null,null,null,null,null,"oggi 12/05/2016 ho parlato con la responsabile attuariato danni LEONARDI GLORIA, ci comunica che stanno ancora aggiornando il sistema informatico e che in questo momento non sono in grado di estrapolare dati;"]
["",{"$f":"+IF(L9=\"\",\"\",VLOOKUP(A9,'Quota Inf (2015)'!$B$9:$E$116,4,FALSE))","v":""},{"$f":"IF(R9=\"\",\"\",VLOOKUP(A9,'Quota Inf (2015)'!$B$9:$E$116,4,FALSE))","v":""},null,5,"014 - AXA ASSICURAZIONI"]
["HELVETIA SA",{"$f":"+IF(L10=\"\",\"\",VLOOKUP(A10,'Quota Inf (2015)'!$B$9:$E$116,4,FALSE))","v":0.88},null,null,6,"019 - HELVETIA SA",11106447.8529,3860331.9544000002,257205.12719999999,1275000.9099999999,920012.62639999995,17418998.470900003,6865942.2454000004,2918003.8881000001,121524.9146,0,2408756.3620000002,12314227.4101]
["ITAS MUTUA",{"$f":"+IF(L11=\"\",\"\",VLOOKUP(A11,'Quota Inf (2015)'!$B$9:$E$116,4,FALSE))","v":1.1000000000000001},{"$f":"IF(R11=\"\",\"\",VLOOKUP(A11,'Quota Inf (2015)'!$B$9:$E$116,4,FALSE))","v":1.1000000000000001},null,7,"022 - ITAS MUTUA",2495146.4487524987,10331208.486065233,2935188.0284236488,6248155.2843229156,14921995.689395137,36931693.936959431,0,0,0,0,0,0]
["ITALIANA ASSICURAZIONI",{"$f":"+IF(L12=\"\",\"\",VLOOKUP(A12,'Quota Inf (2015)'!$B$9:$E$116,4,FALSE))","v":1.31},{"$f":"IF(R12=\"\",\"\",VLOOKUP(A12,'Quota Inf (2015)'!$B$9:$E$116,4,FALSE))","v":1.31},null,8,"023 - ITALIANA ASSICURAZIONI",7198713.8696745988,10996669.631898081,2412063.9744056063,10707244.974598125,4033310.6298115319,35348003.080387942,6862783.7023509284,1525676.2861046682,398316.92060805042,108205.64511214629,237267.89543625616,9132250.4496120475]
["SARA ASSICURAZIONI",{"$f":"+IF(L13=\"\",\"\",VLOOKUP(A13,'Quota Inf (2015)'!$B$9:$E$116,4,FALSE))","v":1.4},{"$f":"IF(R13=\"\",\"\",VLOOKUP(A13,'Quota Inf (2015)'!$B$9:$E$116,4,FALSE))","v":1.4},null,9,"032 - SARA ASSICURAZIONI",4724317,10282920,807115,24676389,4727277,45218018,307933,670261,4462,0,207516,1190172]
["",{"$f":"+IF(L14=\"\",\"\",VLOOKUP(A14,'Quota Inf (2015)'!$B$9:$E$116,4,FALSE))","v":""},{"$f":"IF(R14=\"\",\"\",VLOOKUP(A14,'Quota Inf (2015)'!$B$9:$E$116,4,FALSE))","v":""},null,10,"034 - FONDIARIA - SAI",null,null,null,null,null,null,null,null,null,null,null,null,"oggi 19/04/2016 Corrata ha detto che invierà Dicembre 2015 entro la prox settimana;"]
["UNIPOLSAI ASSICURAZIONI",{"$f":"+IF(L15=\"\",\"\",VLOOKUP(A15,'Quota Inf (2015)'!$B$9:$E$116,4,FALSE))","v":18.59},{"$f":"IF(R15=\"\",\"\",VLOOKUP(A15,'Quota Inf (2015)'!$B$9:$E$116,4,FALSE))","v":18.59},null,11,"034 - UNIPOLSAI ASSICURAZIONI",45191927.014307849,151443433.90036869,21540167.87050043,180186805.89680871,73350990.094156906,471713324.77614266,33167728.105692938,72225103.629635826,5917475.7794995457,5502692.5230809785,16966780.865844261,133779780.90375355]
["SOCIETA' REALE MUTUA",{"$f":"+IF(L16=\"\",\"\",VLOOKUP(A16,'Quota Inf (2015)'!$B$9:$E$116,4,FALSE))","v":2.76},{"$f":"IF(R16=\"\",\"\",VLOOKUP(A16,'Quota Inf (2015)'!$B$9:$E$116,4,FALSE))","v":2.76},null,12,"035 - SOCIETA' REALE MUTUA",16177453.73203842,17026215.99870386,5796389.8627493763,20257888.967153437,4448754.426803642,63706702.987448737,26734560.65166682,1075820.5624259515,562979.34322020458,224986.13248000943,1317281.7034582661,29915628.393251251]
["VITTORIA ASSICURAZIONI",{"$f":"+IF(L17=\"\",\"\",VLOOKUP(A17,'Quota Inf (2015)'!$B$9:$E$116,4,FALSE))","v":2.36},{"$f":"IF(R17=\"\",\"\",VLOOKUP(A17,'Quota Inf (2015)'!$B$9:$E$116,4,FALSE))","v":2.36},null,13,"038 - VITTORIA ASSICURAZIONI",4843877,14560943,2523541,33258190,8719548,63906099,2613493,4351028,340396,151563,2091271,9547751,"ok, non emettono polizze collettive"]
["ASSICURAZIONI RISCHI AGRICOLI VMG 1857",{"$f":"+IF(L18=\"\",\"\",VLOOKUP(A18,'Quota Inf (2015)'!$B$9:$E$116,4,FALSE))","v":0},{"$f":"IF(R18=\"\",\"\",VLOOKUP(A18,'Quota Inf (2015)'!$B$9:$E$116,4,FALSE))","v":0},null,14,"045 - ASSICURAZIONI RISCHI AGRICOLI VMG 1857",66,1782,0,0,0,1848,0,0,0,0,0,0,"oggi 05/04/2016 ho scritto a Parodi per chiedere se i premi di Dicembre 2015 sono cumulati o semestrali"]
["SUN INSURANCE OFFICE LIMITED RSA",{"$f":"+IF(L19=\"\",\"\",VLOOKUP(A19,'Quota Inf (2015)'!$B$9:$E$116,4,FALSE))","v":0.43},{"$f":"IF(R19=\"\",\"\",VLOOKUP(A19,'Quota Inf (2015)'!$B$9:$E$116,4,FALSE))","v":0.43},null,15,"080 - SUN INSURANCE OFFICE LIMITED RSA",2321135,3750707,611902,2259734,1382725,10326203,1294774,2016631,296866,104742,663727,4376740]
["",{"$f":"+IF(L20=\"\",\"\",VLOOKUP(A20,'Quota Inf (2015)'!$B$9:$E$116,4,FALSE))","v":""},null,null,16,"082 - UNIPOL ASSICURAZIONI",null,null,null,null,null,null,null,null,null,null,null,null,"oggi 21/04/2016 Barzaghi ha confermato la correttezza dei dati annuali"]
["CARIGE R.D. ASSICURAZIONI E RIASSICURAZIONI",{"$f":"+IF(L21=\"\",\"\",VLOOKUP(A21,'Quota Inf (2015)'!$B$9:$E$116,4,FALSE))","v":1.06},{"$f":"IF(R21=\"\",\"\",VLOOKUP(A21,'Quota Inf (2015)'!$B$9:$E$116,4,FALSE))","v":1.06},null,17,"086 - CARIGE R.D. ASSICURAZIONI E RIASSICURAZIONI",0,6006,0,14539815,17994389,32540210,0,0,0,0,0,0]
["HDI ASSICURAZIONI",{"$f":"+IF(L22=\"\",\"\",VLOOKUP(A22,'Quota Inf (2015)'!$B$9:$E$116,4,FALSE))","v":0.56000000000000005},{"$f":"IF(R22=\"\",\"\",VLOOKUP(A22,'Quota Inf (2015)'!$B$9:$E$116,4,FALSE))","v":0.56000000000000005},null,18,"133 - HDI ASSICURAZIONI",2017384,4137398,414639,9845037,1446247,17860705,320319,486648,85182,0,266954,1159103,"ok, non emettono polizze collettive"]
["GENIALLOYD",{"$f":"+IF(L23=\"\",\"\",VLOOKUP(A23,'Quota Inf (2015)'!$B$9:$E$116,4,FALSE))","v":0.61},{"$f":"IF(R23=\"\",\"\",VLOOKUP(A23,'Quota Inf (2015)'!$B$9:$E$116,4,FALSE))","v":0.61},null,19,"139 - GENIALLOYD",37828.520722854919,210531.51632074593,0,20368278.729999963,39670.572956399199,20656309.339999963,0,0,0,0,0,0,"per le polizze collettive ci da il numero di polizze e non il numero di teste"]
["GROUPAMA ASSICURAZIONI",{"$f":"+IF(L24=\"\",\"\",VLOOKUP(A24,'Quota Inf (2015)'!$B$9:$E$116,4,FALSE))","v":3.01},{"$f":"IF(R24=\"\",\"\",VLOOKUP(A24,'Quota Inf (2015)'!$B$9:$E$116,4,FALSE))","v":3.01},null,20,"151 - GROUPAMA ASSICURAZIONI",8696176,23483184,13262690,35252709,7214608,87909367,2704519,4005146,3244563,0,4278827,14233055]
["NATIONALE SUISSE",{"$f":"+IF(L25=\"\",\"\",VLOOKUP(A25,'Quota Inf (2015)'!$B$9:$E$116,4,FALSE))","v":0.23},{"$f":"IF(R25=\"\",\"\",VLOOKUP(A25,'Quota Inf (2015)'!$B$9:$E$116,4,FALSE))","v":0.23},"fusa in 417",21,"208 - NATIONALE SUISSE",1687633.8121,3321237.0093,448043.74709999998,220312.1,374359.55949999997,6051586.2280000001,286135.9607,1405981.2333,3933.9985000000001,0,3850.7574,1699901.9498999999]
["",{"$f":"+IF(L26=\"\",\"\",VLOOKUP(A26,'Quota Inf (2015)'!$B$9:$E$116,4,FALSE))","v":""},{"$f":"IF(R26=\"\",\"\",VLOOKUP(A26,'Quota Inf (2015)'!$B$9:$E$116,4,FALSE))","v":""},null,22,"225 - ISI INSURANCE Compagnia di Assicurazioni",null,null,null,null,null,null,null,null,null,null,null,null,"OGGI 17/05/2016 Zuena ha scritto che manderà i dati entro il 1 giugno"]
["AXA MPS ASSICURAZIONI DANNI",{"$f":"+IF(L27=\"\",\"\",VLOOKUP(A27,'Quota Inf (2015)'!$B$9:$E$116,4,FALSE))","v":1.44},{"$f":"IF(R27=\"\",\"\",VLOOKUP(A27,'Quota Inf (2015)'!$B$9:$E$116,4,FALSE))","v":1.44},null,23,"243 - AXA MPS ASSICURAZIONI DANNI",8071823.3100000005,7900064.2300000004,1791252.77,1751586.71,10331368.98,29846096.000000004,371542.8,2021942.38,15828,0,14115938.09,16525251.27]
["GENERTEL",{"$f":"+IF(L28=\"\",\"\",VLOOKUP(A28,'Quota Inf (2015)'!$B$9:$E$116,4,FALSE))","v":0.66},{"$f":"IF(R28=\"\",\"\",VLOOKUP(A28,'Quota Inf (2015)'!$B$9:$E$116,4,FALSE))","v":0.66},null,24,"247 - GENERTEL",19027,81856,41994,20941017,51238,21135132,0,469545,627090,156974,0,1253609]
["ASSIMOCO",{"$f":"+IF(L29=\"\",\"\",VLOOKUP(A29,'Quota Inf (2015)'!$B$9:$E$116,4,FALSE))","v":0.83},{"$f":"IF(R29=\"\",\"\",VLOOKUP(A29,'Quota Inf (2015)'!$B$9:$E$116,4,FALSE))","v":0.83},null,25,"254 - ASSIMOCO",10500075,14603747,966339,1250350,811612,28132123,0,0,0,0,0,0]
["",{"$f":"+IF(L30=\"\",\"\",VLOOKUP(A30,'Quota Inf (2015)'!$B$9:$E$116,4,FALSE))","v":""},{"$f":"IF(R30=\"\",\"\",VLOOKUP(A30,'Quota Inf (2015)'!$B$9:$E$116,4,FALSE))","v":""},null,26,"292 - HELVETIA ITALIA ASSICURAZIONI"]
["ERGO ASSICURAZIONI",{"$f":"+IF(L31=\"\",\"\",VLOOKUP(A31,'Quota Inf (2015)'!$B$9:$E$116,4,FALSE))","v":0.27},{"$f":"IF(R31=\"\",\"\",VLOOKUP(A31,'Quota Inf (2015)'!$B$9:$E$116,4,FALSE))","v":0.27},null,27,"293 - ERGO ASSICURAZIONI",636404,3660627,103301,2402110.7900001393,1794136,8596578.7900001388,190687,268885,3182,0,51193,513947]
["CARGEAS ASSICURAZIONI",null,null,null,28,"304 - CARGEAS ASSICURAZIONI",6095203,6145826,98211,2048506,148,14387894,5853715,9491577,4212456,163270,0,19721018]
["",{"$f":"+IF(L33=\"\",\"\",VLOOKUP(A33,'Quota Inf (2015)'!$B$9:$E$116,4,FALSE))","v":""},{"$f":"IF(R33=\"\",\"\",VLOOKUP(A33,'Quota Inf (2015)'!$B$9:$E$116,4,FALSE))","v":""},null,29,"304 - UBI ASSICURAZIONI"]
["UNISALUTE",{"$f":"+IF(L34=\"\",\"\",VLOOKUP(A34,'Quota Inf (2015)'!$B$9:$E$116,4,FALSE))","v":0.47},{"$f":"IF(R34=\"\",\"\",VLOOKUP(A34,'Quota Inf (2015)'!$B$9:$E$116,4,FALSE))","v":0.47},null,30,"342 - UNISALUTE",0,0,0,0,0,0,0,0,0,0,0,0]
["AIG EUROPE LIMITED",{"$f":"+IF(L35=\"\",\"\",VLOOKUP(A35,'Quota Inf (2015)'!$B$9:$E$116,4,FALSE))","v":2.8},{"$f":"IF(R35=\"\",\"\",VLOOKUP(A35,'Quota Inf (2015)'!$B$9:$E$116,4,FALSE))","v":2.8},null,31,"344 - AIG EUROPE LIMITED",1483533,1483533,3314810,0,229251,6511127,20157695,20157695,45040411,0,3114977,88470778]
["",{"$f":"+IF(L36=\"\",\"\",VLOOKUP(A36,'Quota Inf (2015)'!$B$9:$E$116,4,FALSE))","v":""},{"$f":"IF(R36=\"\",\"\",VLOOKUP(A36,'Quota Inf (2015)'!$B$9:$E$116,4,FALSE))","v":""},null,32,"344 - AIG EUROPE S.A."]
["",null,null,null,33,"344 - CHARTIS EUROPE S.A."]
["AVIVA ITALIA",{"$f":"+IF(L38=\"\",\"\",VLOOKUP(A38,'Quota Inf (2015)'!$B$9:$E$116,4,FALSE))","v":1.28},{"$f":"IF(R38=\"\",\"\",VLOOKUP(A38,'Quota Inf (2015)'!$B$9:$E$116,4,FALSE))","v":1.28},null,34,"352 - AVIVA ITALIA",6898378,10557457,1232871,4882333,4677403,28248442,4896624,5575954,420951,686590,1875363,13455482]
["",{"$f":"+IF(L39=\"\",\"\",VLOOKUP(A39,'Quota Inf (2015)'!$B$9:$E$116,4,FALSE))","v":""},{"$f":"IF(R39=\"\",\"\",VLOOKUP(A39,'Quota Inf (2015)'!$B$9:$E$116,4,FALSE))","v":""},null,35,"378 - AVIVA ASSICURAZIONI"]
["ARCA ASSICURAZIONI",null,null,null,36,"417 - ARCA ASSICURAZIONI",4140874,5913444,113123,996177,4790763,15954381,1211531,1260619,-183,-54,551375,3023288]
["INTESA SANPAOLO ASSICURA",{"$f":"+IF(L41=\"\",\"\",VLOOKUP(A41,'Quota Inf (2015)'!$B$9:$E$116,4,FALSE))","v":0.74},{"$f":"IF(R41=\"\",\"\",VLOOKUP(A41,'Quota Inf (2015)'!$B$9:$E$116,4,FALSE))","v":0.74},null,37,"419 - INTESA SANPAOLO ASSICURA",739912.03552633349,7734985.9633114636,9070670.6118328534,1626223,5883682.8342259917,25055474.444896642,0,0,0,0,0,0,"Schiarea mi ha mandato e-mail, non hanno distribuzione per le polizze individuali, dice che per INFORTUNI si potrebbero dividere i premi tra MR e IP (50 e 50), mentre per MALATTIA tra IP e DIARIA (75 e 25)"]
["CNP UNICREDIT VITA",null,null,null,38,"426 - CNP UNICREDIT VITA",0,0,0,0,0,0,0,0,0,0,0,0]
["CREDEMASSICURAZIONI",{"$f":"+IF(L43=\"\",\"\",VLOOKUP(A43,'Quota Inf (2015)'!$B$9:$E$116,4,FALSE))","v":0.14000000000000001},{"$f":"IF(R43=\"\",\"\",VLOOKUP(A43,'Quota Inf (2015)'!$B$9:$E$116,4,FALSE))","v":0.14000000000000001},null,39,"428 - CREDEMASSICURAZIONI",1226940.3699999875,1226940.3699999875,0,0,0,2453880.7399999751,0,579741.94376926566,481688.29705615452,0,2466843,3528273.2408254202]
["",{"$f":"+IF(L44=\"\",\"\",VLOOKUP(A44,'Quota Inf (2015)'!$B$9:$E$116,4,FALSE))","v":""},{"$f":"IF(R44=\"\",\"\",VLOOKUP(A44,'Quota Inf (2015)'!$B$9:$E$116,4,FALSE))","v":""},null,40,"431 - POSTE VITA"]
["POSTE VITA - Gruppo Assicurativo Poste Vita",{"$f":"+IF(L45=\"\",\"\",VLOOKUP(A45,'Quota Inf (2015)'!$B$9:$E$116,4,FALSE))","v":{"$error":"#N/A"}},{"$f":"IF(R45=\"\",\"\",VLOOKUP(A45,'Quota Inf (2015)'!$B$9:$E$116,4,FALSE))","v":{"$error":"#N/A"}},null,41,"431 - POSTE VITA - Gruppo Assicurativo Poste Vita",0,0,0,0,0,0,0,0,0,0,0,0]
["DIRECT LINE INSURANCE",{"$f":"+IF(L46=\"\",\"\",VLOOKUP(A46,'Quota Inf (2015)'!$B$9:$E$116,4,FALSE))","v":1.06},{"$f":"IF(R46=\"\",\"\",VLOOKUP(A46,'Quota Inf (2015)'!$B$9:$E$116,4,FALSE))","v":1.06},null,42,"432 - DIRECT LINE INSURANCE",0,0,0,35944686.289999999,0,35944686.289999999,0,0,0,0,0,0]
["AVIPOP ASSICURAZIONI",{"$f":"+IF(L47=\"\",\"\",VLOOKUP(A47,'Quota Inf (2015)'!$B$9:$E$116,4,FALSE))","v":0.31},{"$f":"IF(R47=\"\",\"\",VLOOKUP(A47,'Quota Inf (2015)'!$B$9:$E$116,4,FALSE))","v":0.31},null,43,"457 - AVIPOP ASSICURAZIONI",30371,30725,0,57458,4690286,4808840,0,0,0,0,0,0,"oggi 31/03/2016 bovi stefano ha mandato email in cui comunica che almeno per quest'anno sono impossibilitati a inviare dati in quanto hanno cambiato sistema informativo"]
["CF ASSICURAZIONI",{"$f":"+IF(L48=\"\",\"\",VLOOKUP(A48,'Quota Inf (2015)'!$B$9:$E$116,4,FALSE))","v":0.1},{"$f":"IF(R48=\"\",\"\",VLOOKUP(A48,'Quota Inf (2015)'!$B$9:$E$116,4,FALSE))","v":0.1},null,44,"464 - CF ASSICURAZIONI",1550511,322168,72935,6018,206144,2157776,394352,109791,16401,0,681753,1202297,"oggi 18/04/2016 la Rinaldi ci scrive che i dati di Giugno 2014 sono espressi in migliaia di euro e non in euro, quindi li ho moltiplicati per mille aspettando un loro invio."]
["RBM SALUTE",{"$f":"+IF(L49=\"\",\"\",VLOOKUP(A49,'Quota Inf (2015)'!$B$9:$E$116,4,FALSE))","v":0.01},{"$f":"IF(R49=\"\",\"\",VLOOKUP(A49,'Quota Inf (2015)'!$B$9:$E$116,4,FALSE))","v":0.01},null,45,"468 - RBM SALUTE",0,0,0,0,0,0,0,0,0,0,201815,201815]
["",{"$f":"+IF(L50=\"\",\"\",VLOOKUP(A50,'Quota Inf (2015)'!$B$9:$E$116,4,FALSE))","v":""},{"$f":"IF(R50=\"\",\"\",VLOOKUP(A50,'Quota Inf (2015)'!$B$9:$E$116,4,FALSE))","v":""},null,46,"469 - ARISCOM COMPAGNIA DI ASSICURAZIONI"]
["",{"$f":"+IF(L51=\"\",\"\",VLOOKUP(A51,'Quota Inf (2015)'!$B$9:$E$116,4,FALSE))","v":""},{"$f":"IF(R51=\"\",\"\",VLOOKUP(A51,'Quota Inf (2015)'!$B$9:$E$116,4,FALSE))","v":""},null,47,"474 - NOBIS COMPAGNIA DI ASSICURAZIONI"]
["POSTE ASSICURA - Gruppo Assicurativo Poste Vita",null,null,null,null,"480 - POSTE ASSICURA - Gruppo Assicurativo Poste Vita",7324590,20340096,146313,0,9442264,37253263,183785,1115516,142343,0,0,1441644]
["QUADRA ASSICURAZIONI",null,null,null,null,"485 - QUADRA ASSICURAZIONI",23930.17,29298.210000000006,18007.780000000002,0,14303.330000000002,85539.49,0,0,0,0,0,0]
[null,null,null,null,null,"618 - METLIFE EUROPE LIMITED",7810020,11715030,0,0,0,19525050,4042789,6064183,0,0,0,10106972]
[null,null,null,null,null,"853 - ACE EUROPEAN GROUP LTD",11638927.176856881,2937771.6914549,2911173.8809158448,149799.9719110842,21328149.258376617,38965821.979515329,6844486.9306860967,9859265.1465420388,269196.75048581889,0,1138229.1927707193,18111178.020484675]
[null,null,null,null,null,"864 - ZURICH INSURANCE PLC",5599889,19763794,3814797,19241065,9281354,57700899,6756117,19917529,1646898,345190,7625054,36290788]
[null,null,null,null,null,"Totale complessivo",237564220.41742837,598205028.79318118,109120036.53915922,554465870.69016159,310720321.12720531,1810075477.5671358,135546612.12151304,181493281.00856647,67670815.02904442,15601939.112837767,64521894.418915927,464834541.69087762]
[null,null,null,null,null,"INF2","Dicembre 2015"]
[null,{"$f":"SUM(B62:B108)","v":{"$error":"#N/A"}},{"$f":"SUM(C62:C108)","v":{"$error":"#N/A"}},{"$f":"SUM(D62:D108)","v":61.739999999999995},{"$f":"SUM(E62:E108)","v":17.990000000000002},"NUOVA PRODUZIONE - INFORTUNI","INDIVIDUALI",null,null,null,null,null,null,"COLLETTIVE"]
[null,null,null,null,null,null,"Dati"]
[null,"pre ind","pre coll","pol ind","pol coll","INF1","Somma di INFNP_MR","Somma di INFNP_IP","Somma di INFNP_IT","Somma di INFNP_COND","Somma di INFNP_AL","Somma di INFNP_TOT","Somma di INFNUM_POL","Somma di INFCNP_MR","Somma di INFCNP_IP","Somma di INFCNP_IT","Somma di INFCNP_COND","Somma di INFCNP_AL","Somma di INFCNP_TOT","Somma di INFCNUM_POL"]
[{"$f":"IF(AND(L62=\"\",R62=\"\"),\"\",(MID(F62,7,50)))","v":"ALLIANZ S.P.A."},null,null,{"$f":"IF(OR(M62=\"\",M62=0),\"\",VLOOKUP(A62,'Quota Inf (2015)'!$B$9:$E$116,4,FALSE))","v":""},{"$f":"IF(OR(T62=\"\",T62=0),\"\",VLOOKUP(A62,'Quota Inf (2015)'!$B$9:$E$116,4,FALSE))","v":""},"003 - ALLIANZ S.P.A.",0,0,0,0,0,0,0,0,0,0,0,0,0,0]
[{"$f":"IF(AND(L63=\"\",R63=\"\"),\"\",(MID(F63,7,50)))","v":"GENERALI ITALIA"},{"$f":"+IF(L63=\"\",\"\",VLOOKUP(A63,'Quota Inf (2015)'!$B$9:$E$116,4,FALSE))","v":17.8},null,{"$f":"IF(OR(M63=\"\",M63=0),\"\",VLOOKUP(A63,'Quota Inf (2015)'!$B$9:$E$116,4,FALSE))","v":17.8},{"$f":"IF(OR(T63=\"\",T63=0),\"\",VLOOKUP(A63,'Quota Inf (2015)'!$B$9:$E$116,4,FALSE))","v":""},"005 - GENERALI ITALIA",3591079,12178266,1148805,1084612,4232002,22234764,1308569,0,0,0,0,0,0,0]
["",{"$f":"+IF(L64=\"\",\"\",VLOOKUP(A64,'Quota Inf (2015)'!$B$9:$E$116,4,FALSE))","v":""},{"$f":"IF(S64=\"\",\"\",VLOOKUP(A64,'Quota Inf (2015)'!$B$9:$E$116,4,FALSE))","v":""},{"$f":"IF(OR(M64=\"\",M64=0),\"\",VLOOKUP(A64,'Quota Inf (2015)'!$B$9:$E$116,4,FALSE))","v":""},{"$f":"IF(OR(T64=\"\",T64=0),\"\",VLOOKUP(A64,'Quota Inf (2015)'!$B$9:$E$116,4,FALSE))","v":""},"007 - COMPAGNIA DI ASS. DI MILANO"]
["",{"$f":"+IF(L65=\"\",\"\",VLOOKUP(A65,'Quota Inf (2015)'!$B$9:$E$116,4,FALSE))","v":""},{"$f":"IF(S65=\"\",\"\",VLOOKUP(A65,'Quota Inf (2015)'!$B$9:$E$116,4,FALSE))","v":""},{"$f":"IF(OR(M65=\"\",M65=0),\"\",VLOOKUP(A65,'Quota Inf (2015)'!$B$9:$E$116,4,FALSE))","v":""},{"$f":"IF(OR(T65=\"\",T65=0),\"\",VLOOKUP(A65,'Quota Inf (2015)'!$B$9:$E$116,4,FALSE))","v":""},"014 - AXA ASSICURAZIONI"]
["HELVETIA SA",{"$f":"+IF(L66=\"\",\"\",VLOOKUP(A66,'Quota Inf (2015)'!$B$9:$E$116,4,FALSE))","v":0.88},{"$f":"IF(S66=\"\",\"\",VLOOKUP(A66,'Quota Inf (2015)'!$B$9:$E$116,4,FALSE))","v":0.88},{"$f":"IF(OR(M66=\"\",M66=0),\"\",VLOOKUP(A66,'Quota Inf (2015)'!$B$9:$E$116,4,FALSE))","v":0.88},{"$f":"IF(OR(T66=\"\",T66=0),\"\",VLOOKUP(A66,'Quota Inf (2015)'!$B$9:$E$116,4,FALSE))","v":0.88},"019 - HELVETIA SA",393260.25530000002,769179.44369999995,102062.93550000001,299505.46000000002,396972.28720000002,1960980.3816999998,130532,211708.91399999999,275050.01250000001,34987.8848,0,285786.71889999998,807533.53019999992,18089]
["ITAS MUTUA",{"$f":"+IF(L67=\"\",\"\",VLOOKUP(A67,'Quota Inf (2015)'!$B$9:$E$116,4,FALSE))","v":1.1000000000000001},{"$f":"IF(S67=\"\",\"\",VLOOKUP(A67,'Quota Inf (2015)'!$B$9:$E$116,4,FALSE))","v":1.1000000000000001},{"$f":"IF(OR(M67=\"\",M67=0),\"\",VLOOKUP(A67,'Quota Inf (2015)'!$B$9:$E$116,4,FALSE))","v":1.1000000000000001},{"$f":"IF(OR(T67=\"\",T67=0),\"\",VLOOKUP(A67,'Quota Inf (2015)'!$B$9:$E$116,4,FALSE))","v":""},"022 - ITAS MUTUA",680527.24649975216,3264441.2322494951,662924.95878775441,2214922.5609168215,2073931.1358962087,8896747.1343500316,149885,0,0,0,0,0,0,0]
["ITALIANA ASSICURAZIONI",{"$f":"+IF(L68=\"\",\"\",VLOOKUP(A68,'Quota Inf (2015)'!$B$9:$E$116,4,FALSE))","v":1.31},{"$f":"IF(S68=\"\",\"\",VLOOKUP(A68,'Quota Inf (2015)'!$B$9:$E$116,4,FALSE))","v":1.31},{"$f":"IF(OR(M68=\"\",M68=0),\"\",VLOOKUP(A68,'Quota Inf (2015)'!$B$9:$E$116,4,FALSE))","v":1.31},{"$f":"IF(OR(T68=\"\",T68=0),\"\",VLOOKUP(A68,'Quota Inf (2015)'!$B$9:$E$116,4,FALSE))","v":""},"023 - ITALIANA ASSICURAZIONI",685605.85943561897,1176822.4590088495,172664.27672394511,1641038.0502748827,566964.52040563745,4243095.1658489332,298554,1102469.185142061,218059.06752009058,40598.32285761174,53381.888219641427,39801.250411661618,1454309.7141510665,0]
["SARA ASSICURAZIONI",{"$f":"+IF(L69=\"\",\"\",VLOOKUP(A69,'Quota Inf (2015)'!$B$9:$E$116,4,FALSE))","v":1.4},{"$f":"IF(S69=\"\",\"\",VLOOKUP(A69,'Quota Inf (2015)'!$B$9:$E$116,4,FALSE))","v":1.4},{"$f":"IF(OR(M69=\"\",M69=0),\"\",VLOOKUP(A69,'Quota Inf (2015)'!$B$9:$E$116,4,FALSE))","v":1.4},{"$f":"IF(OR(T69=\"\",T69=0),\"\",VLOOKUP(A69,'Quota Inf (2015)'!$B$9:$E$116,4,FALSE))","v":1.4},"032 - SARA ASSICURAZIONI",430347,1278998,74045,5170730,630551,7584671,573739,108172,131966,1168,0,65819,307125,4723]
["",{"$f":"+IF(L70=\"\",\"\",VLOOKUP(A70,'Quota Inf (2015)'!$B$9:$E$116,4,FALSE))","v":""},{"$f":"IF(S70=\"\",\"\",VLOOKUP(A70,'Quota Inf (2015)'!$B$9:$E$116,4,FALSE))","v":""},{"$f":"IF(OR(M70=\"\",M70=0),\"\",VLOOKUP(A70,'Quota Inf (2015)'!$B$9:$E$116,4,FALSE))","v":""},{"$f":"IF(OR(T70=\"\",T70=0),\"\",VLOOKUP(A70,'Quota Inf (2015)'!$B$9:$E$116,4,FALSE))","v":""},"034 - FONDIARIA - SAI"]
["UNIPOLSAI ASSICURAZIONI",{"$f":"+IF(L71=\"\",\"\",VLOOKUP(A71,'Quota Inf (2015)'!$B$9:$E$116,4,FALSE))","v":18.59},{"$f":"IF(S71=\"\",\"\",VLOOKUP(A71,'Quota Inf (2015)'!$B$9:$E$116,4,FALSE))","v":18.59},{"$f":"IF(OR(M71=\"\",M71=0),\"\",VLOOKUP(A71,'Quota Inf (2015)'!$B$9:$E$116,4,FALSE))","v":18.59},{"$f":"IF(OR(T71=\"\",T71=0),\"\",VLOOKUP(A71,'Quota Inf (2015)'!$B$9:$E$116,4,FALSE))","v":""},"034 - UNIPOLSAI ASSICURAZIONI",3972518.0927389408,14887465.766994631,1002598.1766377692,12161511.393522436,8414068.2111787423,40438161.641072519,2457996,5071752.1172612431,7782907.3630058328,153405.01336223129,136364.81647773908,3735960.9888213575,16880390.298928402,0]
["SOCIETA' REALE MUTUA",{"$f":"+IF(L72=\"\",\"\",VLOOKUP(A72,'Quota Inf (2015)'!$B$9:$E$116,4,FALSE))","v":2.76},{"$f":"IF(S72=\"\",\"\",VLOOKUP(A72,'Quota Inf (2015)'!$B$9:$E$116,4,FALSE))","v":2.76},{"$f":"IF(OR(M72=\"\",M72=0),\"\",VLOOKUP(A72,'Quota Inf (2015)'!$B$9:$E$116,4,FALSE))","v":2.76},{"$f":"IF(OR(T72=\"\",T72=0),\"\",VLOOKUP(A72,'Quota Inf (2015)'!$B$9:$E$116,4,FALSE))","v":""},"035 - SOCIETA' REALE MUTUA",1198308.7410899999,1672765.6483499999,337422.70819999999,3144531.63,564504.73236000002,6917533.46,514632,3901702.7305800002,115170.20942,0,49736.17,111627.82,4178236.93,0]
["VITTORIA ASSICURAZIONI",{"$f":"+IF(L73=\"\",\"\",VLOOKUP(A73,'Quota Inf (2015)'!$B$9:$E$116,4,FALSE))","v":2.36},{"$f":"IF(S73=\"\",\"\",VLOOKUP(A73,'Quota Inf (2015)'!$B$9:$E$116,4,FALSE))","v":2.36},{"$f":"IF(OR(M73=\"\",M73=0),\"\",VLOOKUP(A73,'Quota Inf (2015)'!$B$9:$E$116,4,FALSE))","v":2.36},{"$f":"IF(OR(T73=\"\",T73=0),\"\",VLOOKUP(A73,'Quota Inf (2015)'!$B$9:$E$116,4,FALSE))","v":2.36},"038 - VITTORIA ASSICURAZIONI",726715,2531743,229833,9068736,1397749,13954776,618305,566793,878263,54298,36046,466714,2002114,26967]
["ASSICURAZIONI RISCHI AGRICOLI VMG 1857",{"$f":"+IF(L74=\"\",\"\",VLOOKUP(A74,'Quota Inf (2015)'!$B$9:$E$116,4,FALSE))","v":0},{"$f":"IF(S74=\"\",\"\",VLOOKUP(A74,'Quota Inf (2015)'!$B$9:$E$116,4,FALSE))","v":0},{"$f":"IF(OR(M74=\"\",M74=0),\"\",VLOOKUP(A74,'Quota Inf (2015)'!$B$9:$E$116,4,FALSE))","v":0},{"$f":"IF(OR(T74=\"\"),\"\",VLOOKUP(A74,'Quota Inf (2015)'!$B$9:$E$116,4,FALSE))","v":0},"045 - ASSICURAZIONI RISCHI AGRICOLI VMG 1857",0,0,0,0,0,0,8,0,0,0,0,0,0,0]
["SUN INSURANCE OFFICE LIMITED RSA",{"$f":"+IF(L75=\"\",\"\",VLOOKUP(A75,'Quota Inf (2015)'!$B$9:$E$116,4,FALSE))","v":0.43},{"$f":"IF(S75=\"\",\"\",VLOOKUP(A75,'Quota Inf (2015)'!$B$9:$E$116,4,FALSE))","v":0.43},{"$f":"IF(OR(M75=\"\",M75=0),\"\",VLOOKUP(A75,'Quota Inf (2015)'!$B$9:$E$116,4,FALSE))","v":0.43},{"$f":"IF(OR(T75=\"\",T75=0),\"\",VLOOKUP(A75,'Quota Inf (2015)'!$B$9:$E$116,4,FALSE))","v":0.43},"080 - SUN INSURANCE OFFICE LIMITED RSA",211122,295320,30443,0,87387,624272,274089,82301,90239,11934,0,88955,273429,13897]
["",{"$f":"+IF(L76=\"\",\"\",VLOOKUP(A76,'Quota Inf (2015)'!$B$9:$E$116,4,FALSE))","v":""},{"$f":"IF(S76=\"\",\"\",VLOOKUP(A76,'Quota Inf (2015)'!$B$9:$E$116,4,FALSE))","v":""},{"$f":"IF(OR(M76=\"\",M76=0),\"\",VLOOKUP(A76,'Quota Inf (2015)'!$B$9:$E$116,4,FALSE))","v":""},{"$f":"IF(OR(T76=\"\",T76=0),\"\",VLOOKUP(A76,'Quota Inf (2015)'!$B$9:$E$116,4,FALSE))","v":""},"082 - UNIPOL ASSICURAZIONI"]
["CARIGE R.D. ASSICURAZIONI E RIASSICURAZIONI",{"$f":"+IF(L77=\"\",\"\",VLOOKUP(A77,'Quota Inf (2015)'!$B$9:$E$116,4,FALSE))","v":1.06},null,{"$f":"IF(OR(M77=\"\",M77=0),\"\",VLOOKUP(A77,'Quota Inf (2015)'!$B$9:$E$116,4,FALSE))","v":1.06},{"$f":"IF(OR(T77=\"\",T77=0),\"\",VLOOKUP(A77,'Quota Inf (2015)'!$B$9:$E$116,4,FALSE))","v":1.06},"086 - CARIGE R.D. ASSICURAZIONI E RIASSICURAZIONI",0,0,0,2911822,4361253,7273075,365319,0,0,0,0,0,0,48541]
["HDI ASSICURAZIONI",{"$f":"+IF(L78=\"\",\"\",VLOOKUP(A78,'Quota Inf (2015)'!$B$9:$E$116,4,FALSE))","v":0.56000000000000005},{"$f":"IF(S78=\"\",\"\",VLOOKUP(A78,'Quota Inf (2015)'!$B$9:$E$116,4,FALSE))","v":0.56000000000000005},{"$f":"IF(OR(M78=\"\",M78=0),\"\",VLOOKUP(A78,'Quota Inf (2015)'!$B$9:$E$116,4,FALSE))","v":0.56000000000000005},{"$f":"IF(OR(T78=\"\",T78=0),\"\",VLOOKUP(A78,'Quota Inf (2015)'!$B$9:$E$116,4,FALSE))","v":0.56000000000000005},"133 - HDI ASSICURAZIONI",434310,775955,73191,1672944,294864,3251264,247464,63698,-248807,15884,0,50025,-119200,84834]
["GENIALLOYD",{"$f":"+IF(L79=\"\",\"\",VLOOKUP(A79,'Quota Inf (2015)'!$B$9:$E$116,4,FALSE))","v":0.61},{"$f":"IF(S79=\"\",\"\",VLOOKUP(A79,'Quota Inf (2015)'!$B$9:$E$116,4,FALSE))","v":0.61},{"$f":"IF(OR(M79=\"\",M79=0),\"\",VLOOKUP(A79,'Quota Inf (2015)'!$B$9:$E$116,4,FALSE))","v":0.61},{"$f":"IF(OR(T79=\"\"),\"\",VLOOKUP(A79,'Quota Inf (2015)'!$B$9:$E$116,4,FALSE))","v":0.61},"139 - GENIALLOYD",12253.214587525272,68194.256545607001,0,6116128.3899999978,13679.998866867736,6210255.8599999975,677387,0,0,0,0,0,0,0]
["GROUPAMA ASSICURAZIONI",{"$f":"+IF(L80=\"\",\"\",VLOOKUP(A80,'Quota Inf (2015)'!$B$9:$E$116,4,FALSE))","v":3.01},{"$f":"IF(S80=\"\",\"\",VLOOKUP(A80,'Quota Inf (2015)'!$B$9:$E$116,4,FALSE))","v":3.01},{"$f":"IF(OR(M80=\"\",M80=0),\"\",VLOOKUP(A80,'Quota Inf (2015)'!$B$9:$E$116,4,FALSE))","v":3.01},{"$f":"IF(OR(T80=\"\",T80=0),\"\",VLOOKUP(A80,'Quota Inf (2015)'!$B$9:$E$116,4,FALSE))","v":3.01},"151 - GROUPAMA ASSICURAZIONI",1568537,4231440,2011081,2496801,1339959,11647818,853362,299962,448618,149889,0,508110,1406579,8071]
["NATIONALE SUISSE",{"$f":"+IF(L81=\"\",\"\",VLOOKUP(A81,'Quota Inf (2015)'!$B$9:$E$116,4,FALSE))","v":0.23},{"$f":"IF(S81=\"\",\"\",VLOOKUP(A81,'Quota Inf (2015)'!$B$9:$E$116,4,FALSE))","v":0.23},{"$f":"IF(OR(M81=\"\",M81=0),\"\",VLOOKUP(A81,'Quota Inf (2015)'!$B$9:$E$116,4,FALSE))","v":0.23},{"$f":"IF(OR(T81=\"\",T81=0),\"\",VLOOKUP(A81,'Quota Inf (2015)'!$B$9:$E$116,4,FALSE))","v":0.23},"208 - NATIONALE SUISSE",173841.19519999999,327527.28769999999,99743.280400000003,55905.599999999999,94555.116399999999,751572.47970000003,59414,2961.44,21142.22,471.21,0,773.12,25347.989999999998,8688]
["",{"$f":"+IF(L82=\"\",\"\",VLOOKUP(A82,'Quota Inf (2015)'!$B$9:$E$116,4,FALSE))","v":""},{"$f":"IF(S82=\"\",\"\",VLOOKUP(A82,'Quota Inf (2015)'!$B$9:$E$116,4,FALSE))","v":""},{"$f":"IF(OR(M82=\"\",M82=0),\"\",VLOOKUP(A82,'Quota Inf (2015)'!$B$9:$E$116,4,FALSE))","v":""},{"$f":"IF(OR(T82=\"\",T82=0),\"\",VLOOKUP(A82,'Quota Inf (2015)'!$B$9:$E$116,4,FALSE))","v":""},"225 - ISI INSURANCE Compagnia di Assicurazioni"]
["AXA MPS ASSICURAZIONI DANNI",{"$f":"+IF(L83=\"\",\"\",VLOOKUP(A83,'Quota Inf (2015)'!$B$9:$E$116,4,FALSE))","v":1.44},{"$f":"IF(S83=\"\",\"\",VLOOKUP(A83,'Quota Inf (2015)'!$B$9:$E$116,4,FALSE))","v":1.44},{"$f":"IF(OR(M83=\"\",M83=0),\"\",VLOOKUP(A83,'Quota Inf (2015)'!$B$9:$E$116,4,FALSE))","v":1.44},{"$f":"IF(OR(T83=\"\",T83=0),\"\",VLOOKUP(A83,'Quota Inf (2015)'!$B$9:$E$116,4,FALSE))","v":1.44},"243 - AXA MPS ASSICURAZIONI DANNI",2349128.1800000002,2586528.89,602320.13,871555.95,1874698.41,8284231.5600000005,226686,163229.36000000002,2229330.7799999998,279854.17,0,2487398.61,5159812.92,1156950]
["GENERTEL",{"$f":"+IF(L84=\"\",\"\",VLOOKUP(A84,'Quota Inf (2015)'!$B$9:$E$116,4,FALSE))","v":0.66},{"$f":"IF(S84=\"\",\"\",VLOOKUP(A84,'Quota Inf (2015)'!$B$9:$E$116,4,FALSE))","v":0.66},{"$f":"IF(OR(M84=\"\",M84=0),\"\",VLOOKUP(A84,'Quota Inf (2015)'!$B$9:$E$116,4,FALSE))","v":0.66},{"$f":"IF(OR(T84=\"\",T84=0),\"\",VLOOKUP(A84,'Quota Inf (2015)'!$B$9:$E$116,4,FALSE))","v":0.66},"247 - GENERTEL",15033,31100,3403,3829479,49627,3928642,481031,0,0,627090,103692,0,730782,6836]
["ASSIMOCO",{"$f":"+IF(L85=\"\",\"\",VLOOKUP(A85,'Quota Inf (2015)'!$B$9:$E$116,4,FALSE))","v":0.83},{"$f":"IF(S85=\"\",\"\",VLOOKUP(A85,'Quota Inf (2015)'!$B$9:$E$116,4,FALSE))","v":0.83},{"$f":"IF(OR(M85=\"\",M85=0),\"\",VLOOKUP(A85,'Quota Inf (2015)'!$B$9:$E$116,4,FALSE))","v":0.83},{"$f":"IF(OR(T85=\"\",T85=0),\"\",VLOOKUP(A85,'Quota Inf (2015)'!$B$9:$E$116,4,FALSE))","v":""},"254 - ASSIMOCO",2386577,2974592,223004,328295,47038,5959506,565339,0,0,0,0,0,0,0]
["",{"$f":"+IF(L86=\"\",\"\",VLOOKUP(A86,'Quota Inf (2015)'!$B$9:$E$116,4,FALSE))","v":""},{"$f":"IF(S86=\"\",\"\",VLOOKUP(A86,'Quota Inf (2015)'!$B$9:$E$116,4,FALSE))","v":""},{"$f":"IF(OR(M86=\"\",M86=0),\"\",VLOOKUP(A86,'Quota Inf (2015)'!$B$9:$E$116,4,FALSE))","v":""},{"$f":"IF(OR(T86=\"\",T86=0),\"\",VLOOKUP(A86,'Quota Inf (2015)'!$B$9:$E$116,4,FALSE))","v":""},"292 - HELVETIA ITALIA ASSICURAZIONI"]
["ERGO ASSICURAZIONI",{"$f":"+IF(L87=\"\",\"\",VLOOKUP(A87,'Quota Inf (2015)'!$B$9:$E$116,4,FALSE))","v":0.27},{"$f":"IF(S87=\"\",\"\",VLOOKUP(A87,'Quota Inf (2015)'!$B$9:$E$116,4,FALSE))","v":0.27},{"$f":"IF(OR(M87=\"\",M87=0),\"\",VLOOKUP(A87,'Quota Inf (2015)'!$B$9:$E$116,4,FALSE))","v":0.27},{"$f":"IF(OR(T87=\"\",T87=0),\"\",VLOOKUP(A87,'Quota Inf (2015)'!$B$9:$E$116,4,FALSE))","v":0.27},"293 - ERGO ASSICURAZIONI",70584,261704,6344,463445.34000000998,134553,936630.34000000998,106571.778082145,41376,56047,0,0,20449,117872,15814]
["CARGEAS ASSICURAZIONI",{"$f":"+IF(L88=\"\",\"\",VLOOKUP(A88,'Quota Inf (2015)'!$B$9:$E$116,4,FALSE))","v":0.95},{"$f":"IF(S88=\"\",\"\",VLOOKUP(A88,'Quota Inf (2015)'!$B$9:$E$116,4,FALSE))","v":0.95},{"$f":"IF(OR(M88=\"\",M88=0),\"\",VLOOKUP(A88,'Quota Inf (2015)'!$B$9:$E$116,4,FALSE))","v":""},{"$f":"IF(OR(T88=\"\",T88=0),\"\",VLOOKUP(A88,'Quota Inf (2015)'!$B$9:$E$116,4,FALSE))","v":""},"304 - CARGEAS ASSICURAZIONI",494952,494855,79,334664,0,1324550,0,1668617,5973585,4749495,0,0,12391697,0]
["",{"$f":"+IF(L89=\"\",\"\",VLOOKUP(A89,'Quota Inf (2015)'!$B$9:$E$116,4,FALSE))","v":""},{"$f":"IF(S89=\"\",\"\",VLOOKUP(A89,'Quota Inf (2015)'!$B$9:$E$116,4,FALSE))","v":""},{"$f":"IF(OR(M89=\"\",M89=0),\"\",VLOOKUP(A89,'Quota Inf (2015)'!$B$9:$E$116,4,FALSE))","v":""},{"$f":"IF(OR(T89=\"\",T89=0),\"\",VLOOKUP(A89,'Quota Inf (2015)'!$B$9:$E$116,4,FALSE))","v":""},"304 - UBI ASSICURAZIONI"]
["UNISALUTE",{"$f":"+IF(L90=\"\",\"\",VLOOKUP(A90,'Quota Inf (2015)'!$B$9:$E$116,4,FALSE))","v":0.47},{"$f":"IF(S90=\"\",\"\",VLOOKUP(A90,'Quota Inf (2015)'!$B$9:$E$116,4,FALSE))","v":0.47},{"$f":"IF(OR(M90=\"\"),\"\",VLOOKUP(A90,'Quota Inf (2015)'!$B$9:$E$116,4,FALSE))","v":0.47},{"$f":"IF(OR(T90=\"\"),\"\",VLOOKUP(A90,'Quota Inf (2015)'!$B$9:$E$116,4,FALSE))","v":0.47},"342 - UNISALUTE",0,0,0,0,0,0,0,0,0,0,0,0,0,0]
["AIG EUROPE LIMITED",{"$f":"+IF(L91=\"\",\"\",VLOOKUP(A91,'Quota Inf (2015)'!$B$9:$E$116,4,FALSE))","v":2.8},{"$f":"IF(S91=\"\",\"\",VLOOKUP(A91,'Quota Inf (2015)'!$B$9:$E$116,4,FALSE))","v":2.8},{"$f":"IF(OR(M91=\"\",M91=0),\"\",VLOOKUP(A91,'Quota Inf (2015)'!$B$9:$E$116,4,FALSE))","v":2.8},{"$f":"IF(OR(T91=\"\",T91=0),\"\",VLOOKUP(A91,'Quota Inf (2015)'!$B$9:$E$116,4,FALSE))","v":2.8},"344 - AIG EUROPE LIMITED",80997,80997,180981,0,12517,355492,10322,2993287,2993287,6688208,0,462554,13137336,50276]
["",{"$f":"+IF(L92=\"\",\"\",VLOOKUP(A92,'Quota Inf (2015)'!$B$9:$E$116,4,FALSE))","v":""},{"$f":"IF(S92=\"\",\"\",VLOOKUP(A92,'Quota Inf (2015)'!$B$9:$E$116,4,FALSE))","v":""},{"$f":"IF(OR(M92=\"\",M92=0),\"\",VLOOKUP(A92,'Quota Inf (2015)'!$B$9:$E$116,4,FALSE))","v":""},{"$f":"IF(OR(T92=\"\",T92=0),\"\",VLOOKUP(A92,'Quota Inf (2015)'!$B$9:$E$116,4,FALSE))","v":""},"344 - AIG EUROPE S.A."]
["",{"$f":"+IF(L93=\"\",\"\",VLOOKUP(A93,'Quota Inf (2015)'!$B$9:$E$116,4,FALSE))","v":""},{"$f":"IF(S93=\"\",\"\",VLOOKUP(A93,'Quota Inf (2015)'!$B$9:$E$116,4,FALSE))","v":""},{"$f":"IF(OR(M93=\"\",M93=0),\"\",VLOOKUP(A93,'Quota Inf (2015)'!$B$9:$E$116,4,FALSE))","v":""},{"$f":"IF(OR(T93=\"\",T93=0),\"\",VLOOKUP(A93,'Quota Inf (2015)'!$B$9:$E$116,4,FALSE))","v":""},"344 - CHARTIS EUROPE S.A."]
["AVIVA ITALIA",null,null,null,null,"352 - AVIVA ITALIA",1045520,1595857,114006,1360707,861961,4978051,264772.23842991644,188967,329711,48993,121624,677292,1366587,56930.761570083545]
["",{"$f":"+IF(L95=\"\",\"\",VLOOKUP(A95,'Quota Inf (2015)'!$B$9:$E$116,4,FALSE))","v":""},{"$f":"IF(S95=\"\",\"\",VLOOKUP(A95,'Quota Inf (2015)'!$B$9:$E$116,4,FALSE))","v":""},{"$f":"IF(OR(M95=\"\",M95=0),\"\",VLOOKUP(A95,'Quota Inf (2015)'!$B$9:$E$116,4,FALSE))","v":""},{"$f":"IF(OR(T95=\"\",T95=0),\"\",VLOOKUP(A95,'Quota Inf (2015)'!$B$9:$E$116,4,FALSE))","v":""},"378 - AVIVA ASSICURAZIONI"]
["ARCA ASSICURAZIONI",{"$f":"+IF(L96=\"\",\"\",VLOOKUP(A96,'Quota Inf (2015)'!$B$9:$E$116,4,FALSE))","v":0.56000000000000005},{"$f":"IF(S96=\"\",\"\",VLOOKUP(A96,'Quota Inf (2015)'!$B$9:$E$116,4,FALSE))","v":0.56000000000000005},{"$f":"IF(OR(M96=\"\",M96=0),\"\",VLOOKUP(A96,'Quota Inf (2015)'!$B$9:$E$116,4,FALSE))","v":0.56000000000000005},{"$f":"IF(OR(T96=\"\",T96=0),\"\",VLOOKUP(A96,'Quota Inf (2015)'!$B$9:$E$116,4,FALSE))","v":0.56000000000000005},"417 - ARCA ASSICURAZIONI",934855,1638189,99983,209866,1023277,3906170,174471,175610,175610,0,0,39024,390244,401899]
["INTESA SANPAOLO ASSICURA",null,null,null,null,"419 - INTESA SANPAOLO ASSICURA",535868,2449414,5830722,1626223,3974268,14416495,279135,0,0,0,0,0,0,0]
["CNP UNICREDIT VITA",{"$f":"+IF(L98=\"\",\"\",VLOOKUP(A98,'Quota Inf (2015)'!$B$9:$E$116,4,FALSE))","v":{"$error":"#N/A"}},{"$f":"IF(S98=\"\",\"\",VLOOKUP(A98,'Quota Inf (2015)'!$B$9:$E$116,4,FALSE))","v":{"$error":"#N/A"}},{"$f":"IF(OR(M98=\"\",M98=0),\"\",VLOOKUP(A98,'Quota Inf (2015)'!$B$9:$E$116,4,FALSE))","v":""},{"$f":"IF(OR(T98=\"\",T98=0),\"\",VLOOKUP(A98,'Quota Inf (2015)'!$B$9:$E$116,4,FALSE))","v":""},"426 - CNP UNICREDIT VITA",0,0,0,0,0,0,0,0,0,0,0,0,0,0]
["CREDEMASSICURAZIONI",null,null,null,null,"428 - CREDEMASSICURAZIONI",700670.02500002075,700670.02500002075,0,0,0,1401340.0500000415,27434,0,579741.94376926566,481688.29705615452,0,2466843,3528273.2408254202,6131]
["",{"$f":"+IF(L100=\"\",\"\",VLOOKUP(A100,'Quota Inf (2015)'!$B$9:$E$116,4,FALSE))","v":""},{"$f":"IF(S100=\"\",\"\",VLOOKUP(A100,'Quota Inf (2015)'!$B$9:$E$116,4,FALSE))","v":""},{"$f":"IF(OR(M100=\"\",M100=0),\"\",VLOOKUP(A100,'Quota Inf (2015)'!$B$9:$E$116,4,FALSE))","v":""},{"$f":"IF(OR(T100=\"\"),\"\",VLOOKUP(A100,'Quota Inf (2015)'!$B$9:$E$116,4,FALSE))","v":""},"431 - POSTE VITA"]
["POSTE VITA - Gruppo Assicurativo Poste Vita",{"$f":"+IF(L101=\"\",\"\",VLOOKUP(A101,'Quota Inf (2015)'!$B$9:$E$116,4,FALSE))","v":{"$error":"#N/A"}},null,{"$f":"IF(OR(M101=\"\",M101=0),\"\",VLOOKUP(A101,'Quota Inf (2015)'!$B$9:$E$116,4,FALSE))","v":""},{"$f":"IF(OR(T101=\"\",T101=0),\"\",VLOOKUP(A101,'Quota Inf (2015)'!$B$9:$E$116,4,FALSE))","v":""},"431 - POSTE VITA - Gruppo Assicurativo Poste Vita",0,0,0,0,0,0,0,0,0,0,0,0,0,0]
["DIRECT LINE INSURANCE",{"$f":"+IF(L102=\"\",\"\",VLOOKUP(A102,'Quota Inf (2015)'!$B$9:$E$116,4,FALSE))","v":1.06},{"$f":"IF(S102=\"\",\"\",VLOOKUP(A102,'Quota Inf (2015)'!$B$9:$E$116,4,FALSE))","v":1.06},{"$f":"IF(OR(M102=\"\",M102=0),\"\",VLOOKUP(A102,'Quota Inf (2015)'!$B$9:$E$116,4,FALSE))","v":1.06},{"$f":"IF(OR(T102=\"\",T102=0),\"\",VLOOKUP(A102,'Quota Inf (2015)'!$B$9:$E$116,4,FALSE))","v":""},"432 - DIRECT LINE INSURANCE",0,0,0,29684083.219999999,0,29684083.219999999,525739,0,0,0,0,0,0,0]
["AVIPOP ASSICURAZIONI",{"$f":"+IF(L103=\"\",\"\",VLOOKUP(A103,'Quota Inf (2015)'!$B$9:$E$116,4,FALSE))","v":0.31},{"$f":"IF(S103=\"\",\"\",VLOOKUP(A103,'Quota Inf (2015)'!$B$9:$E$116,4,FALSE))","v":0.31},{"$f":"IF(OR(M103=\"\",M103=0),\"\",VLOOKUP(A103,'Quota Inf (2015)'!$B$9:$E$116,4,FALSE))","v":0.31},{"$f":"IF(OR(T103=\"\",T103=0),\"\",VLOOKUP(A103,'Quota Inf (2015)'!$B$9:$E$116,4,FALSE))","v":""},"457 - AVIPOP ASSICURAZIONI",2648,2648,0,42835,2643814,2691945,139984.20055435598,0,0,0,0,0,0,0]
["CF ASSICURAZIONI",{"$f":"+IF(L104=\"\",\"\",VLOOKUP(A104,'Quota Inf (2015)'!$B$9:$E$116,4,FALSE))","v":0.1},{"$f":"IF(S104=\"\",\"\",VLOOKUP(A104,'Quota Inf (2015)'!$B$9:$E$116,4,FALSE))","v":0.1},{"$f":"IF(OR(M104=\"\",M104=0),\"\",VLOOKUP(A104,'Quota Inf (2015)'!$B$9:$E$116,4,FALSE))","v":0.1},{"$f":"IF(OR(T104=\"\",T104=0),\"\",VLOOKUP(A104,'Quota Inf (2015)'!$B$9:$E$116,4,FALSE))","v":0.1},"464 - CF ASSICURAZIONI",1415787,278075,64725,0,72323,1830910,6137,256801,98699,7696,0,409080,772276,8637]
["RBM SALUTE",{"$f":"+IF(L105=\"\",\"\",VLOOKUP(A105,'Quota Inf (2015)'!$B$9:$E$116,4,FALSE))","v":0.01},{"$f":"IF(S105=\"\",\"\",VLOOKUP(A105,'Quota Inf (2015)'!$B$9:$E$116,4,FALSE))","v":0.01},{"$f":"IF(OR(M105=\"\",M105=0),\"\",VLOOKUP(A105,'Quota Inf (2015)'!$B$9:$E$116,4,FALSE))","v":""},{"$f":"IF(OR(T105=\"\",T105=0),\"\",VLOOKUP(A105,'Quota Inf (2015)'!$B$9:$E$116,4,FALSE))","v":0.01},"468 - RBM SALUTE",0,0,0,0,0,0,0,0,0,0,0,8628,8628,660]
["",{"$f":"+IF(L106=\"\",\"\",VLOOKUP(A106,'Quota Inf (2015)'!$B$9:$E$116,4,FALSE))","v":""},{"$f":"IF(S106=\"\",\"\",VLOOKUP(A106,'Quota Inf (2015)'!$B$9:$E$116,4,FALSE))","v":""},{"$f":"IF(OR(M106=\"\",M106=0),\"\",VLOOKUP(A106,'Quota Inf (2015)'!$B$9:$E$116,4,FALSE))","v":""},{"$f":"IF(OR(T106=\"\",T106=0),\"\",VLOOKUP(A106,'Quota Inf (2015)'!$B$9:$E$116,4,FALSE))","v":""},"469 - ARISCOM COMPAGNIA DI ASSICURAZIONI"]
["",{"$f":"+IF(L107=\"\",\"\",VLOOKUP(A107,'Quota Inf (2015)'!$B$9:$E$116,4,FALSE))","v":""},{"$f":"IF(S107=\"\",\"\",VLOOKUP(A107,'Quota Inf (2015)'!$B$9:$E$116,4,FALSE))","v":""},{"$f":"IF(OR(M107=\"\",M107=0),\"\",VLOOKUP(A107,'Quota Inf (2015)'!$B$9:$E$116,4,FALSE))","v":""},{"$f":"IF(OR(T107=\"\",T107=0),\"\",VLOOKUP(A107,'Quota Inf (2015)'!$B$9:$E$116,4,FALSE))","v":""},"474 - NOBIS COMPAGNIA DI ASSICURAZIONI"]
["POSTE ASSICURA - Gruppo Assicurativo Poste Vita",{"$f":"+IF(L108=\"\",\"\",VLOOKUP(A108,'Quota Inf (2015)'!$B$9:$E$116,4,FALSE))","v":1.1399999999999999},{"$f":"IF(S108=\"\",\"\",VLOOKUP(A108,'Quota Inf (2015)'!$B$9:$E$116,4,FALSE))","v":1.1399999999999999},{"$f":"IF(OR(M108=\"\",M108=0),\"\",VLOOKUP(A108,'Quota Inf (2015)'!$B$9:$E$116,4,FALSE))","v":1.1399999999999999},{"$f":"IF(OR(T108=\"\",T108=0),\"\",VLOOKUP(A108,'Quota Inf (2015)'!$B$9:$E$116,4,FALSE))","v":1.1399999999999999},"480 - POSTE ASSICURA - Gruppo Assicurativo Poste Vita",435392,1280637,28155,0,866947,2611131,534002,55687,919179,163892,0,0,1138758,490445]
[null,null,null,null,null,"485 - QUADRA ASSICURAZIONI",21922.26,26841.73,16976.099999999999,0,13634.87,79374.959999999992,371,0,0,0,0,0,0,0]
[null,null,null,null,null,"618 - METLIFE EUROPE LIMITED",3174204,4761307,0,0,0,7935511,84533,2115590,3173385,0,0,0,5288975,4932]
[null,null,null,null,null,"853 - ACE EUROPEAN GROUP LTD",10711412.835408283,2415159.4993368573,2782409.2540230164,0,17645126.692293689,33554108.281061847,1981140.87452215,1038144.1726040286,1514212.6536800344,210734.42895911742,0,75261.983601237254,2838353.2388444175,320983.85099508805]
[null,null,null,null,null,"864 - ZURICH INSURANCE PLC",615008,2091053,261780,3328262,1242824,7538927,0,1571321,2376956,100509,13318,2695006,6757110,0]
[null,null,null,null,null,"Totale complessivo",39068982.905260138,67127746.238885462,16159701.820272483,90118603.59471415,54931049.974601142,267406084.5337334,13936924.091588568,21680149.919587333,30132352.249895222,13820795.327035116,514162.87469738052,14695109.491734255,80842569.862949312,2734304.6125651714]

{"sheet":"pivot-MAL2015","index":47,"n_rows":113,"n_cols":20,"rows_kept":113,"cut":false,"hidden":true,"merged":[[1,6,1,11],[1,12,1,17],[58,6,58,12],[58,13,58,19]]}
[null,null,null,null,null,"MAL2","Giugno 2015"]
[null,{"$f":"SUM(B5:B52)","v":{"$error":"#N/A"}},{"$f":"SUM(C5:C52)","v":{"$error":"#N/A"}},null,null,"PREMI CONTABILIZZATI - MALATTIA","INDIVIDUALI",null,null,null,null,null,"COLLETTIVE"]
[null,null,null,null,null,null,"Dati"]
[null,"premi ind","premi coll",null,null,"MAL1","Somma di MAL_SM","Somma di MAL_IP","Somma di MAL_DI","Somma di MAL_LTC","Somma di MAL_AL","Somma di MAL_TOT","Somma di MALCOL_SM","Somma di MALC_IP","Somma di MALC_DI","Somma di MALC_LTC","Somma di MALC_AL","Somma di MALC_TOT"]
[{"$f":"IF(AND(L5=\"\",R5=\"\"),\"\",(MID(F5,7,50)))","v":"ALLIANZ S.P.A."},{"$f":"+IF(L5=\"\",\"\",VLOOKUP(A5,'Quota Mal (2014)'!$B$9:$E$116,4,FALSE))","v":7.71},{"$f":"IF(R5=\"\",\"\",VLOOKUP(A5,'Quota Mal (2014)'!$B$9:$E$116,4,FALSE))","v":7.71},null,1,"003 - ALLIANZ S.P.A.",12653203.626253568,4931324.8896575086,8404268.6089944057,0,7855787.4750949116,33844584.600000396,1200691.9883015554,729473.15499489405,937015.30892902147,0,651436.62777453719,3518617.080000008,"PREMI ANNUI IMPONIBILI. La distinzione fra Linea Persone e linea SMC è la loro migliore proxy disponibile al momento fra individuali e collettive. Non hanno il datto della nuova produzione vita."]
[{"$f":"IF(AND(L6=\"\",R6=\"\"),\"\",(MID(F6,7,50)))","v":"GENERALI ITALIA"},{"$f":"+IF(L6=\"\",\"\",VLOOKUP(A6,'Quota Mal (2015)'!$B$9:$E$116,4,FALSE))","v":20.100000000000001},null,null,2,"005 - GENERALI ITALIA",53007063,1819771,9755787,0,3600126,68182747,0,0,0,0,0,0,"STIMA per le polizze individuali hanno ripartito i PLC  per garanzia in base alla percentuale rilevata in portafoglio per le medesime garanzie, non hanno dati sullle collettive e sul numero di polizze"]
["",{"$f":"+IF(L7=\"\",\"\",VLOOKUP(A7,'Quota Mal (2015)'!$B$9:$E$116,4,FALSE))","v":""},{"$f":"IF(R7=\"\",\"\",VLOOKUP(A7,'Quota Mal (2015)'!$B$9:$E$116,4,FALSE))","v":""},null,3,"007 - COMPAGNIA DI ASS. DI MILANO"]
["",{"$f":"+IF(L8=\"\",\"\",VLOOKUP(A8,'Quota Mal (2015)'!$B$9:$E$116,4,FALSE))","v":""},{"$f":"IF(R8=\"\",\"\",VLOOKUP(A8,'Quota Mal (2015)'!$B$9:$E$116,4,FALSE))","v":""},null,4,"014 - AXA ASSICURAZIONI"]
["HELVETIA SA",{"$f":"+IF(L9=\"\",\"\",VLOOKUP(A9,'Quota Mal (2015)'!$B$9:$E$116,4,FALSE))","v":0.23},{"$f":"IF(R9=\"\",\"\",VLOOKUP(A9,'Quota Mal (2015)'!$B$9:$E$116,4,FALSE))","v":0.23},null,5,"019 - HELVETIA SA",305140.3382,337611.95730000001,582316.6165,0,623426.30810000002,1848495.2201,607776.02220000001,119803.57429999999,147059.84570000001,0,72569.847800000003,947209.28999999992]
["ITAS MUTUA",{"$f":"+IF(L10=\"\",\"\",VLOOKUP(A10,'Quota Mal (2015)'!$B$9:$E$116,4,FALSE))","v":0.48},{"$f":"IF(R10=\"\",\"\",VLOOKUP(A10,'Quota Mal (2015)'!$B$9:$E$116,4,FALSE))","v":0.48},null,6,"022 - ITAS MUTUA",657606.57167436264,748699.58686815808,1658534.4680927682,0,2039469.9847800424,5104310.6114153313,0,0,15004.193672342886,0,11071.234912326065,26075.428584668953]
["ITALIANA ASSICURAZIONI",{"$f":"+IF(L11=\"\",\"\",VLOOKUP(A11,'Quota Mal (2015)'!$B$9:$E$116,4,FALSE))","v":0.76},{"$f":"IF(R11=\"\",\"\",VLOOKUP(A11,'Quota Mal (2015)'!$B$9:$E$116,4,FALSE))","v":0.76},null,7,"023 - ITALIANA ASSICURAZIONI",2736674.7343092468,1040178.7546329101,1394552.8470162221,117627.82932127109,194986.25436913213,5484020.4196487824,2303127.2447954617,31496.624096022253,212.36145973357273,0,0,2334836.2303512176]
["SARA ASSICURAZIONI",{"$f":"+IF(L12=\"\",\"\",VLOOKUP(A12,'Quota Mal (2015)'!$B$9:$E$116,4,FALSE))","v":0.33},{"$f":"IF(R12=\"\",\"\",VLOOKUP(A12,'Quota Mal (2015)'!$B$9:$E$116,4,FALSE))","v":0.33},null,8,"032 - SARA ASSICURAZIONI",847285,214397,537540,0,802232,2401454,814859,461,3261,0,0,818581]
["",{"$f":"+IF(L13=\"\",\"\",VLOOKUP(A13,'Quota Mal (2015)'!$B$9:$E$116,4,FALSE))","v":""},{"$f":"IF(R13=\"\",\"\",VLOOKUP(A13,'Quota Mal (2015)'!$B$9:$E$116,4,FALSE))","v":""},null,9,"034 - FONDIARIA - SAI"]
["UNIPOLSAI ASSICURAZIONI",{"$f":"+IF(L14=\"\",\"\",VLOOKUP(A14,'Quota Mal (2015)'!$B$9:$E$116,4,FALSE))","v":9.9499999999999993},{"$f":"IF(R14=\"\",\"\",VLOOKUP(A14,'Quota Mal (2015)'!$B$9:$E$116,4,FALSE))","v":9.9499999999999993},null,10,"034 - UNIPOLSAI ASSICURAZIONI",47304328,2728170,6230225,0,4107633,60370356,48332092,2263581,904520,0,1712565,53212758]
["SOCIETA' REALE MUTUA",{"$f":"+IF(L15=\"\",\"\",VLOOKUP(A15,'Quota Mal (2015)'!$B$9:$E$116,4,FALSE))","v":3.94},{"$f":"IF(R15=\"\",\"\",VLOOKUP(A15,'Quota Mal (2015)'!$B$9:$E$116,4,FALSE))","v":3.94},null,11,"035 - SOCIETA' REALE MUTUA",9941627.85396,2824545.9174799998,2261458.80412,71979.460000000006,213210.33444000001,15312822.370000001,10910655.578663029,143453.88912188361,305547.75575634534,1444879.7589694862,1652723.5874892571,14457260.57]
["VITTORIA ASSICURAZIONI",{"$f":"+IF(L16=\"\",\"\",VLOOKUP(A16,'Quota Mal (2015)'!$B$9:$E$116,4,FALSE))","v":0.54},{"$f":"IF(R16=\"\",\"\",VLOOKUP(A16,'Quota Mal (2015)'!$B$9:$E$116,4,FALSE))","v":0.54},null,12,"038 - VITTORIA ASSICURAZIONI",2517042,327409,1429284,0,52789,4326524,307110,95228,166624,0,6162,575124]
["ASSICURAZIONI RISCHI AGRICOLI VMG 1857",{"$f":"+IF(L17=\"\",\"\",VLOOKUP(A17,'Quota Mal (2015)'!$B$9:$E$116,4,FALSE))","v":0},{"$f":"IF(R17=\"\",\"\",VLOOKUP(A17,'Quota Mal (2015)'!$B$9:$E$116,4,FALSE))","v":0},null,13,"045 - ASSICURAZIONI RISCHI AGRICOLI VMG 1857",976,0,0,0,0,976,0,0,0,0,0,0,"ok, non emettono polizze collettive"]
["SUN INSURANCE OFFICE LIMITED RSA",{"$f":"+IF(L18=\"\",\"\",VLOOKUP(A18,'Quota Mal (2015)'!$B$9:$E$116,4,FALSE))","v":0.05},{"$f":"IF(R18=\"\",\"\",VLOOKUP(A18,'Quota Mal (2015)'!$B$9:$E$116,4,FALSE))","v":0.05},null,14,"080 - SUN INSURANCE OFFICE LIMITED RSA",-10374.110000000006,97637.439999999973,233874.40999999933,0,37547,358684.73999999929,194314.63,66195.53,1765.41,0,0,262275.57]
["",{"$f":"+IF(L19=\"\",\"\",VLOOKUP(A19,'Quota Mal (2015)'!$B$9:$E$116,4,FALSE))","v":""},{"$f":"IF(R19=\"\",\"\",VLOOKUP(A19,'Quota Mal (2015)'!$B$9:$E$116,4,FALSE))","v":""},null,15,"082 - UNIPOL ASSICURAZIONI",null,null,null,null,null,null,null,null,null,null,null,null,"oggi 30/03/2016 Puccioni mi ha detto che ha solo il numero delle polizze collettive e non il numero delle teste"]
["CARIGE R.D. ASSICURAZIONI E RIASSICURAZIONI",{"$f":"+IF(L20=\"\",\"\",VLOOKUP(A20,'Quota Mal (2015)'!$B$9:$E$116,4,FALSE))","v":0.19},null,null,16,"086 - CARIGE R.D. ASSICURAZIONI E RIASSICURAZIONI",615699.79728212242,333070.6997769032,554867.85353302455,0,49635.871925328225,1553274.2225173784,0,0,0,0,0,0]
["HDI ASSICURAZIONI",{"$f":"+IF(L21=\"\",\"\",VLOOKUP(A21,'Quota Mal (2015)'!$B$9:$E$116,4,FALSE))","v":0.1},{"$f":"IF(R21=\"\",\"\",VLOOKUP(A21,'Quota Mal (2015)'!$B$9:$E$116,4,FALSE))","v":0.1},null,17,"133 - HDI ASSICURAZIONI",278615,121063,151828,0,0,551506,453979,32815,46263,0,0,533057]
["GENIALLOYD",{"$f":"+IF(L22=\"\",\"\",VLOOKUP(A22,'Quota Mal (2015)'!$B$9:$E$116,4,FALSE))","v":0},{"$f":"IF(R22=\"\",\"\",VLOOKUP(A22,'Quota Mal (2015)'!$B$9:$E$116,4,FALSE))","v":0},null,18,"139 - GENIALLOYD",0,0,0,0,0,0,0,0,0,0,0,0,"ok, non emettono polizze collettive"]
["GROUPAMA ASSICURAZIONI",{"$f":"+IF(L23=\"\",\"\",VLOOKUP(A23,'Quota Mal (2015)'!$B$9:$E$116,4,FALSE))","v":0.89},{"$f":"IF(R23=\"\",\"\",VLOOKUP(A23,'Quota Mal (2015)'!$B$9:$E$116,4,FALSE))","v":0.89},null,19,"151 - GROUPAMA ASSICURAZIONI",5321707,952578,1914564,0,414183,8603032,1278780,146559,61903,0,-59628,1427614]
["NATIONALE SUISSE",{"$f":"+IF(L24=\"\",\"\",VLOOKUP(A24,'Quota Mal (2015)'!$B$9:$E$116,4,FALSE))","v":0.03},{"$f":"IF(R24=\"\",\"\",VLOOKUP(A24,'Quota Mal (2015)'!$B$9:$E$116,4,FALSE))","v":0.03},null,20,"208 - NATIONALE SUISSE",131789,8354,44967,0,5040,190150,78510,32480,110643,0,404,222037]
["",{"$f":"+IF(L25=\"\",\"\",VLOOKUP(A25,'Quota Mal (2015)'!$B$9:$E$116,4,FALSE))","v":""},{"$f":"IF(R25=\"\",\"\",VLOOKUP(A25,'Quota Mal (2015)'!$B$9:$E$116,4,FALSE))","v":""},null,21,"225 - ISI INSURANCE Compagnia di Assicurazioni"]
["AXA MPS ASSICURAZIONI DANNI",{"$f":"+IF(L26=\"\",\"\",VLOOKUP(A26,'Quota Mal (2015)'!$B$9:$E$116,4,FALSE))","v":0.52},{"$f":"IF(R26=\"\",\"\",VLOOKUP(A26,'Quota Mal (2015)'!$B$9:$E$116,4,FALSE))","v":0.52},null,22,"243 - AXA MPS ASSICURAZIONI DANNI",1016732.86,1005742.04,1350385.43,0,174410.84,3547271.17,21507.4,2434825.5699999998,0,0,53404.93,2509737.9]
["GENERTEL",{"$f":"+IF(L27=\"\",\"\",VLOOKUP(A27,'Quota Mal (2015)'!$B$9:$E$116,4,FALSE))","v":0.11},{"$f":"IF(R27=\"\",\"\",VLOOKUP(A27,'Quota Mal (2015)'!$B$9:$E$116,4,FALSE))","v":0.11},null,23,"247 - GENERTEL",29282,11681,3649,0,714,45326,0,862252,0,0,327068,1189320]
["ASSIMOCO",{"$f":"+IF(L28=\"\",\"\",VLOOKUP(A28,'Quota Mal (2015)'!$B$9:$E$116,4,FALSE))","v":0.47},{"$f":"IF(R28=\"\",\"\",VLOOKUP(A28,'Quota Mal (2015)'!$B$9:$E$116,4,FALSE))","v":0.47},null,24,"254 - ASSIMOCO",3111167,381994,602878,0,557,4096596,2933404,0,0,0,0,2933404]
["",{"$f":"+IF(L29=\"\",\"\",VLOOKUP(A29,'Quota Mal (2015)'!$B$9:$E$116,4,FALSE))","v":""},{"$f":"IF(R29=\"\",\"\",VLOOKUP(A29,'Quota Mal (2015)'!$B$9:$E$116,4,FALSE))","v":""},null,25,"292 - HELVETIA ITALIA ASSICURAZIONI"]
["ERGO ASSICURAZIONI",{"$f":"+IF(L30=\"\",\"\",VLOOKUP(A30,'Quota Mal (2015)'!$B$9:$E$116,4,FALSE))","v":0.11},{"$f":"IF(R30=\"\",\"\",VLOOKUP(A30,'Quota Mal (2015)'!$B$9:$E$116,4,FALSE))","v":0.11},null,26,"293 - ERGO ASSICURAZIONI",243698,179290,590378,0,17714,1031080,244877,0,0,0,0,244877]
["CARGEAS ASSICURAZIONI",{"$f":"+IF(L31=\"\",\"\",VLOOKUP(A31,'Quota Mal (2015)'!$B$9:$E$116,4,FALSE))","v":2.04},{"$f":"IF(R31=\"\",\"\",VLOOKUP(A31,'Quota Mal (2015)'!$B$9:$E$116,4,FALSE))","v":2.04},null,27,"304 - CARGEAS ASSICURAZIONI",2102958,2336596,1212586,0,165988,5818128,1788434,13254890,311559,0,8888,15363771]
["",{"$f":"+IF(L32=\"\",\"\",VLOOKUP(A32,'Quota Mal (2015)'!$B$9:$E$116,4,FALSE))","v":""},{"$f":"IF(R32=\"\",\"\",VLOOKUP(A32,'Quota Mal (2015)'!$B$9:$E$116,4,FALSE))","v":""},null,28,"304 - UBI ASSICURAZIONI"]
["UNISALUTE",{"$f":"+IF(L33=\"\",\"\",VLOOKUP(A33,'Quota Mal (2015)'!$B$9:$E$116,4,FALSE))","v":12.44},{"$f":"IF(R33=\"\",\"\",VLOOKUP(A33,'Quota Mal (2015)'!$B$9:$E$116,4,FALSE))","v":12.44},null,29,"342 - UNISALUTE",11868168,2614,714966,481000,3921,13070669,142959100,916824,14096173,4354915,1685452,164012464,"oggi 14/04/2016 Bontade conferma la nuova produzione vita malattia del 2015."]
["AIG EUROPE LIMITED",{"$f":"+IF(L34=\"\",\"\",VLOOKUP(A34,'Quota Mal (2015)'!$B$9:$E$116,4,FALSE))","v":0.31},{"$f":"IF(R34=\"\",\"\",VLOOKUP(A34,'Quota Mal (2015)'!$B$9:$E$116,4,FALSE))","v":0.31},null,30,"344 - AIG EUROPE LIMITED",113773,76381,0,374866,75883,640903,773795,519483,0,2549538,516095,4358911]
["",{"$f":"+IF(L35=\"\",\"\",VLOOKUP(A35,'Quota Mal (2015)'!$B$9:$E$116,4,FALSE))","v":""},{"$f":"IF(R35=\"\",\"\",VLOOKUP(A35,'Quota Mal (2015)'!$B$9:$E$116,4,FALSE))","v":""},null,31,"344 - AIG EUROPE S.A."]
["",{"$f":"+IF(L36=\"\",\"\",VLOOKUP(A36,'Quota Mal (2015)'!$B$9:$E$116,4,FALSE))","v":""},{"$f":"IF(R36=\"\",\"\",VLOOKUP(A36,'Quota Mal (2015)'!$B$9:$E$116,4,FALSE))","v":""},null,32,"344 - CHARTIS EUROPE S.A."]
["AVIVA ITALIA",null,null,null,33,"352 - AVIVA ITALIA",743530,448801,255055,0,-419,1446967,2062796,760849,120614,0,1346135,4290394]
["",{"$f":"+IF(L38=\"\",\"\",VLOOKUP(A38,'Quota Mal (2015)'!$B$9:$E$116,4,FALSE))","v":""},{"$f":"IF(R38=\"\",\"\",VLOOKUP(A38,'Quota Mal (2015)'!$B$9:$E$116,4,FALSE))","v":""},null,34,"378 - AVIVA ASSICURAZIONI"]
["ARCA ASSICURAZIONI",{"$f":"+IF(L39=\"\",\"\",VLOOKUP(A39,'Quota Mal (2015)'!$B$9:$E$116,4,FALSE))","v":0.54},{"$f":"IF(R39=\"\",\"\",VLOOKUP(A39,'Quota Mal (2015)'!$B$9:$E$116,4,FALSE))","v":0.54},null,35,"417 - ARCA ASSICURAZIONI",2359854,341550,459391,0,3995004,7155799,131798,0,52,0,-183,131667]
["INTESA SANPAOLO ASSICURA",null,null,null,36,"419 - INTESA SANPAOLO ASSICURA",4362405.4283792488,9724371.7323062532,117858.81488764391,0,3403537.5543310069,17608173.529904153,636171.25763266371,0,6343.8587523252172,0,25329.353710857828,667844.47009584669]
["CNP UNICREDIT VITA",{"$f":"+IF(L41=\"\",\"\",VLOOKUP(A41,'Quota Mal (2015)'!$B$9:$E$116,4,FALSE))","v":{"$error":"#N/A"}},{"$f":"IF(R41=\"\",\"\",VLOOKUP(A41,'Quota Mal (2015)'!$B$9:$E$116,4,FALSE))","v":{"$error":"#N/A"}},null,37,"426 - CNP UNICREDIT VITA",0,0,0,0,0,0,0,0,0,0,0,0,"Schiarea mi ha mandato e-mail, non hanno distribuzione per le polizze individuali, dice che per INFORTUNI si potrebbero dividere i premi tra MR e IP (50 e 50), mentre per MALATTIA tra IP e DIARIA (75 e 25)"]
["CREDEMASSICURAZIONI",{"$f":"+IF(L42=\"\",\"\",VLOOKUP(A42,'Quota Mal (2015)'!$B$9:$E$116,4,FALSE))","v":0.35},{"$f":"IF(R42=\"\",\"\",VLOOKUP(A42,'Quota Mal (2015)'!$B$9:$E$116,4,FALSE))","v":0.35},null,38,"428 - CREDEMASSICURAZIONI",85590.919999999882,594471,198157,0,0,878218.91999999993,0,1616691.4600000393,255268.41999999995,0,151978.51,2023938.3900000392]
["",null,null,null,39,"431 - POSTE VITA"]
["POSTE VITA - Gruppo Assicurativo Poste Vita",{"$f":"+IF(L44=\"\",\"\",VLOOKUP(A44,'Quota Mal (2015)'!$B$9:$E$116,4,FALSE))","v":0},{"$f":"IF(R44=\"\",\"\",VLOOKUP(A44,'Quota Mal (2015)'!$B$9:$E$116,4,FALSE))","v":0},null,40,"431 - POSTE VITA - Gruppo Assicurativo Poste Vita",0,0,0,0,0,0,0,54661,0,0,0,54661]
["DIRECT LINE INSURANCE",{"$f":"+IF(L45=\"\",\"\",VLOOKUP(A45,'Quota Mal (2015)'!$B$9:$E$116,4,FALSE))","v":{"$error":"#N/A"}},{"$f":"IF(R45=\"\",\"\",VLOOKUP(A45,'Quota Mal (2015)'!$B$9:$E$116,4,FALSE))","v":{"$error":"#N/A"}},null,41,"432 - DIRECT LINE INSURANCE",0,0,0,0,0,0,0,0,0,0,0,0]
["AVIPOP ASSICURAZIONI",{"$f":"+IF(L46=\"\",\"\",VLOOKUP(A46,'Quota Mal (2015)'!$B$9:$E$116,4,FALSE))","v":0.81},{"$f":"IF(R46=\"\",\"\",VLOOKUP(A46,'Quota Mal (2015)'!$B$9:$E$116,4,FALSE))","v":0.81},null,42,"457 - AVIPOP ASSICURAZIONI",369645,0,2504109,0,245216,3118970,0,0,0,0,0,0]
["CF ASSICURAZIONI",{"$f":"+IF(L47=\"\",\"\",VLOOKUP(A47,'Quota Mal (2015)'!$B$9:$E$116,4,FALSE))","v":0.05},{"$f":"IF(R47=\"\",\"\",VLOOKUP(A47,'Quota Mal (2015)'!$B$9:$E$116,4,FALSE))","v":0.05},null,43,"464 - CF ASSICURAZIONI",196311,334886,31064,8898,59753,630912,5375,0,0,0,2112,7487,"oggi 31/03/2016 bovi stefano ha mandato email in cui comunica che almeno per quest'anno sono impossibilitati a inviare dati in quanto hanno cambiato sistema informativo"]
["RBM SALUTE",{"$f":"+IF(L48=\"\",\"\",VLOOKUP(A48,'Quota Mal (2015)'!$B$9:$E$116,4,FALSE))","v":13.98},{"$f":"IF(R48=\"\",\"\",VLOOKUP(A48,'Quota Mal (2015)'!$B$9:$E$116,4,FALSE))","v":13.98},null,44,"468 - RBM SALUTE",575628,0,23744,0,0,599372,144595819,55169,4365771,453469,0,149470228]
["",{"$f":"+IF(L49=\"\",\"\",VLOOKUP(A49,'Quota Mal (2015)'!$B$9:$E$116,4,FALSE))","v":""},{"$f":"IF(R49=\"\",\"\",VLOOKUP(A49,'Quota Mal (2015)'!$B$9:$E$116,4,FALSE))","v":""},null,45,"469 - ARISCOM COMPAGNIA DI ASSICURAZIONI"]
["",{"$f":"+IF(L50=\"\",\"\",VLOOKUP(A50,'Quota Mal (2015)'!$B$9:$E$116,4,FALSE))","v":""},{"$f":"IF(R50=\"\",\"\",VLOOKUP(A50,'Quota Mal (2015)'!$B$9:$E$116,4,FALSE))","v":""},null,46,"474 - NOBIS COMPAGNIA DI ASSICURAZIONI"]
["POSTE ASSICURA - Gruppo Assicurativo Poste Vita",{"$f":"+IF(L51=\"\",\"\",VLOOKUP(A51,'Quota Mal (2015)'!$B$9:$E$116,4,FALSE))","v":0.32},{"$f":"IF(R51=\"\",\"\",VLOOKUP(A51,'Quota Mal (2015)'!$B$9:$E$116,4,FALSE))","v":0.32},null,47,"480 - POSTE ASSICURA - Gruppo Assicurativo Poste Vita",1402509,33972,1485933,0,26571,2948985,0,885306,0,0,90757,976063]
["QUADRA ASSICURAZIONI",null,null,null,null,"485 - QUADRA ASSICURAZIONI",3.45,687.24,63.66,0,0,754.35,0,0,0,0,0,0]
[null,null,null,null,null,"618 - METLIFE EUROPE LIMITED",24061,0,1266,0,0,25327,5628902,0,296258,0,0,5925160]
[null,null,null,null,null,"853 - ACE EUROPEAN GROUP LTD"]
[null,null,null,null,null,"864 - ZURICH INSURANCE PLC",2283514,1541975,887556,0,717854,5430899,10257714,751993,921909,0,729327,12660943]
[null,null,null,null,null,"Totale complessivo",167197214.47005853,33499823.258021731,45593108.513144068,1054371.2893212712,28882770.623040423,276227288.15358603,378521588.12159276,25774490.802512839,23073767.15426977,8802801.7589694858,8983668.0916869789,445156315.92903179]
[]
[null,null,null,null,null,"MAL2","Giugno 2015"]
[null,{"$f":"SUM(B62:B109)","v":{"$error":"#N/A"}},{"$f":"SUM(C62:C109)","v":{"$error":"#N/A"}},{"$f":"SUM(D62:D109)","v":65.28000000000003},{"$f":"SUM(E62:E109)","v":28.3},"NUOVA PRODUZIONE - MALATTIA","INDIVIDUALI",null,null,null,null,null,null,"COLLETTIVE"]
[null,null,null,null,null,null,"Dati"]
[null,"pre ind","pre coll","pol ind","pol coll","MAL1","Somma di MALNP_SM","Somma di MALNP_IP","Somma di MALNP_DI","Somma di MALNP_LTC","Somma di MALNP_AL","Somma di MALNP_TOT","Somma di MALNUM_POL","Somma di MALCNP_SM","Somma di MALCNP_IP","Somma di MALCNP_DI","Somma di MALCNP_LTC","Somma di MALCNP_AL","Somma di MALCNP_TOT","Somma di MALCNUM_POL"]
[{"$f":"IF(AND(L62=\"\",R62=\"\"),\"\",(MID(F62,7,50)))","v":"ALLIANZ S.P.A."},null,null,{"$f":"IF(OR(M62=\"\",M62=0),\"\",VLOOKUP(A62,'Quota Mal (2014)'!$B$9:$E$113,4,FALSE))","v":""},{"$f":"IF(OR(T62=\"\",T62=0),\"\",VLOOKUP(A62,'Quota Mal (2014)'!$B$9:$E$113,4,FALSE))","v":""},"003 - ALLIANZ S.P.A.",0,0,0,0,0,0,0,0,0,0,0,0,0,0]
[{"$f":"IF(AND(L63=\"\",R63=\"\"),\"\",(MID(F63,7,50)))","v":"GENERALI ITALIA"},{"$f":"+IF(L63=\"\",\"\",VLOOKUP(A63,'Quota Mal (2015)'!$B$9:$E$113,4,FALSE))","v":20.100000000000001},null,{"$f":"IF(OR(M63=\"\",M63=0),\"\",VLOOKUP(A63,'Quota Mal (2014)'!$B$9:$E$113,4,FALSE))","v":20.54},{"$f":"IF(OR(T63=\"\",T63=0),\"\",VLOOKUP(A63,'Quota Mal (2014)'!$B$9:$E$113,4,FALSE))","v":""},"005 - GENERALI ITALIA",3775761,194554,454310,0,255220,4679845,128443,0,0,0,0,0,0,0]
["",{"$f":"+IF(L64=\"\",\"\",VLOOKUP(A64,'Quota Mal (2015)'!$B$9:$E$113,4,FALSE))","v":""},{"$f":"IF(S64=\"\",\"\",VLOOKUP(A64,'Quota Mal (2015)'!$B$9:$E$113,4,FALSE))","v":""},{"$f":"IF(OR(M64=\"\",M64=0),\"\",VLOOKUP(A64,'Quota Mal (2014)'!$B$9:$E$113,4,FALSE))","v":""},{"$f":"IF(OR(T64=\"\",T64=0),\"\",VLOOKUP(A64,'Quota Mal (2014)'!$B$9:$E$113,4,FALSE))","v":""},"007 - COMPAGNIA DI ASS. DI MILANO"]
["",{"$f":"+IF(L65=\"\",\"\",VLOOKUP(A65,'Quota Mal (2015)'!$B$9:$E$113,4,FALSE))","v":""},{"$f":"IF(S65=\"\",\"\",VLOOKUP(A65,'Quota Mal (2015)'!$B$9:$E$113,4,FALSE))","v":""},{"$f":"IF(OR(M65=\"\",M65=0),\"\",VLOOKUP(A65,'Quota Mal (2014)'!$B$9:$E$113,4,FALSE))","v":""},{"$f":"IF(OR(T65=\"\",T65=0),\"\",VLOOKUP(A65,'Quota Mal (2014)'!$B$9:$E$113,4,FALSE))","v":""},"014 - AXA ASSICURAZIONI"]
["HELVETIA SA",{"$f":"+IF(L66=\"\",\"\",VLOOKUP(A66,'Quota Mal (2015)'!$B$9:$E$113,4,FALSE))","v":0.23},{"$f":"IF(S66=\"\",\"\",VLOOKUP(A66,'Quota Mal (2015)'!$B$9:$E$113,4,FALSE))","v":0.23},{"$f":"IF(OR(M66=\"\",M66=0),\"\",VLOOKUP(A66,'Quota Mal (2014)'!$B$9:$E$113,4,FALSE))","v":0.24},{"$f":"IF(OR(T66=\"\",T66=0),\"\",VLOOKUP(A66,'Quota Mal (2014)'!$B$9:$E$113,4,FALSE))","v":0.24},"019 - HELVETIA SA",6926.81,24725.973099999999,20024.886900000001,0,2563.02,54240.689999999995,6401,48640.810100000002,13779.8187,6467.0513000000001,0,7201.7599,76089.440000000017,2850]
["ITAS MUTUA",{"$f":"+IF(L67=\"\",\"\",VLOOKUP(A67,'Quota Mal (2015)'!$B$9:$E$113,4,FALSE))","v":0.48},{"$f":"IF(S67=\"\",\"\",VLOOKUP(A67,'Quota Mal (2015)'!$B$9:$E$113,4,FALSE))","v":0.48},{"$f":"IF(OR(M67=\"\",M67=0),\"\",VLOOKUP(A67,'Quota Mal (2014)'!$B$9:$E$113,4,FALSE))","v":0.45},{"$f":"IF(OR(T67=\"\",T67=0),\"\",VLOOKUP(A67,'Quota Mal (2014)'!$B$9:$E$113,4,FALSE))","v":""},"022 - ITAS MUTUA",44226.789054604975,92309.089765969286,128606.82572434819,0,127575.46689896187,392718.17144388432,16291,0,0,1831.5888644494967,0,0,1831.5888644494967,0]
["ITALIANA ASSICURAZIONI",{"$f":"+IF(L68=\"\",\"\",VLOOKUP(A68,'Quota Mal (2015)'!$B$9:$E$113,4,FALSE))","v":0.76},{"$f":"IF(S68=\"\",\"\",VLOOKUP(A68,'Quota Mal (2015)'!$B$9:$E$113,4,FALSE))","v":0.76},{"$f":"IF(OR(M68=\"\",M68=0),\"\",VLOOKUP(A68,'Quota Mal (2014)'!$B$9:$E$113,4,FALSE))","v":0.76},{"$f":"IF(OR(T68=\"\",T68=0),\"\",VLOOKUP(A68,'Quota Mal (2014)'!$B$9:$E$113,4,FALSE))","v":""},"023 - ITALIANA ASSICURAZIONI",240900.79,145481.22200000001,94389.893460000007,35219.4,7838.7345400000004,523830.04,14450,0,1857.31,0,0,0,1857.31,0]
["SARA ASSICURAZIONI",{"$f":"+IF(L69=\"\",\"\",VLOOKUP(A69,'Quota Mal (2015)'!$B$9:$E$113,4,FALSE))","v":0.33},{"$f":"IF(S69=\"\",\"\",VLOOKUP(A69,'Quota Mal (2015)'!$B$9:$E$113,4,FALSE))","v":0.33},{"$f":"IF(OR(M69=\"\",M69=0),\"\",VLOOKUP(A69,'Quota Mal (2014)'!$B$9:$E$113,4,FALSE))","v":0.32},{"$f":"IF(OR(T69=\"\",T69=0),\"\",VLOOKUP(A69,'Quota Mal (2014)'!$B$9:$E$113,4,FALSE))","v":0.32},"032 - SARA ASSICURAZIONI",67950,27239,33235,0,68060,196484,9749,9892,0,609,0,0,10501,924]
["",{"$f":"+IF(L70=\"\",\"\",VLOOKUP(A70,'Quota Mal (2015)'!$B$9:$E$113,4,FALSE))","v":""},{"$f":"IF(S70=\"\",\"\",VLOOKUP(A70,'Quota Mal (2015)'!$B$9:$E$113,4,FALSE))","v":""},{"$f":"IF(OR(M70=\"\",M70=0),\"\",VLOOKUP(A70,'Quota Mal (2014)'!$B$9:$E$113,4,FALSE))","v":""},{"$f":"IF(OR(T70=\"\",T70=0),\"\",VLOOKUP(A70,'Quota Mal (2014)'!$B$9:$E$113,4,FALSE))","v":""},"034 - FONDIARIA - SAI"]
["UNIPOLSAI ASSICURAZIONI",{"$f":"+IF(L71=\"\",\"\",VLOOKUP(A71,'Quota Mal (2015)'!$B$9:$E$113,4,FALSE))","v":9.9499999999999993},{"$f":"IF(S71=\"\",\"\",VLOOKUP(A71,'Quota Mal (2015)'!$B$9:$E$113,4,FALSE))","v":9.9499999999999993},{"$f":"IF(OR(M71=\"\",M71=0),\"\",VLOOKUP(A71,'Quota Mal (2014)'!$B$9:$E$113,4,FALSE))","v":10.78},{"$f":"IF(OR(T71=\"\",T71=0),\"\",VLOOKUP(A71,'Quota Mal (2014)'!$B$9:$E$113,4,FALSE))","v":""},"034 - UNIPOLSAI ASSICURAZIONI",2495951,340542,650274,0,122135,3608902,125938,1261989,578,16493,0,14763,1293823,0]
["SOCIETA' REALE MUTUA",{"$f":"+IF(L72=\"\",\"\",VLOOKUP(A72,'Quota Mal (2015)'!$B$9:$E$113,4,FALSE))","v":3.94},{"$f":"IF(S72=\"\",\"\",VLOOKUP(A72,'Quota Mal (2015)'!$B$9:$E$113,4,FALSE))","v":3.94},{"$f":"IF(OR(M72=\"\",M72=0),\"\",VLOOKUP(A72,'Quota Mal (2014)'!$B$9:$E$113,4,FALSE))","v":3.79},{"$f":"IF(OR(T72=\"\",T72=0),\"\",VLOOKUP(A72,'Quota Mal (2014)'!$B$9:$E$113,4,FALSE))","v":""},"035 - SOCIETA' REALE MUTUA",1376819.45389,203259.33953,155822.03047,9153.0499999999993,89251.106109999993,1834304.9800000002,72711,3242423.3411400001,79849.990000000005,4701.88,95104.05,5721.13886,3427800.4,0]
["VITTORIA ASSICURAZIONI",{"$f":"+IF(L73=\"\",\"\",VLOOKUP(A73,'Quota Mal (2015)'!$B$9:$E$113,4,FALSE))","v":0.54},{"$f":"IF(S73=\"\",\"\",VLOOKUP(A73,'Quota Mal (2015)'!$B$9:$E$113,4,FALSE))","v":0.54},{"$f":"IF(OR(M73=\"\",M73=0),\"\",VLOOKUP(A73,'Quota Mal (2014)'!$B$9:$E$113,4,FALSE))","v":0.53},{"$f":"IF(OR(T73=\"\",T73=0),\"\",VLOOKUP(A73,'Quota Mal (2014)'!$B$9:$E$113,4,FALSE))","v":0.53},"038 - VITTORIA ASSICURAZIONI",394923,67530,180143,0,13103,655699,11806,40007,30868,19122,0,3131,93128,1771]
["ASSICURAZIONI RISCHI AGRICOLI VMG 1857",{"$f":"+IF(L74=\"\",\"\",VLOOKUP(A74,'Quota Mal (2015)'!$B$9:$E$113,4,FALSE))","v":0},{"$f":"IF(S74=\"\",\"\",VLOOKUP(A74,'Quota Mal (2015)'!$B$9:$E$113,4,FALSE))","v":0},{"$f":"IF(OR(M74=\"\",M74=0),\"\",VLOOKUP(A74,'Quota Mal (2014)'!$B$9:$E$113,4,FALSE))","v":0},{"$f":"IF(OR(T74=\"\"),\"\",VLOOKUP(A74,'Quota Mal (2014)'!$B$9:$E$113,4,FALSE))","v":0},"045 - ASSICURAZIONI RISCHI AGRICOLI VMG 1857",0,0,0,0,0,0,1,0,0,0,0,0,0,0]
["SUN INSURANCE OFFICE LIMITED RSA",{"$f":"+IF(L75=\"\",\"\",VLOOKUP(A75,'Quota Mal (2015)'!$B$9:$E$113,4,FALSE))","v":0.05},{"$f":"IF(S75=\"\",\"\",VLOOKUP(A75,'Quota Mal (2015)'!$B$9:$E$113,4,FALSE))","v":0.05},{"$f":"IF(OR(M75=\"\",M75=0),\"\",VLOOKUP(A75,'Quota Mal (2014)'!$B$9:$E$113,4,FALSE))","v":0.05},{"$f":"IF(OR(T75=\"\",T75=0),\"\",VLOOKUP(A75,'Quota Mal (2014)'!$B$9:$E$113,4,FALSE))","v":0.05},"080 - SUN INSURANCE OFFICE LIMITED RSA",0,1835,3072,0,0,4907,2400,103902,1092,0,0,0,104994,7]
["",{"$f":"+IF(L76=\"\",\"\",VLOOKUP(A76,'Quota Mal (2015)'!$B$9:$E$113,4,FALSE))","v":""},{"$f":"IF(S76=\"\",\"\",VLOOKUP(A76,'Quota Mal (2015)'!$B$9:$E$113,4,FALSE))","v":""},{"$f":"IF(OR(M76=\"\",M76=0),\"\",VLOOKUP(A76,'Quota Mal (2014)'!$B$9:$E$113,4,FALSE))","v":""},{"$f":"IF(OR(T76=\"\",T76=0),\"\",VLOOKUP(A76,'Quota Mal (2014)'!$B$9:$E$113,4,FALSE))","v":""},"082 - UNIPOL ASSICURAZIONI"]
["CARIGE R.D. ASSICURAZIONI E RIASSICURAZIONI",{"$f":"+IF(L77=\"\",\"\",VLOOKUP(A77,'Quota Mal (2015)'!$B$9:$E$113,4,FALSE))","v":0.19},null,{"$f":"IF(OR(M77=\"\",M77=0),\"\",VLOOKUP(A77,'Quota Mal (2014)'!$B$9:$E$113,4,FALSE))","v":0.2},{"$f":"IF(OR(T77=\"\",T77=0),\"\",VLOOKUP(A77,'Quota Mal (2014)'!$B$9:$E$113,4,FALSE))","v":0.2},"086 - CARIGE R.D. ASSICURAZIONI E RIASSICURAZIONI",100969,64320,98654,0,0,263943,11692,0,0,0,0,0,0,44530]
["HDI ASSICURAZIONI",{"$f":"+IF(L78=\"\",\"\",VLOOKUP(A78,'Quota Mal (2015)'!$B$9:$E$113,4,FALSE))","v":0.1},{"$f":"IF(S78=\"\",\"\",VLOOKUP(A78,'Quota Mal (2015)'!$B$9:$E$113,4,FALSE))","v":0.1},{"$f":"IF(OR(M78=\"\",M78=0),\"\",VLOOKUP(A78,'Quota Mal (2014)'!$B$9:$E$113,4,FALSE))","v":0.13},{"$f":"IF(OR(T78=\"\",T78=0),\"\",VLOOKUP(A78,'Quota Mal (2014)'!$B$9:$E$113,4,FALSE))","v":0.13},"133 - HDI ASSICURAZIONI",78756,17079,16061,0,0,111896,3334,75619,3547,6649,0,0,85815,23337]
["GENIALLOYD",{"$f":"+IF(L79=\"\",\"\",VLOOKUP(A79,'Quota Mal (2015)'!$B$9:$E$113,4,FALSE))","v":0},{"$f":"IF(S79=\"\",\"\",VLOOKUP(A79,'Quota Mal (2015)'!$B$9:$E$113,4,FALSE))","v":0},{"$f":"IF(OR(M79=\"\"),\"\",VLOOKUP(A79,'Quota Mal (2014)'!$B$9:$E$113,4,FALSE))","v":0},{"$f":"IF(OR(T79=\"\"),\"\",VLOOKUP(A79,'Quota Mal (2014)'!$B$9:$E$113,4,FALSE))","v":0},"139 - GENIALLOYD",0,0,0,0,0,0,0,0,0,0,0,0,0,0]
["GROUPAMA ASSICURAZIONI",{"$f":"+IF(L80=\"\",\"\",VLOOKUP(A80,'Quota Mal (2015)'!$B$9:$E$113,4,FALSE))","v":0.89},{"$f":"IF(S80=\"\",\"\",VLOOKUP(A80,'Quota Mal (2015)'!$B$9:$E$113,4,FALSE))","v":0.89},{"$f":"IF(OR(M80=\"\",M80=0),\"\",VLOOKUP(A80,'Quota Mal (2014)'!$B$9:$E$113,4,FALSE))","v":0.88},{"$f":"IF(OR(T80=\"\",T80=0),\"\",VLOOKUP(A80,'Quota Mal (2014)'!$B$9:$E$113,4,FALSE))","v":0.88},"151 - GROUPAMA ASSICURAZIONI",572622,191998,191329,0,18521,974470,29749,61910,7529,3590,0,0,73029,1721]
["NATIONALE SUISSE",{"$f":"+IF(L81=\"\",\"\",VLOOKUP(A81,'Quota Mal (2015)'!$B$9:$E$113,4,FALSE))","v":0.03},{"$f":"IF(S81=\"\",\"\",VLOOKUP(A81,'Quota Mal (2015)'!$B$9:$E$113,4,FALSE))","v":0.03},{"$f":"IF(OR(M81=\"\",M81=0),\"\",VLOOKUP(A81,'Quota Mal (2014)'!$B$9:$E$113,4,FALSE))","v":0.04},{"$f":"IF(OR(T81=\"\",T81=0),\"\",VLOOKUP(A81,'Quota Mal (2014)'!$B$9:$E$113,4,FALSE))","v":0.04},"208 - NATIONALE SUISSE",0,0,0,0,0,0,442,4337,1801,3247,0,0,9385,1058]
["",{"$f":"+IF(L82=\"\",\"\",VLOOKUP(A82,'Quota Mal (2015)'!$B$9:$E$113,4,FALSE))","v":""},{"$f":"IF(S82=\"\",\"\",VLOOKUP(A82,'Quota Mal (2015)'!$B$9:$E$113,4,FALSE))","v":""},{"$f":"IF(OR(M82=\"\",M82=0),\"\",VLOOKUP(A82,'Quota Mal (2014)'!$B$9:$E$113,4,FALSE))","v":""},{"$f":"IF(OR(T82=\"\",T82=0),\"\",VLOOKUP(A82,'Quota Mal (2014)'!$B$9:$E$113,4,FALSE))","v":""},"225 - ISI INSURANCE Compagnia di Assicurazioni"]
["AXA MPS ASSICURAZIONI DANNI",{"$f":"+IF(L83=\"\",\"\",VLOOKUP(A83,'Quota Mal (2015)'!$B$9:$E$113,4,FALSE))","v":0.52},{"$f":"IF(S83=\"\",\"\",VLOOKUP(A83,'Quota Mal (2015)'!$B$9:$E$113,4,FALSE))","v":0.52},{"$f":"IF(OR(M83=\"\",M83=0),\"\",VLOOKUP(A83,'Quota Mal (2014)'!$B$9:$E$113,4,FALSE))","v":0.49},{"$f":"IF(OR(T83=\"\",T83=0),\"\",VLOOKUP(A83,'Quota Mal (2014)'!$B$9:$E$113,4,FALSE))","v":0.49},"243 - AXA MPS ASSICURAZIONI DANNI",308893.77,274488.76,318534.22000000003,0,0,901916.75,23942,98.99,1791854.77,0,285229.49,0,2077183.25,59730]
["GENERTEL",{"$f":"+IF(L84=\"\",\"\",VLOOKUP(A84,'Quota Mal (2015)'!$B$9:$E$113,4,FALSE))","v":0.11},null,{"$f":"IF(OR(M84=\"\",M84=0),\"\",VLOOKUP(A84,'Quota Mal (2014)'!$B$9:$E$113,4,FALSE))","v":0.09},{"$f":"IF(OR(T84=\"\",T84=0),\"\",VLOOKUP(A84,'Quota Mal (2014)'!$B$9:$E$113,4,FALSE))","v":0.09},"247 - GENERTEL",28423,1426,2747,0,0,32596,539,0,0,0,0,342337,342337,2863]
["ASSIMOCO",{"$f":"+IF(L85=\"\",\"\",VLOOKUP(A85,'Quota Mal (2015)'!$B$9:$E$113,4,FALSE))","v":0.47},{"$f":"IF(S85=\"\",\"\",VLOOKUP(A85,'Quota Mal (2015)'!$B$9:$E$113,4,FALSE))","v":0.47},{"$f":"IF(OR(M85=\"\",M85=0),\"\",VLOOKUP(A85,'Quota Mal (2014)'!$B$9:$E$113,4,FALSE))","v":0.42},{"$f":"IF(OR(T85=\"\",T85=0),\"\",VLOOKUP(A85,'Quota Mal (2014)'!$B$9:$E$113,4,FALSE))","v":0.42},"254 - ASSIMOCO",1455179,98749,68154,0,0,1622082,22620,175898,0,0,0,0,175898,6486]
["",{"$f":"+IF(L86=\"\",\"\",VLOOKUP(A86,'Quota Mal (2015)'!$B$9:$E$113,4,FALSE))","v":""},{"$f":"IF(S86=\"\",\"\",VLOOKUP(A86,'Quota Mal (2015)'!$B$9:$E$113,4,FALSE))","v":""},{"$f":"IF(OR(M86=\"\",M86=0),\"\",VLOOKUP(A86,'Quota Mal (2014)'!$B$9:$E$113,4,FALSE))","v":""},{"$f":"IF(OR(T86=\"\",T86=0),\"\",VLOOKUP(A86,'Quota Mal (2014)'!$B$9:$E$113,4,FALSE))","v":""},"292 - HELVETIA ITALIA ASSICURAZIONI"]
["ERGO ASSICURAZIONI",{"$f":"+IF(L87=\"\",\"\",VLOOKUP(A87,'Quota Mal (2015)'!$B$9:$E$113,4,FALSE))","v":0.11},{"$f":"IF(S87=\"\",\"\",VLOOKUP(A87,'Quota Mal (2015)'!$B$9:$E$113,4,FALSE))","v":0.11},{"$f":"IF(OR(M87=\"\",M87=0),\"\",VLOOKUP(A87,'Quota Mal (2014)'!$B$9:$E$113,4,FALSE))","v":0.14000000000000001},{"$f":"IF(OR(T87=\"\",T87=0),\"\",VLOOKUP(A87,'Quota Mal (2014)'!$B$9:$E$113,4,FALSE))","v":0.14000000000000001},"293 - ERGO ASSICURAZIONI",38526,22742,30999,0,2990,95257,11397.364383562201,0,0,0,0,0,0,728]
["CARGEAS ASSICURAZIONI",{"$f":"+IF(L88=\"\",\"\",VLOOKUP(A88,'Quota Mal (2015)'!$B$9:$E$113,4,FALSE))","v":2.04},{"$f":"IF(S88=\"\",\"\",VLOOKUP(A88,'Quota Mal (2015)'!$B$9:$E$113,4,FALSE))","v":2.04},{"$f":"IF(OR(M88=\"\",M88=0),\"\",VLOOKUP(A88,'Quota Mal (2014)'!$B$9:$E$113,4,FALSE))","v":""},{"$f":"IF(OR(T88=\"\",T88=0),\"\",VLOOKUP(A88,'Quota Mal (2014)'!$B$9:$E$113,4,FALSE))","v":""},"304 - CARGEAS ASSICURAZIONI",157652,157617,26015,0,0,341284,0,0,5339918,275356,0,8888,5624162,0]
["",{"$f":"+IF(L89=\"\",\"\",VLOOKUP(A89,'Quota Mal (2015)'!$B$9:$E$113,4,FALSE))","v":""},{"$f":"IF(S89=\"\",\"\",VLOOKUP(A89,'Quota Mal (2015)'!$B$9:$E$113,4,FALSE))","v":""},{"$f":"IF(OR(M89=\"\",M89=0),\"\",VLOOKUP(A89,'Quota Mal (2014)'!$B$9:$E$113,4,FALSE))","v":""},{"$f":"IF(OR(T89=\"\",T89=0),\"\",VLOOKUP(A89,'Quota Mal (2014)'!$B$9:$E$113,4,FALSE))","v":""},"304 - UBI ASSICURAZIONI"]
["UNISALUTE",{"$f":"+IF(L90=\"\",\"\",VLOOKUP(A90,'Quota Mal (2015)'!$B$9:$E$113,4,FALSE))","v":12.44},{"$f":"IF(S90=\"\",\"\",VLOOKUP(A90,'Quota Mal (2015)'!$B$9:$E$113,4,FALSE))","v":12.44},{"$f":"IF(OR(M90=\"\",M90=0),\"\",VLOOKUP(A90,'Quota Mal (2014)'!$B$9:$E$113,4,FALSE))","v":11.7},{"$f":"IF(OR(T90=\"\",T90=0),\"\",VLOOKUP(A90,'Quota Mal (2014)'!$B$9:$E$113,4,FALSE))","v":11.7},"342 - UNISALUTE",780,0,0,0,0,780,24557,11155628,6855,558950,341295,46395,12109123,3302040]
["AIG EUROPE LIMITED",{"$f":"+IF(L91=\"\",\"\",VLOOKUP(A91,'Quota Mal (2015)'!$B$9:$E$113,4,FALSE))","v":0.31},{"$f":"IF(S91=\"\",\"\",VLOOKUP(A91,'Quota Mal (2015)'!$B$9:$E$113,4,FALSE))","v":0.31},{"$f":"IF(OR(M91=\"\",M91=0),\"\",VLOOKUP(A91,'Quota Mal (2014)'!$B$9:$E$113,4,FALSE))","v":""},{"$f":"IF(OR(T91=\"\",T91=0),\"\",VLOOKUP(A91,'Quota Mal (2014)'!$B$9:$E$113,4,FALSE))","v":""},"344 - AIG EUROPE LIMITED",1123,754,0,3699,749,6325,0,182346,122417,0,600804,121619,1027186,0]
["",{"$f":"+IF(L92=\"\",\"\",VLOOKUP(A92,'Quota Mal (2015)'!$B$9:$E$113,4,FALSE))","v":""},{"$f":"IF(S92=\"\",\"\",VLOOKUP(A92,'Quota Mal (2015)'!$B$9:$E$113,4,FALSE))","v":""},{"$f":"IF(OR(M92=\"\",M92=0),\"\",VLOOKUP(A92,'Quota Mal (2014)'!$B$9:$E$113,4,FALSE))","v":""},{"$f":"IF(OR(T92=\"\",T92=0),\"\",VLOOKUP(A92,'Quota Mal (2014)'!$B$9:$E$113,4,FALSE))","v":""},"344 - AIG EUROPE S.A."]
["",{"$f":"+IF(L93=\"\",\"\",VLOOKUP(A93,'Quota Mal (2015)'!$B$9:$E$113,4,FALSE))","v":""},{"$f":"IF(S93=\"\",\"\",VLOOKUP(A93,'Quota Mal (2015)'!$B$9:$E$113,4,FALSE))","v":""},{"$f":"IF(OR(M93=\"\",M93=0),\"\",VLOOKUP(A93,'Quota Mal (2014)'!$B$9:$E$113,4,FALSE))","v":""},{"$f":"IF(OR(T93=\"\",T93=0),\"\",VLOOKUP(A93,'Quota Mal (2014)'!$B$9:$E$113,4,FALSE))","v":""},"344 - CHARTIS EUROPE S.A."]
["AVIVA ITALIA",null,null,null,null,"352 - AVIVA ITALIA",413613,52095,46383,0,0,512091,4508.8551748750888,261088,25717,17319,0,1197278,1501402,9664.1448251249112]
["",{"$f":"+IF(L95=\"\",\"\",VLOOKUP(A95,'Quota Mal (2015)'!$B$9:$E$113,4,FALSE))","v":""},null,{"$f":"IF(OR(M95=\"\",M95=0),\"\",VLOOKUP(A95,'Quota Mal (2014)'!$B$9:$E$113,4,FALSE))","v":""},{"$f":"IF(OR(T95=\"\",T95=0),\"\",VLOOKUP(A95,'Quota Mal (2014)'!$B$9:$E$113,4,FALSE))","v":""},"378 - AVIVA ASSICURAZIONI"]
["ARCA ASSICURAZIONI",{"$f":"+IF(L96=\"\",\"\",VLOOKUP(A96,'Quota Mal (2015)'!$B$9:$E$113,4,FALSE))","v":0.54},{"$f":"IF(S96=\"\",\"\",VLOOKUP(A96,'Quota Mal (2015)'!$B$9:$E$113,4,FALSE))","v":0.54},{"$f":"IF(OR(M96=\"\",M96=0),\"\",VLOOKUP(A96,'Quota Mal (2014)'!$B$9:$E$113,4,FALSE))","v":0.56000000000000005},{"$f":"IF(OR(T96=\"\",T96=0),\"\",VLOOKUP(A96,'Quota Mal (2014)'!$B$9:$E$113,4,FALSE))","v":0.56000000000000005},"417 - ARCA ASSICURAZIONI",515614,326842,1274,0,385441,1229171,41343,0,0,0,0,0,0,66183]
["INTESA SANPAOLO ASSICURA",null,null,null,null,"419 - INTESA SANPAOLO ASSICURA",3717387,4575721,131592,0,2122961,10547661,135435.65320553185,0,0,0,0,0,0,912.34679446813209]
["CNP UNICREDIT VITA",{"$f":"+IF(L98=\"\",\"\",VLOOKUP(A98,'Quota Mal (2015)'!$B$9:$E$113,4,FALSE))","v":{"$error":"#N/A"}},{"$f":"IF(S98=\"\",\"\",VLOOKUP(A98,'Quota Mal (2015)'!$B$9:$E$113,4,FALSE))","v":{"$error":"#N/A"}},{"$f":"IF(OR(M98=\"\",M98=0),\"\",VLOOKUP(A98,'Quota Mal (2014)'!$B$9:$E$113,4,FALSE))","v":""},{"$f":"IF(OR(T98=\"\",T98=0),\"\",VLOOKUP(A98,'Quota Mal (2014)'!$B$9:$E$113,4,FALSE))","v":""},"426 - CNP UNICREDIT VITA",0,0,0,0,0,0,0,0,0,0,0,0,0,0]
["CREDEMASSICURAZIONI",{"$f":"+IF(L99=\"\",\"\",VLOOKUP(A99,'Quota Mal (2015)'!$B$9:$E$113,4,FALSE))","v":0.35},{"$f":"IF(S99=\"\",\"\",VLOOKUP(A99,'Quota Mal (2015)'!$B$9:$E$113,4,FALSE))","v":0.35},{"$f":"IF(OR(M99=\"\"),\"\",VLOOKUP(A99,'Quota Mal (2014)'!$B$9:$E$113,4,FALSE))","v":0.34},{"$f":"IF(OR(T99=\"\"),\"\",VLOOKUP(A99,'Quota Mal (2014)'!$B$9:$E$113,4,FALSE))","v":0.34},"428 - CREDEMASSICURAZIONI",77051.899999999936,217945.5,72648.5,0,0,367645.89999999991,15334,0,1616691.4600000393,255268.41999999995,0,151978.51,2023938.3900000392,18838]
["",null,null,null,null,"431 - POSTE VITA"]
["POSTE VITA - Gruppo Assicurativo Poste Vita",{"$f":"+IF(L101=\"\",\"\",VLOOKUP(A101,'Quota Mal (2015)'!$B$9:$E$113,4,FALSE))","v":0},null,{"$f":"IF(OR(M101=\"\",M101=0),\"\",VLOOKUP(A101,'Quota Mal (2014)'!$B$9:$E$113,4,FALSE))","v":""},{"$f":"IF(OR(T101=\"\",T101=0),\"\",VLOOKUP(A101,'Quota Mal (2014)'!$B$9:$E$113,4,FALSE))","v":0.02},"431 - POSTE VITA - Gruppo Assicurativo Poste Vita",0,0,0,0,0,0,0,0,54661,0,0,0,54661,591]
["DIRECT LINE INSURANCE",{"$f":"+IF(L102=\"\",\"\",VLOOKUP(A102,'Quota Mal (2015)'!$B$9:$E$113,4,FALSE))","v":{"$error":"#N/A"}},{"$f":"IF(S102=\"\",\"\",VLOOKUP(A102,'Quota Mal (2015)'!$B$9:$E$113,4,FALSE))","v":{"$error":"#N/A"}},{"$f":"IF(OR(M102=\"\",M102=0),\"\",VLOOKUP(A102,'Quota Mal (2014)'!$B$9:$E$113,4,FALSE))","v":""},{"$f":"IF(OR(T102=\"\",T102=0),\"\",VLOOKUP(A102,'Quota Mal (2014)'!$B$9:$E$113,4,FALSE))","v":""},"432 - DIRECT LINE INSURANCE",0,0,0,0,0,0,0,0,0,0,0,0,0,0]
["AVIPOP ASSICURAZIONI",{"$f":"+IF(L103=\"\",\"\",VLOOKUP(A103,'Quota Mal (2015)'!$B$9:$E$113,4,FALSE))","v":0.81},{"$f":"IF(S103=\"\",\"\",VLOOKUP(A103,'Quota Mal (2015)'!$B$9:$E$113,4,FALSE))","v":0.81},{"$f":"IF(OR(M103=\"\",M103=0),\"\",VLOOKUP(A103,'Quota Mal (2014)'!$B$9:$E$113,4,FALSE))","v":0.68},{"$f":"IF(OR(T103=\"\",T103=0),\"\",VLOOKUP(A103,'Quota Mal (2014)'!$B$9:$E$113,4,FALSE))","v":""},"457 - AVIPOP ASSICURAZIONI",244987,0,2262968,0,141836,2649791,53924.429447852759,0,0,0,0,0,0,0]
["CF ASSICURAZIONI",{"$f":"+IF(L104=\"\",\"\",VLOOKUP(A104,'Quota Mal (2015)'!$B$9:$E$113,4,FALSE))","v":0.05},{"$f":"IF(S104=\"\",\"\",VLOOKUP(A104,'Quota Mal (2015)'!$B$9:$E$113,4,FALSE))","v":0.05},{"$f":"IF(OR(M104=\"\",M104=0),\"\",VLOOKUP(A104,'Quota Mal (2014)'!$B$9:$E$113,4,FALSE))","v":0.09},{"$f":"IF(OR(T104=\"\",T104=0),\"\",VLOOKUP(A104,'Quota Mal (2014)'!$B$9:$E$113,4,FALSE))","v":0.09},"464 - CF ASSICURAZIONI",179593,300686,8056,1363,54543,544241,3019,2702,0,0,0,131,2833,3]
["RBM SALUTE",{"$f":"+IF(L105=\"\",\"\",VLOOKUP(A105,'Quota Mal (2015)'!$B$9:$E$113,4,FALSE))","v":13.98},{"$f":"IF(S105=\"\",\"\",VLOOKUP(A105,'Quota Mal (2015)'!$B$9:$E$113,4,FALSE))","v":13.98},{"$f":"IF(OR(M105=\"\",M105=0),\"\",VLOOKUP(A105,'Quota Mal (2014)'!$B$9:$E$113,4,FALSE))","v":11.72},{"$f":"IF(OR(T105=\"\",T105=0),\"\",VLOOKUP(A105,'Quota Mal (2014)'!$B$9:$E$113,4,FALSE))","v":11.72},"468 - RBM SALUTE",171811,0,3246,0,0,175057,2000,22432556,47288,1228134,275,0,23708253,700000]
["",{"$f":"+IF(L106=\"\",\"\",VLOOKUP(A106,'Quota Mal (2015)'!$B$9:$E$113,4,FALSE))","v":""},{"$f":"IF(S106=\"\",\"\",VLOOKUP(A106,'Quota Mal (2015)'!$B$9:$E$113,4,FALSE))","v":""},{"$f":"IF(OR(M106=\"\",M106=0),\"\",VLOOKUP(A106,'Quota Mal (2014)'!$B$9:$E$113,4,FALSE))","v":""},{"$f":"IF(OR(T106=\"\",T106=0),\"\",VLOOKUP(A106,'Quota Mal (2014)'!$B$9:$E$113,4,FALSE))","v":""},"469 - ARISCOM COMPAGNIA DI ASSICURAZIONI"]
["",{"$f":"+IF(L107=\"\",\"\",VLOOKUP(A107,'Quota Mal (2015)'!$B$9:$E$113,4,FALSE))","v":""},{"$f":"IF(S107=\"\",\"\",VLOOKUP(A107,'Quota Mal (2015)'!$B$9:$E$113,4,FALSE))","v":""},{"$f":"IF(OR(M107=\"\",M107=0),\"\",VLOOKUP(A107,'Quota Mal (2014)'!$B$9:$E$113,4,FALSE))","v":""},{"$f":"IF(OR(T107=\"\",T107=0),\"\",VLOOKUP(A107,'Quota Mal (2014)'!$B$9:$E$113,4,FALSE))","v":""},"474 - NOBIS COMPAGNIA DI ASSICURAZIONI"]
["POSTE ASSICURA - Gruppo Assicurativo Poste Vita",{"$f":"+IF(L108=\"\",\"\",VLOOKUP(A108,'Quota Mal (2015)'!$B$9:$E$113,4,FALSE))","v":0.32},{"$f":"IF(S108=\"\",\"\",VLOOKUP(A108,'Quota Mal (2015)'!$B$9:$E$113,4,FALSE))","v":0.32},{"$f":"IF(OR(M108=\"\",M108=0),\"\",VLOOKUP(A108,'Quota Mal (2014)'!$B$9:$E$113,4,FALSE))","v":0.34},{"$f":"IF(OR(T108=\"\",T108=0),\"\",VLOOKUP(A108,'Quota Mal (2014)'!$B$9:$E$113,4,FALSE))","v":0.34},"480 - POSTE ASSICURA - Gruppo Assicurativo Poste Vita",29726,2083,51133,0,1394,84336,41782,0,885306,0,0,90757,976063,457532]
["QUADRA ASSICURAZIONI",null,null,null,null,"485 - QUADRA ASSICURAZIONI",3.45,687.24,63.66,0,0,754.35,8,0,0,0,0,0,0,0]
[null,null,null,null,null,"618 - METLIFE EUROPE LIMITED",9534,0,501,0,0,10035,89,1563887,0,82309,0,0,1646196,7209]
[null,null,null,null,null,"853 - ACE EUROPEAN GROUP LTD"]
[null,null,null,null,null,"864 - ZURICH INSURANCE PLC",137446,85934,39312,0,0,262692,0,327270,36700,34282,0,0,398252,0]
[null,null,null,null,null,"Totale complessivo",16643148.962944604,7488643.1243959693,5089548.0165543482,49434.45,3414181.3275489621,32684955.881443884,813906.30221182189,40950194.141240001,10068310.348700039,2514328.9401644496,1322707.54,1990200.40876,56845741.378864489,4708977.4916195935]

{"sheet":"infort_dati_2015","index":48,"n_rows":224,"n_cols":20,"rows_kept":224,"cut":false,"hidden":true,"merged":[[26,0,27,0],[26,1,27,1],[26,2,27,2],[26,3,27,3],[26,4,27,4],[45,0,46,0],[45,1,46,1],[45,2,46,2],[45,3,46,3],[45,4,46,4],[0,0,0,4],[1,0,1,4],[7,0,8,0],[7,1,8,1],[7,2,8,2],[7,3,8,3],[7,4,8,4]]}
["ANIA - Associazione Nazionale fra le Imprese Assicuratrici - Ramo INFORTUNI"]
["> Rilevazione Semestrale dei Premi contabilizzati del Lavoro Diretto Italiano <"]
["dati ricevuti - non riproporzionati",null,null,null,null,null,null,null,null,null,null,null,null,null,null,null,null,null,null,"Giugno 2010"]
["Compagnia:",null,null,null,"TOTALE",null,null,null,null,null,null,null,null,null,null,null,null,null,null,"Dicembre 2010"]
["Premi Contabilizzati a tutto il mese di:",null,null,null,{"$f":"+'pivot-INF2015'!G1","v":"Dicembre 2015"},"QUOTA MERCATO CAMPIONE",{"$f":"+#REF!","v":{"$error":"#REF!"}},null,null,null,null,null,null,null,null,null,null,null,null,"Giugno 2011"]
[null,"- Valori in Euro arrotondati all'unità -",null,null,null,null,null,null,null,null,null,null,null,null,"417 - ARCA ASSICURAZIONI"]
[null,null,null,null,null,null,null,null,null,null,null,null,null,null,"341 - ARCA VITA"]
["Garanzie - TOTALE POLIZZE",null,"Premi lordi contabilizzati",null,"di cui                                   Premi di nuova produzione",null,null,null,null,null,null,null,null,null,"856 - ARCH INSURANCE COMPANY (EUROPE)"]
[null,null,null,null,null,null,null,null,null,null,null,null,null,null,"814 - AREA LIFE INTERNATIONAL"]
[-1,null,{"$f":"+A10-1","v":-2},null,{"$f":"+C10-1","v":-3},null,null,null,null,null,null,null,null,null,"469 - ARISCOM COMPAGNIA DI ASSICURAZIONI"]
[null,null,null,null,null,null,null,null,null,null,null,null,null,null,"829 - ASPECTA ASSURANCE INTERNATIONAL LUXEMBOURG S.A."]
[null,null,null,null,null,null,null,null,null,null,null,null,null,null,"327 - ASSICURATRICE MILANESE"]
["Morte da infortunio",null,{"$f":"+C32+C51","v":7508375},null,{"$f":"+E32+E51","v":21922.26},null,null,null,null,null,null,null,null,null,"085 - ASSICURATRICE VAL PIAVE"]
["Invalidità permanente (parziale o totale) da infortunio",null,{"$f":"+C33+C52","v":21455612},null,{"$f":"+E33+E52","v":26841.73},null,null,null,null,null,null,null,null,null,"005 - ASSICURAZIONI GENERALI"]
["Inabilità temporanea",null,{"$f":"+C34+C53","v":288656},null,{"$f":"+E34+E53","v":16976.099999999999},null,null,null,null,null,null,null,null,null,"045 - ASSICURAZIONI RISCHI AGRICOLI VMG 1857"]
["Infortunio del conducente",null,{"$f":"+C35+C54","v":0},null,{"$f":"+E35+E54","v":0},null,null,null,null,null,null,null,null,null,"254 - ASSIMOCO"]
["Altre garanzie ",null,{"$f":"+C36+C55","v":9442264},null,{"$f":"+E36+E55","v":13634.87},null,null,null,null,null,null,null,null,null,"357 - ASSIMOCO VITA"]
[null,null,null,null,null,null,null,null,null,null,null,null,null,null,"865 - ASSURANT GENERAL INSURANCE LIMITED"]
["TOTALE RAMO",null,{"$f":"+SUM(C13:C17)","v":38694907},null,{"$f":"+SUM(E13:E17)","v":79374.959999999992},null,null,null,null,null,null,null,null,null,"866 - ASSURANT LIFE LIMITED"]
[null,null,null,null,null,null,null,null,null,null,null,null,null,null,"868 - ATLANTICLUX LEBENSVERSICHERUNG SA"]
["TOTALE NUMERO POLIZZE EMESSE",null,{"$f":"+C59+C40","v":371},null,null,null,null,null,null,null,null,null,null,null,"457 - AVIPOP ASSICURAZIONI"]
[null,null,null,null,null,null,null,null,null,null,null,null,null,null,"448 - CHIARA VITA"]
[null,null,null,null,null,null,null,null,null,null,null,null,null,null,"883 - CHUBB INSURANCE COMPANY OF EUROPE SE"]
[null,null,null,null,null,null,null,null,null,null,null,null,null,null,"813 - CIGNA LIFE"]
[null,"- Valori in Euro arrotondati all'unità -",null,null,null,null,null,null,null,null,null,null,null,null,"158 - A.R.A.G.",null,null,null,null,"Dicembre 2011"]
[null,null,null,null,null,null,null,null,null,null,null,null,null,null,"273 - ABC ASSICURA",null,null,null,null,"Giugno 2012"]
["Garanzie -  POLIZZE INDIVIDUALI",null,"Premi lordi contabilizzati",null,"di cui                                   Premi di nuova produzione",null,null,null,null,null,null,null,null,null,"878 - ACE EUROPE LIFE LIMITED",null,null,null,null,"Dicembre 2012"]
[null,null,null,null,null,null,null,null,null,null,null,null,null,null,"853 - ACE EUROPEAN GROUP LTD",null,null,null,null,"Giugno 2013"]
[-1,null,{"$f":"+A29-1","v":-2},null,{"$f":"+C29-1","v":-3},null,null,null,null,null,null,null,null,null,"911 - ADMIRAL INSURANCE COMPANY LIMITED",null,null,null,null,"Dicembre 2013"]
[null,null,null,null,null,null,null,null,null,null,null,null,null,null,"896 - AGA INTERNATIONAL",null,null,null,null,"Giugno 2014"]
[null,null,null,null,null,null,null,null,null,null,null,null,null,null,"872 - AIOI NISSAY DOWA INSURANCE COMPANY OF EUROPE LTD",null,null,null,null,"Dicembre 2014"]
["Morte da infortunio",null,{"$f":"+HLOOKUP(F32,'pivot-INF2015'!$F$4:$R$59,49,FALSE)","v":7324590},null,{"$f":"+HLOOKUP(G32,'pivot-INF2015'!$F$61:$T$111,49,FALSE)","v":21922.26},"Somma di INF_MR","Somma di INFNP_MR",null,null,null,null,null,null,null,"392 - ALA ASSICURAZIONI",null,null,null,null,"Giugno 2015"]
["Invalidità permanente (parziale o totale) da infortunio",null,{"$f":"+HLOOKUP(F33,'pivot-INF2015'!$F$4:$R$59,49,FALSE)","v":20340096},null,{"$f":"+HLOOKUP(G33,'pivot-INF2015'!$F$61:$T$111,49,FALSE)","v":26841.73},"Somma di INF_IP","Somma di INFNP_IP",null,null,null,null,null,null,null,"408 - ALICO ITALIA",null,null,null,null,"Dicembre 2015"]
["Inabilità temporanea",null,{"$f":"+HLOOKUP(F34,'pivot-INF2015'!$F$4:$R$59,49,FALSE)","v":146313},null,{"$f":"+HLOOKUP(G34,'pivot-INF2015'!$F$61:$T$111,49,FALSE)","v":16976.099999999999},"Somma di INF_IT","Somma di INFNP_IT",null,null,null,null,null,null,null,"835 - ALICO LIFE INTERNATIONAL LIMITED",null,null,null,null,"Giugno 2016"]
["Infortunio del conducente",null,{"$f":"+HLOOKUP(F35,'pivot-INF2015'!$F$4:$R$59,49,FALSE)","v":0},null,{"$f":"+HLOOKUP(G35,'pivot-INF2015'!$F$61:$T$111,49,FALSE)","v":0},"Somma di INF_COND","Somma di INFNP_COND",null,null,null,null,null,null,null,"008 - ALLEANZA TORO",null,null,null,null,"Dicembre 2016"]
["Altre garanzie ",null,{"$f":"+HLOOKUP(F36,'pivot-INF2015'!$F$4:$R$59,49,FALSE)","v":9442264},null,{"$f":"+HLOOKUP(G36,'pivot-INF2015'!$F$61:$T$111,49,FALSE)","v":13634.87},"Somma di INF_AL","Somma di INFNP_AL",null,null,null,null,null,null,null,"880 - ALLIANZ GLOBAL CORPORATE & SPECIALITY AG",null,null,null,null,"Giugno 2017"]
[null,null,null,null,null,null,null,null,null,null,null,null,null,null,"884 - ALLIANZ GLOBAL LIFE LIMITED",null,null,null,null,"Dicembre 2017"]
["TOTALE RAMO",null,{"$f":"+SUM(C32:C36)","v":37253263},null,{"$f":"+SUM(E32:E36)","v":79374.959999999992},"Somma di INF_TOT","Somma di INFNP_TOT",null,null,null,null,null,null,null,"003 - ALLIANZ S.P.A.",null,null,null,null,"Giugno 2018"]
[null,null,null,null,null,null,null,null,null,null,null,null,null,null,"892 - ALPHA INSURANCE A/S",null,null,null,null,"Dicembre 2018"]
["TOTALE RISCHI INDIVIDUALI: NUMERO POLIZZE EMESSE",null,{"$f":"+HLOOKUP(F40,'pivot-INF2015'!$F$61:$R$111,49,FALSE)","v":371},null,null,"Somma di INFNUM_POL",null,null,null,null,null,null,null,null,"855 - AMBAC ASSURANCE UK LTD",null,null,null,null,"Giugno 2019"]
[null,null,null,null,null,null,null,null,null,null,null,null,null,null,"364 - ANTONIANA VENETA POPOLARE ASSICURAZIONI",null,null,null,null,"Dicembre 2019"]
[]
[]
[null,"- Valori in Euro arrotondati all'unità -",null,null,null,null,null,null,null,null,null,null,null,null,"417 - ARCA ASSICURAZIONI"]
[null,null,null,null,null,null,null,null,null,null,null,null,null,null,"341 - ARCA VITA"]
["Garanzie - POLIZZE COLLETTIVE",null,"Premi lordi contabilizzati",null,"di cui                                   Premi di nuova produzione",null,null,null,null,null,null,null,null,null,"856 - ARCH INSURANCE COMPANY (EUROPE)"]
[null,null,null,null,null,null,null,null,null,null,null,null,null,null,"814 - AREA LIFE INTERNATIONAL"]
[-1,null,{"$f":"+A48-1","v":-2},null,{"$f":"+C48-1","v":-3},null,null,null,null,null,null,null,null,null,"469 - ARISCOM COMPAGNIA DI ASSICURAZIONI"]
[null,null,null,null,null,null,null,null,null,null,null,null,null,null,"829 - ASPECTA ASSURANCE INTERNATIONAL LUXEMBOURG S.A."]
[null,null,null,null,null,null,null,null,null,null,null,null,null,null,"327 - ASSICURATRICE MILANESE"]
["Morte da infortunio",null,{"$f":"+HLOOKUP(F51,'pivot-INF2015'!$F$4:$R$59,49,FALSE)","v":183785},null,{"$f":"+HLOOKUP(G51,'pivot-INF2015'!$F$61:$T$111,49,FALSE)","v":0},"Somma di INFC_MR","Somma di INFCNP_MR",null,null,null,null,null,null,null,"085 - ASSICURATRICE VAL PIAVE"]
["Invalidità permanente (parziale o totale) da infortunio",null,{"$f":"+HLOOKUP(F52,'pivot-INF2015'!$F$4:$R$59,49,FALSE)","v":1115516},null,{"$f":"+HLOOKUP(G52,'pivot-INF2015'!$F$61:$T$111,49,FALSE)","v":0},"Somma di INFC_IP","Somma di INFCNP_IP",null,null,null,null,null,null,null,"005 - ASSICURAZIONI GENERALI"]
["Inabilità temporanea",null,{"$f":"+HLOOKUP(F53,'pivot-INF2015'!$F$4:$R$59,49,FALSE)","v":142343},null,{"$f":"+HLOOKUP(G53,'pivot-INF2015'!$F$61:$T$111,49,FALSE)","v":0},"Somma di INFC_IT","Somma di INFCNP_IT",null,null,null,null,null,null,null,"045 - ASSICURAZIONI RISCHI AGRICOLI VMG 1857"]
["Infortunio del conducente",null,{"$f":"+HLOOKUP(F54,'pivot-INF2015'!$F$4:$R$59,49,FALSE)","v":0},null,{"$f":"+HLOOKUP(G54,'pivot-INF2015'!$F$61:$T$111,49,FALSE)","v":0},"Somma di INFC_COND","Somma di INFCNP_COND",null,null,null,null,null,null,null,"254 - ASSIMOCO"]
["Altre garanzie ",null,{"$f":"+HLOOKUP(F55,'pivot-INF2015'!$F$4:$R$59,49,FALSE)","v":0},null,{"$f":"+HLOOKUP(G55,'pivot-INF2015'!$F$61:$T$111,49,FALSE)","v":0},"Somma di INFC_AL","Somma di INFCNP_AL",null,null,null,null,null,null,null,"357 - ASSIMOCO VITA"]
[null,null,null,null,null,null,null,null,null,null,null,null,null,null,"865 - ASSURANT GENERAL INSURANCE LIMITED"]
["TOTALE RAMO",null,{"$f":"+SUM(C51:C55)","v":1441644},null,{"$f":"+SUM(E51:E55)","v":0},"Somma di INFC_TOT",null,null,null,null,null,null,null,null,"866 - ASSURANT LIFE LIMITED"]
[null,null,null,null,null,null,null,null,null,null,null,null,null,null,"868 - ATLANTICLUX LEBENSVERSICHERUNG SA"]
["TOTALE NUMERO DI TESTE PER POLIZZE COLLETTIVE EMESSE",null,{"$f":"+HLOOKUP(F59,'pivot-INF2015'!$F$61:$T$111,49,FALSE)","v":0},null,null,"Somma di INFCNUM_POL",null,null,null,null,null,null,null,null,"457 - AVIPOP ASSICURAZIONI"]
[null,null,null,null,null,null,null,null,null,null,null,null,null,null,"477 - AVIPOP VITA"]
[null,null,null,null,null,null,null,null,null,null,null,null,null,null,"339 - AVIVA"]
[null,null,null,null,null,null,null,null,null,null,null,null,null,null,"378 - AVIVA ASSICURAZIONI"]
[null,null,null,null,null,null,null,null,null,null,null,null,null,null,"843 - CLERICAL MEDICAL INVESTMENT GROUP LIMITED"]
[null,null,null,null,null,null,null,null,null,null,null,null,null,null,"857 - CNA INSURANCE COMPANY LTD"]
[null,null,null,null,null,null,null,null,null,null,null,null,null,null,"846 - CNP ASSURANCES"]
[null,null,null,null,null,null,null,null,null,null,null,null,null,null,"891 - CNP BARCLAYS VIDA Y PENSIONES COMP. DE SEGUROS SA"]
[null,null,null,null,null,null,null,null,null,null,null,null,null,null,"848 - CNP IAM S.A."]
[null,null,null,null,null,null,null,null,null,null,null,null,null,null,"426 - CNP UNICREDIT VITA"]
[null,null,null,null,null,null,null,null,null,null,null,null,null,null,"328 - COFACE ASSICURAZIONI"]
[null,null,null,null,null,null,null,null,null,null,null,null,null,null,"416 - COMPAGNIA ASS. LINEAR"]
[null,null,null,null,null,null,null,null,null,null,null,null,null,null,"007 - COMPAGNIA DI ASS. DI MILANO"]
[null,null,null,null,null,null,null,null,null,null,null,null,null,null,"826 - COMPAGNIE FRANCAISE DE DEFENSE ET DE PROTECTION"]
[null,null,null,null,null,null,null,null,null,null,null,null,null,null,"428 - CREDEMASSICURAZIONI"]
[null,null,null,null,null,null,null,null,null,null,null,null,null,null,"383 - CREDEMVITA"]
[null,null,null,null,null,null,null,null,null,null,null,null,null,null,"472 - CREDIT AGRICOLE ASSICURAZIONI"]
[null,null,null,null,null,null,null,null,null,null,null,null,null,null,"350 - CREDIT AGRICOLE VITA"]
[null,null,null,null,null,null,null,null,null,null,null,null,null,null,"854 - CREDIT SUISSE LIFE & PENSION AKTIENGESELLSCHAFT"]
[null,null,null,null,null,null,null,null,null,null,null,null,null,null,"346 - CREDITRAS"]
[null,null,null,null,null,null,null,null,null,null,null,null,null,null,"415 - CREDITRAS VITA"]
[null,null,null,null,null,null,null,null,null,null,null,null,null,null,"142 - D.A.S."]
[null,null,null,null,null,null,null,null,null,null,null,null,null,null,"112 - DIALOGO ASSICURAZIONI"]
[null,null,null,null,null,null,null,null,null,null,null,null,null,null,"432 - DIRECT LINE INSURANCE"]
[null,null,null,null,null,null,null,null,null,null,null,null,null,null,"869 - DONAU VERSICHERUNGS AG VIENNA INSURANCE GROUP"]
[null,null,null,null,null,null,null,null,null,null,null,null,null,null,"020 - DUOMO UNI ONE ASSICURAZIONI"]
[null,null,null,null,null,null,null,null,null,null,null,null,null,null,"473 - ELBA COMPAGNIA DI ASS. NI E RIASS.NI"]
[null,null,null,null,null,null,null,null,null,null,null,null,null,null,"293 - ERGO ASSICURAZIONI"]
[null,null,null,null,null,null,null,null,null,null,null,null,null,null,"381 - ERGO PREVIDENZA"]
[null,null,null,null,null,null,null,null,null,null,null,null,null,null,"606 - EULER HERMES CREDIT INSURANCE BELGIUM N.V."]
[null,null,null,null,null,null,null,null,null,null,null,null,null,null,"909 - EURO INSURANCES LTD."]
[null,null,null,null,null,null,null,null,null,null,null,null,null,null,"390 - EUROP ASSISTANCE ITALIA"]
[null,null,null,null,null,null,null,null,null,null,null,null,null,null,"125 - EUROPA TUTELA GIUDIZIARIA"]
[null,null,null,null,null,null,null,null,null,null,null,null,null,null,"876 - EUROPAISCHE REISEVERSICHERUNG AKTIENGESSELLSCHAFT"]
[null,null,null,null,null,null,null,null,null,null,null,null,null,null,"365 - EUROVITA ASSICURAZIONI"]
[null,null,null,null,null,null,null,null,null,null,null,null,null,null,"016 - FATA ASSICURAZIONI DANNI"]
[null,null,null,null,null,null,null,null,null,null,null,null,null,null,"461 - FATA VITA"]
[null,null,null,null,null,null,null,null,null,null,null,null,null,null,"479 - FIDEURAM VITA"]
[null,null,null,null,null,null,null,null,null,null,null,null,null,null,"400 - FILO DIRETTO"]
[null,null,null,null,null,null,null,null,null,null,null,null,null,null,"852 - FINANCIAL ASSURANCE CO. LTD. (FACL)"]
[null,null,null,null,null,null,null,null,null,null,null,null,null,null,"808 - FINANCIAL INSURANCE CO. LTD (FICL)"]
[null,null,null,null,null,null,null,null,null,null,null,null,null,null,"839 - FM INSURANCE COMPANY LTD"]
[null,null,null,null,null,null,null,null,null,null,null,null,null,null,"034 - FONDIARIA - SAI"]
[null,null,null,null,null,null,null,null,null,null,null,null,null,null,"607 - GAN EUROCOURTAGE"]
[null,null,null,null,null,null,null,null,null,null,null,null,null,null,"821 - GENERAL REINSURANCE MILAN BRANCH"]
[null,null,null,null,null,null,null,null,null,null,null,null,null,null,"247 - GENERTEL"]
[null,null,null,null,null,null,null,null,null,null,null,null,null,null,"445 - GENERTELLIFE"]
[null,null,null,null,null,null,null,null,null,null,null,null,null,null,"139 - GENIALLOYD"]
[null,null,null,null,null,null,null,null,null,null,null,null,null,null,"831 - GENWORTH FINANCIAL MORTGAGE INS. LTD"]
[null,null,null,null,null,null,null,null,null,null,null,null,null,null,"395 - GLOBAL ASSISTANCE"]
[null,null,null,null,null,null,null,null,null,null,null,null,null,null,"420 - GLOBALE RUCKVERSICHERUNGS-AG"]
[null,null,null,null,null,null,null,null,null,null,null,null,null,null,"899 - GREAT LAKES ITALIA"]
[null,null,null,null,null,null,null,null,null,null,null,null,null,null,"151 - GROUPAMA ASSICURAZIONI"]
[null,null,null,null,null,null,null,null,null,null,null,null,null,null,"897 - HARMONIE MUTUALITÉ"]
[null,null,null,null,null,null,null,null,null,null,null,null,null,null,"133 - HDI ASSICURAZIONI"]
[null,null,null,null,null,null,null,null,null,null,null,null,null,null,"218 - HDI-GERLING INDUSTRIE VERSICHERUNG AG."]
[null,null,null,null,null,null,null,null,null,null,null,null,null,null,"019 - HELVETIA SA"]
[null,null,null,null,null,null,null,null,null,null,null,null,null,null,"309 - HELVETIA VITA"]
[null,null,null,null,null,null,null,null,null,null,null,null,null,null,"881 - HOMECARE INSURANCE LIMITED"]
[null,null,null,null,null,null,null,null,null,null,null,null,null,null,"398 - IMA - ITALIA ASSISTANCE"]
[null,null,null,null,null,null,null,null,null,null,null,null,null,null,"004 - INA ASSITALIA"]
[null,null,null,null,null,null,null,null,null,null,null,null,null,null,"458 - INCHIARO ASSICURAZIONI"]
[null,null,null,null,null,null,null,null,null,null,null,null,null,null,"281 - INCONTRA ASSICURAZIONI"]
[null,null,null,null,null,null,null,null,null,null,null,null,null,null,"399 - INTER PARTNER ASSISTANCE"]
[null,null,null,null,null,null,null,null,null,null,null,null,null,null,"871 - INTERNATIONAL INSURANCE COMPANY OF HANNOVER"]
[null,null,null,null,null,null,null,null,null,null,null,null,null,null,"419 - INTESA SANPAOLO ASSICURA"]
[null,null,null,null,null,null,null,null,null,null,null,null,null,null,"910 - INTESA SANPAOLO LIFE LIMITED"]
[null,null,null,null,null,null,null,null,null,null,null,null,null,null,"306 - INTESA SANPAOLO VITA"]
[null,null,null,null,null,null,null,null,null,null,null,null,null,null,"225 - ISI INSURANCE Compagnia di Assicurazioni"]
[null,null,null,null,null,null,null,null,null,null,null,null,null,null,"023 - ITALIANA ASSICURAZIONI"]
[null,null,null,null,null,null,null,null,null,null,null,null,null,null,"223 - ITAS ASSICURAZIONI"]
[null,null,null,null,null,null,null,null,null,null,null,null,null,null,"022 - ITAS MUTUA"]
[null,null,null,null,null,null,null,null,null,null,null,null,null,null,"183 - ITAS VITA"]
[null,null,null,null,null,null,null,null,null,null,null,null,null,null,"810 - LA MONDIALE EUROPARTNER S.A."]
[null,null,null,null,null,null,null,null,null,null,null,null,null,null,"358 - L'ASSICURATRICE ITALIANA VITA"]
[null,null,null,null,null,null,null,null,null,null,null,null,null,null,"212 - LE ASSICURAZIONI DI ROMA"]
[null,null,null,null,null,null,null,null,null,null,null,null,null,null,"361 - LE ASSICURAZIONI DI ROMA VITA"]
[null,null,null,null,null,null,null,null,null,null,null,null,null,null,"088 - LIGURIA"]
[null,null,null,null,null,null,null,null,null,null,null,null,null,null,"349 - LIGURIA VITA"]
[null,null,null,null,null,null,null,null,null,null,null,null,null,null,"241 - LINEAR LIFE"]
[null,null,null,null,null,null,null,null,null,null,null,null,null,null,"295 - LLOYD'S"]
[null,null,null,null,null,null,null,null,null,null,null,null,null,null,"438 - LOMBARDA VITA"]
[null,null,null,null,null,null,null,null,null,null,null,null,null,null,"807 - LONDON GENERAL"]
[null,null,null,null,null,null,null,null,null,null,null,null,null,null,"844 - MAPFRE ASISTENCIA COMP INTERN. DE SEGUROS Y REAS."]
[null,null,null,null,null,null,null,null,null,null,null,null,null,null,"601 - MAPFRE RE, COMPANIA RE REASEGUROS S.A."]
[null,null,null,null,null,null,null,null,null,null,null,null,null,null,"055 - MEDIOLANUM  ASSICURAZIONI"]
[null,null,null,null,null,null,null,null,null,null,null,null,null,null,"841 - MEDIOLANUM INTERNATIONAL LIFE LTD"]
[null,null,null,null,null,null,null,null,null,null,null,null,null,null,"217 - MEDIOLANUM VITA"]
[null,null,null,null,null,null,null,null,null,null,null,null,null,null,"291 - MITSUI SUMITOMO INSURANCE COMPANY"]
[null,null,null,null,null,null,null,null,null,null,null,null,null,null,"882 - MÜNCHENER  RÜCKVERSICHERUNGS GESELLSCHAFT AG"]
[null,null,null,null,null,null,null,null,null,null,null,null,null,null,"170 - NATIONAL VULCAN"]
[null,null,null,null,null,null,null,null,null,null,null,null,null,null,"208 - NATIONALE SUISSE"]
[null,null,null,null,null,null,null,null,null,null,null,null,null,null,"317 - NATIONALE SUISSE VITA"]
[null,null,null,null,null,null,null,null,null,null,null,null,null,null,"441 - NET INSURANCE"]
[null,null,null,null,null,null,null,null,null,null,null,null,null,null,"470 - NET INSURANCE LIFE"]
[null,null,null,null,null,null,null,null,null,null,null,null,null,null,"838 - NIPPONKOA INSURANCE COMPANY (EUROPE)"]
[null,null,null,null,null,null,null,null,null,null,null,null,null,null,"474 - NOBIS COMPAGNIA DI ASSICURAZIONI"]
[null,null,null,null,null,null,null,null,null,null,null,null,null,null,"292 - PADANA ASSICURAZIONI"]
[null,null,null,null,null,null,null,null,null,null,null,null,null,null,"850 - PMI MORTGAGE COMPANY LTD"]
[null,null,null,null,null,null,null,null,null,null,null,null,null,null,"437 - POPOLARE VITA"]
[null,null,null,null,null,null,null,null,null,null,null,null,null,null,"480 - POSTE ASSICURA - Gruppo Assicurativo Poste Vita"]
[null,null,null,null,null,null,null,null,null,null,null,null,null,null,"431 - POSTE VITA - Gruppo Assicurativo Poste Vita"]
[null,null,null,null,null,null,null,null,null,null,null,null,null,null,"345 - PRAMERICA LIFE"]
[null,null,null,null,null,null,null,null,null,null,null,null,null,null,"906 - PROBUS INSURANCE CO."]
[null,null,null,null,null,null,null,null,null,null,null,null,null,null,"397 - PRONTO ASSISTANCE"]
[null,null,null,null,null,null,null,null,null,null,null,null,null,null,"873 - QBE INSURANCE (EUROPE) LIMITED"]
[null,null,null,null,null,null,null,null,null,null,null,null,null,null,"440 - QUIXA"]
[null,null,null,null,null,null,null,null,null,null,null,null,null,null,"812 - R+V ALLGEMEINE"]
[null,null,null,null,null,null,null,null,null,null,null,null,null,null,"263 - RB VITA"]
[null,null,null,null,null,null,null,null,null,null,null,null,null,null,"468 - RBM SALUTE"]
[null,null,null,null,null,null,null,null,null,null,null,null,null,null,"887 - RGA INTERNATIONAL REINSURANCE COMPANY LIMITED"]
[null,null,null,null,null,null,null,null,null,null,null,null,null,null,"407 - RISPARMIO &  PREVIDENZA"]
[null,null,null,null,null,null,null,null,null,null,null,null,null,null,"867 - ROLAND RECHTSSCHUTZ VERSICHERUNG AG"]
[null,null,null,null,null,null,null,null,null,null,null,null,null,null,"605 - ROYAL & SUN ALLIANCE INSURANCE PLC"]
[null,null,null,null,null,null,null,null,null,null,null,null,null,null,"481 - S2C"]
[null,null,null,null,null,null,null,null,null,null,null,null,null,null,"455 - SACE BT"]
[null,null,null,null,null,null,null,null,null,null,null,null,null,null,"450 - SAN MINIATO PREVIDENZA"]
[null,null,null,null,null,null,null,null,null,null,null,null,null,null,"603 - SANTANDER INSURANCE EUROPE LIMITED"]
[null,null,null,null,null,null,null,null,null,null,null,null,null,null,"604 - SANTANDER INSURANCE LIFE LIMITED"]
[null,null,null,null,null,null,null,null,null,null,null,null,null,null,"032 - SARA ASSICURAZIONI"]
[null,null,null,null,null,null,null,null,null,null,null,null,null,null,"294 - SARA VITA"]
[null,null,null,null,null,null,null,null,null,null,null,null,null,null,"840 - SCOR GLOBAL LIFE S.E."]
[null,null,null,null,null,null,null,null,null,null,null,null,null,null,"874 - SCOR GLOBAL P&C S.E."]
[null,null,null,null,null,null,null,null,null,null,null,null,null,null,"907 - SECURA Member of the QBE Group"]
[null,null,null,null,null,null,null,null,null,null,null,null,null,null,"175 - SIAT"]
[null,null,null,null,null,null,null,null,null,null,null,null,null,null,"427 - SKANDIA VITA"]
[null,null,null,null,null,null,null,null,null,null,null,null,null,null,"226 - SLP"]
[null,null,null,null,null,null,null,null,null,null,null,null,null,null,"851 - SOC.SVIZZERA D'ASS.E CONTRO LA GRANDINE, SOC.COOP."]
[null,null,null,null,null,null,null,null,null,null,null,null,null,null,"914 - SOCIETA'  DI ASSIC. - RIASSIC. CITY INSURANCE SA"]
[null,null,null,null,null,null,null,null,null,null,null,null,null,null,"057 - SOCIETA' CATTOLICA"]
[null,null,null,null,null,null,null,null,null,null,null,null,null,null,"035 - SOCIETA' REALE MUTUA"]
[null,null,null,null,null,null,null,null,null,null,null,null,null,null,"895 - SOGECAP"]
[null,null,null,null,null,null,null,null,null,null,null,null,null,null,"894 - SOGECAP RISQUES DIVERS"]
[null,null,null,null,null,null,null,null,null,null,null,null,null,null,"600 - SOGESSUR S.A."]
[null,null,null,null,null,null,null,null,null,null,null,null,null,null,"800 - SOMPO JAPAN INSURANCE COMPANY OF EUROPE LIMITED"]
[null,null,null,null,null,null,null,null,null,null,null,null,null,null,"080 - SUN INSURANCE OFFICE LIMITED RSA"]
[null,null,null,null,null,null,null,null,null,null,null,null,null,null,"888 - SWISS LIFE INSURANCE SOLUTIONS AG"]
[null,null,null,null,null,null,null,null,null,null,null,null,null,null,"817 - SWISS RE EUROPE S.A.  RAPPRESENTANZA PER L'ITALIA"]
[null,null,null,null,null,null,null,null,null,null,null,null,null,null,"886 - SWISS RE INTERNATIONAL SE"]
[null,null,null,null,null,null,null,null,null,null,null,null,null,null,"315 - SYSTEMA ASSICURAZIONI"]
[null,null,null,null,null,null,null,null,null,null,null,null,null,null,"860 - TCRE ITALIA (sede primaria TRADE CREDIT RE S.A. )"]
[null,null,null,null,null,null,null,null,null,null,null,null,null,null,"078 - THE SEA INSURANCE"]
[null,null,null,null,null,null,null,null,null,null,null,null,null,null,"862 - TIROLER VERSICHERUNG VAG"]
[null,null,null,null,null,null,null,null,null,null,null,null,null,null,"267 - TOKIO MARINE EUROPE INSURANCE LIMITED"]
[null,null,null,null,null,null,null,null,null,null,null,null,null,null,"602 - TORUS INSURANCE (UK) LIMITED"]
[null,null,null,null,null,null,null,null,null,null,null,null,null,null,"429 - TUA ASSICURAZIONI"]
[null,null,null,null,null,null,null,null,null,null,null,null,null,null,"475 - TUTELA LEGALE"]
[null,null,null,null,null,null,null,null,null,null,null,null,null,null,"304 - UBI ASSICURAZIONI"]
[null,null,null,null,null,null,null,null,null,null,null,null,null,null,"127 - UCA - ASSICURAZIONE SPESE LEGALI"]
[null,null,null,null,null,null,null,null,null,null,null,null,null,null,"082 - UNIPOL ASSICURAZIONI"]
[null,null,null,null,null,null,null,null,null,null,null,null,null,null,"172 - UNIQA  ASSICURAZIONI"]
[null,null,null,null,null,null,null,null,null,null,null,null,null,null,"478 - UNIQA LIFE"]
[null,null,null,null,null,null,null,null,null,null,null,null,null,null,"828 - UNIQA PERSONENVERSICHERUNG AG"]
[null,null,null,null,null,null,null,null,null,null,null,null,null,null,"314 - UNIQA PREVIDENZA"]
[null,null,null,null,null,null,null,null,null,null,null,null,null,null,"056 - UNIQA PROTEZIONE"]
[null,null,null,null,null,null,null,null,null,null,null,null,null,null,"342 - UNISALUTE"]
[null,null,null,null,null,null,null,null,null,null,null,null,null,null,"849 - VH ITALIA (VEREINIGTE HAGELVERSICHERUNG)"]
[null,null,null,null,null,null,null,null,null,null,null,null,null,null,"038 - VITTORIA ASSICURAZIONI"]
[null,null,null,null,null,null,null,null,null,null,null,null,null,null,"819 - WIENER STÄDTISCHE VERSICHERUNG AG VIENNA INS.GROUP"]
[null,null,null,null,null,null,null,null,null,null,null,null,null,null,"818 - XL INSURANCE COMPANY LIMITED"]
[null,null,null,null,null,null,null,null,null,null,null,null,null,null,"864 - ZURICH INSURANCE PLC"]
[null,null,null,null,null,null,null,null,null,null,null,null,null,null,"143 - ZURICH INVESTMENTS LIFE"]
[null,null,null,null,null,null,null,null,null,null,null,null,null,null,"372 - ZURICH LIFE AND PENSIONS"]
[null,null,null,null,null,null,null,null,null,null,null,null,null,null,"885 - ZURICH LIFE ASSURANCE PLC"]
[null,null,null,null,null,null,null,null,null,null,null,null,null,null,"404 - ZURICH LIFE INSURANCE ITALIA"]
[null,null,null,null,null,null,null,null,null,null,null,null,null,null,"198 - ZURITEL"]

{"sheet":"infortuni_merc_2015","index":49,"n_rows":224,"n_cols":20,"rows_kept":224,"cut":false,"hidden":true,"merged":[[26,0,27,0],[26,1,27,1],[26,2,27,2],[26,3,27,3],[26,4,27,4],[45,0,46,0],[45,1,46,1],[45,2,46,2],[45,3,46,3],[45,4,46,4],[0,0,0,4],[1,0,1,4],[7,0,8,0],[7,1,8,1],[7,2,8,2],[7,3,8,3],[7,4,8,4]]}
["ANIA - Associazione Nazionale fra le Imprese Assicuratrici - Ramo INFORTUNI"]
["> Rilevazione Semestrale dei Premi contabilizzati del Lavoro Diretto Italiano <"]
[null,null,null,null,null,null,null,null,null,null,null,null,null,null,null,null,null,null,null,"Giugno 2010"]
["Compagnia:",null,null,null,"TOTALE",null,null,null,null,null,null,null,null,null,null,null,null,null,null,"Dicembre 2010"]
["Premi Contabilizzati a tutto il mese di:",null,null,null,{"$f":"+'pivot-INF2015'!G1","v":"Dicembre 2015"},"QUOTA MERCATO CAMPIONE",{"$f":"+'pivot-INF2015'!B2","v":{"$error":"#N/A"}},null,null,null,null,null,null,null,null,null,null,null,null,"Giugno 2011"]
[null,"- Valori in Euro arrotondati all'unità -",null,null,null,null,null,null,null,null,null,null,null,null,"417 - ARCA ASSICURAZIONI"]
[null,null,null,null,null,null,null,null,null,null,null,null,null,null,"341 - ARCA VITA"]
["Garanzie - TOTALE POLIZZE",null,"Premi lordi contabilizzati",null,"di cui                                   Premi di nuova produzione",null,null,null,null,null,null,null,null,null,"856 - ARCH INSURANCE COMPANY (EUROPE)"]
[null,null,null,null,null,null,null,null,null,null,null,null,null,null,"814 - AREA LIFE INTERNATIONAL"]
[-1,null,{"$f":"+A10-1","v":-2},null,{"$f":"+C10-1","v":-3},null,null,null,null,null,null,null,null,null,"469 - ARISCOM COMPAGNIA DI ASSICURAZIONI"]
[null,null,null,null,null,null,null,null,null,null,null,null,null,null,"829 - ASPECTA ASSURANCE INTERNATIONAL LUXEMBOURG S.A."]
[null,null,null,null,null,null,null,null,null,null,null,null,null,null,"327 - ASSICURATRICE MILANESE"]
["Morte da infortunio",null,{"$f":"+C32+C51","v":{"$error":"#N/A"}},null,{"$f":"+E32+E51","v":{"$error":"#N/A"}},null,null,null,null,null,null,null,null,null,"085 - ASSICURATRICE VAL PIAVE"]
["Invalidità permanente (parziale o totale) da infortunio",null,{"$f":"+C33+C52","v":{"$error":"#N/A"}},null,{"$f":"+E33+E52","v":{"$error":"#N/A"}},null,null,null,null,null,null,null,null,null,"005 - ASSICURAZIONI GENERALI"]
["Inabilità temporanea",null,{"$f":"+C34+C53","v":{"$error":"#N/A"}},null,{"$f":"+E34+E53","v":{"$error":"#N/A"}},null,null,null,null,null,null,null,null,null,"045 - ASSICURAZIONI RISCHI AGRICOLI VMG 1857"]
["Infortunio del conducente",null,{"$f":"+C35+C54","v":{"$error":"#N/A"}},null,{"$f":"+E35+E54","v":{"$error":"#N/A"}},null,null,null,null,null,null,null,null,null,"254 - ASSIMOCO"]
["Altre garanzie ",null,{"$f":"+C36+C55","v":{"$error":"#N/A"}},null,{"$f":"+E36+E55","v":{"$error":"#N/A"}},null,null,null,null,null,null,null,null,null,"357 - ASSIMOCO VITA"]
["Quota mercato campione",null,null,null,null,null,null,null,null,null,null,null,null,null,"865 - ASSURANT GENERAL INSURANCE LIMITED"]
["TOTALE RAMO",null,{"$f":"+SUM(C13:C17)","v":{"$error":"#N/A"}},null,{"$f":"+SUM(E13:E17)","v":{"$error":"#N/A"}},null,null,null,null,null,null,null,null,null,"866 - ASSURANT LIFE LIMITED"]
["Quota mercato campione",null,null,null,null,null,null,null,null,null,null,null,null,null,"868 - ATLANTICLUX LEBENSVERSICHERUNG SA"]
["TOTALE NUMERO POLIZZE EMESSE",null,{"$f":"+C59+C40","v":600.90702947845807},null,null,null,null,null,null,null,null,null,null,null,"457 - AVIPOP ASSICURAZIONI"]
[null,null,null,null,null,null,null,null,null,null,null,null,null,null,"448 - CHIARA VITA"]
[null,null,null,null,null,null,null,null,null,null,null,null,null,null,"883 - CHUBB INSURANCE COMPANY OF EUROPE SE"]
[null,null,null,null,null,null,null,null,null,null,null,null,null,null,"813 - CIGNA LIFE"]
[null,"- Valori in Euro arrotondati all'unità -",null,null,null,null,null,null,null,null,null,null,null,null,"158 - A.R.A.G.",null,null,null,null,"Dicembre 2011"]
[null,null,null,null,null,null,null,null,null,null,null,null,null,null,"273 - ABC ASSICURA",null,null,null,null,"Giugno 2012"]
["Garanzie -  POLIZZE INDIVIDUALI",null,"Premi lordi contabilizzati",null,"di cui                                   Premi di nuova produzione",null,null,null,null,null,null,null,null,null,"878 - ACE EUROPE LIFE LIMITED",null,null,null,null,"Dicembre 2012"]
[null,null,null,null,null,null,null,null,null,null,null,null,null,null,"853 - ACE EUROPEAN GROUP LTD",null,null,null,null,"Giugno 2013"]
[-1,null,{"$f":"+A29-1","v":-2},null,{"$f":"+C29-1","v":-3},null,null,null,null,null,null,null,null,null,"911 - ADMIRAL INSURANCE COMPANY LIMITED",null,null,null,null,"Dicembre 2013"]
[null,null,null,null,null,null,null,null,null,null,null,null,null,null,"896 - AGA INTERNATIONAL",null,null,null,null,"Giugno 2014"]
[null,null,null,null,null,null,null,null,null,null,null,null,null,null,"872 - AIOI NISSAY DOWA INSURANCE COMPANY OF EUROPE LTD",null,null,null,null,"Dicembre 2014"]
["Morte da infortunio",null,{"$f":"+infort_dati_2015!C32/('pivot-INF2015'!$B$2/100)","v":{"$error":"#N/A"}},null,{"$f":"+infort_dati_2015!E32/('pivot-INF2015'!$B$59/100)","v":{"$error":"#N/A"}},"Somma di INF_MR","Somma di INFNP_MR",null,null,null,null,null,null,null,"392 - ALA ASSICURAZIONI",null,null,null,null,"Giugno 2015"]
["Invalidità permanente (parziale o totale) da infortunio",null,{"$f":"+infort_dati_2015!C33/('pivot-INF2015'!$B$2/100)","v":{"$error":"#N/A"}},null,{"$f":"+infort_dati_2015!E33/('pivot-INF2015'!$B$59/100)","v":{"$error":"#N/A"}},"Somma di INF_IP","Somma di INFNP_IP",null,null,null,null,null,null,null,"408 - ALICO ITALIA",null,null,null,null,"Dicembre 2015"]
["Inabilità temporanea",null,{"$f":"+infort_dati_2015!C34/('pivot-INF2015'!$B$2/100)","v":{"$error":"#N/A"}},null,{"$f":"+infort_dati_2015!E34/('pivot-INF2015'!$B$59/100)","v":{"$error":"#N/A"}},"Somma di INF_IT","Somma di INFNP_IT",null,null,null,null,null,null,null,"835 - ALICO LIFE INTERNATIONAL LIMITED",null,null,null,null,"Giugno 2016"]
["Infortunio del conducente",null,{"$f":"+infort_dati_2015!C35/('pivot-INF2015'!$B$2/100)","v":{"$error":"#N/A"}},null,{"$f":"+infort_dati_2015!E35/('pivot-INF2015'!$B$59/100)","v":{"$error":"#N/A"}},"Somma di INF_COND","Somma di INFNP_COND",null,null,null,null,null,null,null,"008 - ALLEANZA TORO",null,null,null,null,"Dicembre 2016"]
["Altre garanzie ",null,{"$f":"+infort_dati_2015!C36/('pivot-INF2015'!$B$2/100)","v":{"$error":"#N/A"}},null,{"$f":"+infort_dati_2015!E36/('pivot-INF2015'!$B$59/100)","v":{"$error":"#N/A"}},"Somma di INF_AL","Somma di INFNP_AL",null,null,null,null,null,null,null,"880 - ALLIANZ GLOBAL CORPORATE & SPECIALITY AG",null,null,null,null,"Giugno 2017"]
["Quota mercato campione",null,{"$f":"+'pivot-INF2015'!B2","v":{"$error":"#N/A"}},null,{"$f":"+'pivot-INF2015'!B59","v":{"$error":"#N/A"}},null,null,null,null,null,null,null,null,null,"884 - ALLIANZ GLOBAL LIFE LIMITED",null,null,null,null,"Dicembre 2017"]
["TOTALE RAMO",null,{"$f":"+SUM(C32:C36)","v":{"$error":"#N/A"}},null,{"$f":"+SUM(E32:E36)","v":{"$error":"#N/A"}},"Somma di INF_TOT","Somma di INFNP_TOT",null,null,null,null,null,null,null,"003 - ALLIANZ S.P.A.",null,null,null,null,"Giugno 2018"]
["Quota mercato campione",null,{"$f":"+'pivot-INF2015'!D59","v":61.739999999999995},null,null,null,null,null,null,null,null,null,null,null,"892 - ALPHA INSURANCE A/S",null,null,null,null,"Dicembre 2018"]
["TOTALE RISCHI INDIVIDUALI: NUMERO POLIZZE EMESSE",null,{"$f":"+infort_dati_2015!C40/('pivot-INF2015'!$D$59/100)","v":600.90702947845807},null,null,"Somma di INFNUM_POL",null,null,null,null,null,null,null,null,"855 - AMBAC ASSURANCE UK LTD",null,null,null,null,"Giugno 2019"]
[null,null,null,null,null,null,null,null,null,null,null,null,null,null,"364 - ANTONIANA VENETA POPOLARE ASSICURAZIONI",null,null,null,null,"Dicembre 2019"]
[]
[]
[null,"- Valori in Euro arrotondati all'unità -",null,null,null,null,null,null,null,null,null,null,null,null,"417 - ARCA ASSICURAZIONI"]
[null,null,null,null,null,null,null,null,null,null,null,null,null,null,"341 - ARCA VITA"]
["Garanzie - POLIZZE COLLETTIVE",null,"Premi lordi contabilizzati",null,"di cui                                   Premi di nuova produzione",null,null,null,null,null,null,null,null,null,"856 - ARCH INSURANCE COMPANY (EUROPE)"]
[null,null,null,null,null,null,null,null,null,null,null,null,null,null,"814 - AREA LIFE INTERNATIONAL"]
[-1,null,{"$f":"+A48-1","v":-2},null,{"$f":"+C48-1","v":-3},null,null,null,null,null,null,null,null,null,"469 - ARISCOM COMPAGNIA DI ASSICURAZIONI"]
[null,null,null,null,null,null,null,null,null,null,null,null,null,null,"829 - ASPECTA ASSURANCE INTERNATIONAL LUXEMBOURG S.A."]
[null,null,null,null,null,null,null,null,null,null,null,null,null,null,"327 - ASSICURATRICE MILANESE"]
["Morte da infortunio",null,{"$f":"+infort_dati_2015!C51/('pivot-INF2015'!$C$2/100)","v":{"$error":"#N/A"}},null,{"$f":"+infort_dati_2015!E51/('pivot-INF2015'!$C$59/100)","v":{"$error":"#N/A"}},"Somma di INFC_MR","Somma di INFCNP_MR",null,null,null,null,null,null,null,"085 - ASSICURATRICE VAL PIAVE"]
["Invalidità permanente (parziale o totale) da infortunio",null,{"$f":"+infort_dati_2015!C52/('pivot-INF2015'!$C$2/100)","v":{"$error":"#N/A"}},null,{"$f":"+infort_dati_2015!E52/('pivot-INF2015'!$C$59/100)","v":{"$error":"#N/A"}},"Somma di INFC_IP","Somma di INFCNP_IP",null,null,null,null,null,null,null,"005 - ASSICURAZIONI GENERALI"]
["Inabilità temporanea",null,{"$f":"+infort_dati_2015!C53/('pivot-INF2015'!$C$2/100)","v":{"$error":"#N/A"}},null,{"$f":"+infort_dati_2015!E53/('pivot-INF2015'!$C$59/100)","v":{"$error":"#N/A"}},"Somma di INFC_IT","Somma di INFCNP_IT",null,null,null,null,null,null,null,"045 - ASSICURAZIONI RISCHI AGRICOLI VMG 1857"]
["Infortunio del conducente",null,{"$f":"+infort_dati_2015!C54/('pivot-INF2015'!$C$2/100)","v":{"$error":"#N/A"}},null,{"$f":"+infort_dati_2015!E54/('pivot-INF2015'!$C$59/100)","v":{"$error":"#N/A"}},"Somma di INFC_COND","Somma di INFCNP_COND",null,null,null,null,null,null,null,"254 - ASSIMOCO"]
["Altre garanzie ",null,{"$f":"+infort_dati_2015!C55/('pivot-INF2015'!$C$2/100)","v":{"$error":"#N/A"}},null,{"$f":"+infort_dati_2015!E55/('pivot-INF2015'!$C$59/100)","v":{"$error":"#N/A"}},"Somma di INFC_AL","Somma di INFCNP_AL",null,null,null,null,null,null,null,"357 - ASSIMOCO VITA"]
["Quota mercato campione",null,{"$f":"+'pivot-INF2015'!C2","v":{"$error":"#N/A"}},null,{"$f":"+'pivot-INF2015'!C59","v":{"$error":"#N/A"}},null,null,null,null,null,null,null,null,null,"865 - ASSURANT GENERAL INSURANCE LIMITED"]
["TOTALE RAMO",null,{"$f":"+SUM(C51:C55)","v":{"$error":"#N/A"}},null,{"$f":"+SUM(E51:E55)","v":{"$error":"#N/A"}},"Somma di INFC_TOT",null,null,null,null,null,null,null,null,"866 - ASSURANT LIFE LIMITED"]
["Quota mercato campione",null,{"$f":"+'pivot-INF2015'!E59","v":17.990000000000002},null,null,null,null,null,null,null,null,null,null,null,"868 - ATLANTICLUX LEBENSVERSICHERUNG SA"]
["TOTALE NUMERO DI TESTE PER POLIZZE COLLETTIVE EMESSE",null,{"$f":"+infort_dati_2015!C59/('pivot-INF2015'!$E$59/100)","v":0},null,null,"Somma di INFCNUM_POL",null,null,null,null,null,null,null,null,"457 - AVIPOP ASSICURAZIONI"]
[null,null,null,null,null,null,null,null,null,null,null,null,null,null,"477 - AVIPOP VITA"]
[null,null,null,null,null,null,null,null,null,null,null,null,null,null,"339 - AVIVA"]
[null,null,null,null,null,null,null,null,null,null,null,null,null,null,"378 - AVIVA ASSICURAZIONI"]
[null,null,null,null,null,null,null,null,null,null,null,null,null,null,"843 - CLERICAL MEDICAL INVESTMENT GROUP LIMITED"]
[null,null,null,null,null,null,null,null,null,null,null,null,null,null,"857 - CNA INSURANCE COMPANY LTD"]
[null,null,null,null,null,null,null,null,null,null,null,null,null,null,"846 - CNP ASSURANCES"]
[null,null,null,null,null,null,null,null,null,null,null,null,null,null,"891 - CNP BARCLAYS VIDA Y PENSIONES COMP. DE SEGUROS SA"]
[null,null,null,null,null,null,null,null,null,null,null,null,null,null,"848 - CNP IAM S.A."]
[null,null,null,null,null,null,null,null,null,null,null,null,null,null,"426 - CNP UNICREDIT VITA"]
[null,null,null,null,null,null,null,null,null,null,null,null,null,null,"328 - COFACE ASSICURAZIONI"]
[null,null,null,null,null,null,null,null,null,null,null,null,null,null,"416 - COMPAGNIA ASS. LINEAR"]
[null,null,null,null,null,null,null,null,null,null,null,null,null,null,"007 - COMPAGNIA DI ASS. DI MILANO"]
[null,null,null,null,null,null,null,null,null,null,null,null,null,null,"826 - COMPAGNIE FRANCAISE DE DEFENSE ET DE PROTECTION"]
[null,null,null,null,null,null,null,null,null,null,null,null,null,null,"428 - CREDEMASSICURAZIONI"]
[null,null,null,null,null,null,null,null,null,null,null,null,null,null,"383 - CREDEMVITA"]
[null,null,null,null,null,null,null,null,null,null,null,null,null,null,"472 - CREDIT AGRICOLE ASSICURAZIONI"]
[null,null,null,null,null,null,null,null,null,null,null,null,null,null,"350 - CREDIT AGRICOLE VITA"]
[null,null,null,null,null,null,null,null,null,null,null,null,null,null,"854 - CREDIT SUISSE LIFE & PENSION AKTIENGESELLSCHAFT"]
[null,null,null,null,null,null,null,null,null,null,null,null,null,null,"346 - CREDITRAS"]
[null,null,null,null,null,null,null,null,null,null,null,null,null,null,"415 - CREDITRAS VITA"]
[null,null,null,null,null,null,null,null,null,null,null,null,null,null,"142 - D.A.S."]
[null,null,null,null,null,null,null,null,null,null,null,null,null,null,"112 - DIALOGO ASSICURAZIONI"]
[null,null,null,null,null,null,null,null,null,null,null,null,null,null,"432 - DIRECT LINE INSURANCE"]
[null,null,null,null,null,null,null,null,null,null,null,null,null,null,"869 - DONAU VERSICHERUNGS AG VIENNA INSURANCE GROUP"]
[null,null,null,null,null,null,null,null,null,null,null,null,null,null,"020 - DUOMO UNI ONE ASSICURAZIONI"]
[null,null,null,null,null,null,null,null,null,null,null,null,null,null,"473 - ELBA COMPAGNIA DI ASS. NI E RIASS.NI"]
[null,null,null,null,null,null,null,null,null,null,null,null,null,null,"293 - ERGO ASSICURAZIONI"]
[null,null,null,null,null,null,null,null,null,null,null,null,null,null,"381 - ERGO PREVIDENZA"]
[null,null,null,null,null,null,null,null,null,null,null,null,null,null,"606 - EULER HERMES CREDIT INSURANCE BELGIUM N.V."]
[null,null,null,null,null,null,null,null,null,null,null,null,null,null,"909 - EURO INSURANCES LTD."]
[null,null,null,null,null,null,null,null,null,null,null,null,null,null,"390 - EUROP ASSISTANCE ITALIA"]
[null,null,null,null,null,null,null,null,null,null,null,null,null,null,"125 - EUROPA TUTELA GIUDIZIARIA"]
[null,null,null,null,null,null,null,null,null,null,null,null,null,null,"876 - EUROPAISCHE REISEVERSICHERUNG AKTIENGESSELLSCHAFT"]
[null,null,null,null,null,null,null,null,null,null,null,null,null,null,"365 - EUROVITA ASSICURAZIONI"]
[null,null,null,null,null,null,null,null,null,null,null,null,null,null,"016 - FATA ASSICURAZIONI DANNI"]
[null,null,null,null,null,null,null,null,null,null,null,null,null,null,"461 - FATA VITA"]
[null,null,null,null,null,null,null,null,null,null,null,null,null,null,"479 - FIDEURAM VITA"]
[null,null,null,null,null,null,null,null,null,null,null,null,null,null,"400 - FILO DIRETTO"]
[null,null,null,null,null,null,null,null,null,null,null,null,null,null,"852 - FINANCIAL ASSURANCE CO. LTD. (FACL)"]
[null,null,null,null,null,null,null,null,null,null,null,null,null,null,"808 - FINANCIAL INSURANCE CO. LTD (FICL)"]
[null,null,null,null,null,null,null,null,null,null,null,null,null,null,"839 - FM INSURANCE COMPANY LTD"]
[null,null,null,null,null,null,null,null,null,null,null,null,null,null,"034 - FONDIARIA - SAI"]
[null,null,null,null,null,null,null,null,null,null,null,null,null,null,"607 - GAN EUROCOURTAGE"]
[null,null,null,null,null,null,null,null,null,null,null,null,null,null,"821 - GENERAL REINSURANCE MILAN BRANCH"]
[null,null,null,null,null,null,null,null,null,null,null,null,null,null,"247 - GENERTEL"]
[null,null,null,null,null,null,null,null,null,null,null,null,null,null,"445 - GENERTELLIFE"]
[null,null,null,null,null,null,null,null,null,null,null,null,null,null,"139 - GENIALLOYD"]
[null,null,null,null,null,null,null,null,null,null,null,null,null,null,"831 - GENWORTH FINANCIAL MORTGAGE INS. LTD"]
[null,null,null,null,null,null,null,null,null,null,null,null,null,null,"395 - GLOBAL ASSISTANCE"]
[null,null,null,null,null,null,null,null,null,null,null,null,null,null,"420 - GLOBALE RUCKVERSICHERUNGS-AG"]
[null,null,null,null,null,null,null,null,null,null,null,null,null,null,"899 - GREAT LAKES ITALIA"]
[null,null,null,null,null,null,null,null,null,null,null,null,null,null,"151 - GROUPAMA ASSICURAZIONI"]
[null,null,null,null,null,null,null,null,null,null,null,null,null,null,"897 - HARMONIE MUTUALITÉ"]
[null,null,null,null,null,null,null,null,null,null,null,null,null,null,"133 - HDI ASSICURAZIONI"]
[null,null,null,null,null,null,null,null,null,null,null,null,null,null,"218 - HDI-GERLING INDUSTRIE VERSICHERUNG AG."]
[null,null,null,null,null,null,null,null,null,null,null,null,null,null,"019 - HELVETIA SA"]
[null,null,null,null,null,null,null,null,null,null,null,null,null,null,"309 - HELVETIA VITA"]
[null,null,null,null,null,null,null,null,null,null,null,null,null,null,"881 - HOMECARE INSURANCE LIMITED"]
[null,null,null,null,null,null,null,null,null,null,null,null,null,null,"398 - IMA - ITALIA ASSISTANCE"]
[null,null,null,null,null,null,null,null,null,null,null,null,null,null,"004 - INA ASSITALIA"]
[null,null,null,null,null,null,null,null,null,null,null,null,null,null,"458 - INCHIARO ASSICURAZIONI"]
[null,null,null,null,null,null,null,null,null,null,null,null,null,null,"281 - INCONTRA ASSICURAZIONI"]
[null,null,null,null,null,null,null,null,null,null,null,null,null,null,"399 - INTER PARTNER ASSISTANCE"]
[null,null,null,null,null,null,null,null,null,null,null,null,null,null,"871 - INTERNATIONAL INSURANCE COMPANY OF HANNOVER"]
[null,null,null,null,null,null,null,null,null,null,null,null,null,null,"419 - INTESA SANPAOLO ASSICURA"]
[null,null,null,null,null,null,null,null,null,null,null,null,null,null,"910 - INTESA SANPAOLO LIFE LIMITED"]
[null,null,null,null,null,null,null,null,null,null,null,null,null,null,"306 - INTESA SANPAOLO VITA"]
[null,null,null,null,null,null,null,null,null,null,null,null,null,null,"225 - ISI INSURANCE Compagnia di Assicurazioni"]
[null,null,null,null,null,null,null,null,null,null,null,null,null,null,"023 - ITALIANA ASSICURAZIONI"]
[null,null,null,null,null,null,null,null,null,null,null,null,null,null,"223 - ITAS ASSICURAZIONI"]
[null,null,null,null,null,null,null,null,null,null,null,null,null,null,"022 - ITAS MUTUA"]
[null,null,null,null,null,null,null,null,null,null,null,null,null,null,"183 - ITAS VITA"]
[null,null,null,null,null,null,null,null,null,null,null,null,null,null,"810 - LA MONDIALE EUROPARTNER S.A."]
[null,null,null,null,null,null,null,null,null,null,null,null,null,null,"358 - L'ASSICURATRICE ITALIANA VITA"]
[null,null,null,null,null,null,null,null,null,null,null,null,null,null,"212 - LE ASSICURAZIONI DI ROMA"]
[null,null,null,null,null,null,null,null,null,null,null,null,null,null,"361 - LE ASSICURAZIONI DI ROMA VITA"]
[null,null,null,null,null,null,null,null,null,null,null,null,null,null,"088 - LIGURIA"]
[null,null,null,null,null,null,null,null,null,null,null,null,null,null,"349 - LIGURIA VITA"]
[null,null,null,null,null,null,null,null,null,null,null,null,null,null,"241 - LINEAR LIFE"]
[null,null,null,null,null,null,null,null,null,null,null,null,null,null,"295 - LLOYD'S"]
[null,null,null,null,null,null,null,null,null,null,null,null,null,null,"438 - LOMBARDA VITA"]
[null,null,null,null,null,null,null,null,null,null,null,null,null,null,"807 - LONDON GENERAL"]
[null,null,null,null,null,null,null,null,null,null,null,null,null,null,"844 - MAPFRE ASISTENCIA COMP INTERN. DE SEGUROS Y REAS."]
[null,null,null,null,null,null,null,null,null,null,null,null,null,null,"601 - MAPFRE RE, COMPANIA RE REASEGUROS S.A."]
[null,null,null,null,null,null,null,null,null,null,null,null,null,null,"055 - MEDIOLANUM  ASSICURAZIONI"]
[null,null,null,null,null,null,null,null,null,null,null,null,null,null,"841 - MEDIOLANUM INTERNATIONAL LIFE LTD"]
[null,null,null,null,null,null,null,null,null,null,null,null,null,null,"217 - MEDIOLANUM VITA"]
[null,null,null,null,null,null,null,null,null,null,null,null,null,null,"291 - MITSUI SUMITOMO INSURANCE COMPANY"]
[null,null,null,null,null,null,null,null,null,null,null,null,null,null,"882 - MÜNCHENER  RÜCKVERSICHERUNGS GESELLSCHAFT AG"]
[null,null,null,null,null,null,null,null,null,null,null,null,null,null,"170 - NATIONAL VULCAN"]
[null,null,null,null,null,null,null,null,null,null,null,null,null,null,"208 - NATIONALE SUISSE"]
[null,null,null,null,null,null,null,null,null,null,null,null,null,null,"317 - NATIONALE SUISSE VITA"]
[null,null,null,null,null,null,null,null,null,null,null,null,null,null,"441 - NET INSURANCE"]
[null,null,null,null,null,null,null,null,null,null,null,null,null,null,"470 - NET INSURANCE LIFE"]
[null,null,null,null,null,null,null,null,null,null,null,null,null,null,"838 - NIPPONKOA INSURANCE COMPANY (EUROPE)"]
[null,null,null,null,null,null,null,null,null,null,null,null,null,null,"474 - NOBIS COMPAGNIA DI ASSICURAZIONI"]
[null,null,null,null,null,null,null,null,null,null,null,null,null,null,"292 - PADANA ASSICURAZIONI"]
[null,null,null,null,null,null,null,null,null,null,null,null,null,null,"850 - PMI MORTGAGE COMPANY LTD"]
[null,null,null,null,null,null,null,null,null,null,null,null,null,null,"437 - POPOLARE VITA"]
[null,null,null,null,null,null,null,null,null,null,null,null,null,null,"480 - POSTE ASSICURA - Gruppo Assicurativo Poste Vita"]
[null,null,null,null,null,null,null,null,null,null,null,null,null,null,"431 - POSTE VITA - Gruppo Assicurativo Poste Vita"]
[null,null,null,null,null,null,null,null,null,null,null,null,null,null,"345 - PRAMERICA LIFE"]
[null,null,null,null,null,null,null,null,null,null,null,null,null,null,"906 - PROBUS INSURANCE CO."]
[null,null,null,null,null,null,null,null,null,null,null,null,null,null,"397 - PRONTO ASSISTANCE"]
[null,null,null,null,null,null,null,null,null,null,null,null,null,null,"873 - QBE INSURANCE (EUROPE) LIMITED"]
[null,null,null,null,null,null,null,null,null,null,null,null,null,null,"440 - QUIXA"]
[null,null,null,null,null,null,null,null,null,null,null,null,null,null,"812 - R+V ALLGEMEINE"]
[null,null,null,null,null,null,null,null,null,null,null,null,null,null,"263 - RB VITA"]
[null,null,null,null,null,null,null,null,null,null,null,null,null,null,"468 - RBM SALUTE"]
[null,null,null,null,null,null,null,null,null,null,null,null,null,null,"887 - RGA INTERNATIONAL REINSURANCE COMPANY LIMITED"]
[null,null,null,null,null,null,null,null,null,null,null,null,null,null,"407 - RISPARMIO &  PREVIDENZA"]
[null,null,null,null,null,null,null,null,null,null,null,null,null,null,"867 - ROLAND RECHTSSCHUTZ VERSICHERUNG AG"]
[null,null,null,null,null,null,null,null,null,null,null,null,null,null,"605 - ROYAL & SUN ALLIANCE INSURANCE PLC"]
[null,null,null,null,null,null,null,null,null,null,null,null,null,null,"481 - S2C"]
[null,null,null,null,null,null,null,null,null,null,null,null,null,null,"455 - SACE BT"]
[null,null,null,null,null,null,null,null,null,null,null,null,null,null,"450 - SAN MINIATO PREVIDENZA"]
[null,null,null,null,null,null,null,null,null,null,null,null,null,null,"603 - SANTANDER INSURANCE EUROPE LIMITED"]
[null,null,null,null,null,null,null,null,null,null,null,null,null,null,"604 - SANTANDER INSURANCE LIFE LIMITED"]
[null,null,null,null,null,null,null,null,null,null,null,null,null,null,"032 - SARA ASSICURAZIONI"]
[null,null,null,null,null,null,null,null,null,null,null,null,null,null,"294 - SARA VITA"]
[null,null,null,null,null,null,null,null,null,null,null,null,null,null,"840 - SCOR GLOBAL LIFE S.E."]
[null,null,null,null,null,null,null,null,null,null,null,null,null,null,"874 - SCOR GLOBAL P&C S.E."]
[null,null,null,null,null,null,null,null,null,null,null,null,null,null,"907 - SECURA Member of the QBE Group"]
[null,null,null,null,null,null,null,null,null,null,null,null,null,null,"175 - SIAT"]
[null,null,null,null,null,null,null,null,null,null,null,null,null,null,"427 - SKANDIA VITA"]
[null,null,null,null,null,null,null,null,null,null,null,null,null,null,"226 - SLP"]
[null,null,null,null,null,null,null,null,null,null,null,null,null,null,"851 - SOC.SVIZZERA D'ASS.E CONTRO LA GRANDINE, SOC.COOP."]
[null,null,null,null,null,null,null,null,null,null,null,null,null,null,"914 - SOCIETA'  DI ASSIC. - RIASSIC. CITY INSURANCE SA"]
[null,null,null,null,null,null,null,null,null,null,null,null,null,null,"057 - SOCIETA' CATTOLICA"]
[null,null,null,null,null,null,null,null,null,null,null,null,null,null,"035 - SOCIETA' REALE MUTUA"]
[null,null,null,null,null,null,null,null,null,null,null,null,null,null,"895 - SOGECAP"]
[null,null,null,null,null,null,null,null,null,null,null,null,null,null,"894 - SOGECAP RISQUES DIVERS"]
[null,null,null,null,null,null,null,null,null,null,null,null,null,null,"600 - SOGESSUR S.A."]
[null,null,null,null,null,null,null,null,null,null,null,null,null,null,"800 - SOMPO JAPAN INSURANCE COMPANY OF EUROPE LIMITED"]
[null,null,null,null,null,null,null,null,null,null,null,null,null,null,"080 - SUN INSURANCE OFFICE LIMITED RSA"]
[null,null,null,null,null,null,null,null,null,null,null,null,null,null,"888 - SWISS LIFE INSURANCE SOLUTIONS AG"]
[null,null,null,null,null,null,null,null,null,null,null,null,null,null,"817 - SWISS RE EUROPE S.A.  RAPPRESENTANZA PER L'ITALIA"]
[null,null,null,null,null,null,null,null,null,null,null,null,null,null,"886 - SWISS RE INTERNATIONAL SE"]
[null,null,null,null,null,null,null,null,null,null,null,null,null,null,"315 - SYSTEMA ASSICURAZIONI"]
[null,null,null,null,null,null,null,null,null,null,null,null,null,null,"860 - TCRE ITALIA (sede primaria TRADE CREDIT RE S.A. )"]
[null,null,null,null,null,null,null,null,null,null,null,null,null,null,"078 - THE SEA INSURANCE"]
[null,null,null,null,null,null,null,null,null,null,null,null,null,null,"862 - TIROLER VERSICHERUNG VAG"]
[null,null,null,null,null,null,null,null,null,null,null,null,null,null,"267 - TOKIO MARINE EUROPE INSURANCE LIMITED"]
[null,null,null,null,null,null,null,null,null,null,null,null,null,null,"602 - TORUS INSURANCE (UK) LIMITED"]
[null,null,null,null,null,null,null,null,null,null,null,null,null,null,"429 - TUA ASSICURAZIONI"]
[null,null,null,null,null,null,null,null,null,null,null,null,null,null,"475 - TUTELA LEGALE"]
[null,null,null,null,null,null,null,null,null,null,null,null,null,null,"304 - UBI ASSICURAZIONI"]
[null,null,null,null,null,null,null,null,null,null,null,null,null,null,"127 - UCA - ASSICURAZIONE SPESE LEGALI"]
[null,null,null,null,null,null,null,null,null,null,null,null,null,null,"082 - UNIPOL ASSICURAZIONI"]
[null,null,null,null,null,null,null,null,null,null,null,null,null,null,"172 - UNIQA  ASSICURAZIONI"]
[null,null,null,null,null,null,null,null,null,null,null,null,null,null,"478 - UNIQA LIFE"]
[null,null,null,null,null,null,null,null,null,null,null,null,null,null,"828 - UNIQA PERSONENVERSICHERUNG AG"]
[null,null,null,null,null,null,null,null,null,null,null,null,null,null,"314 - UNIQA PREVIDENZA"]
[null,null,null,null,null,null,null,null,null,null,null,null,null,null,"056 - UNIQA PROTEZIONE"]
[null,null,null,null,null,null,null,null,null,null,null,null,null,null,"342 - UNISALUTE"]
[null,null,null,null,null,null,null,null,null,null,null,null,null,null,"849 - VH ITALIA (VEREINIGTE HAGELVERSICHERUNG)"]
[null,null,null,null,null,null,null,null,null,null,null,null,null,null,"038 - VITTORIA ASSICURAZIONI"]
[null,null,null,null,null,null,null,null,null,null,null,null,null,null,"819 - WIENER STÄDTISCHE VERSICHERUNG AG VIENNA INS.GROUP"]
[null,null,null,null,null,null,null,null,null,null,null,null,null,null,"818 - XL INSURANCE COMPANY LIMITED"]
[null,null,null,null,null,null,null,null,null,null,null,null,null,null,"864 - ZURICH INSURANCE PLC"]
[null,null,null,null,null,null,null,null,null,null,null,null,null,null,"143 - ZURICH INVESTMENTS LIFE"]
[null,null,null,null,null,null,null,null,null,null,null,null,null,null,"372 - ZURICH LIFE AND PENSIONS"]
[null,null,null,null,null,null,null,null,null,null,null,null,null,null,"885 - ZURICH LIFE ASSURANCE PLC"]
[null,null,null,null,null,null,null,null,null,null,null,null,null,null,"404 - ZURICH LIFE INSURANCE ITALIA"]
[null,null,null,null,null,null,null,null,null,null,null,null,null,null,"198 - ZURITEL"]

{"sheet":"malat_dati_2015","index":50,"n_rows":223,"n_cols":20,"rows_kept":223,"cut":false,"hidden":true,"merged":[[27,0,28,0],[27,1,28,1],[27,2,28,2],[27,3,28,3],[27,4,28,4],[46,0,47,0],[46,1,47,1],[46,2,47,2],[46,3,47,3],[46,4,47,4],[0,0,0,4],[1,0,1,4],[8,0,9,0],[8,1,9,1],[8,2,9,2],[8,3,9,3],[8,4,9,4]]}
["ANIA - Associazione Nazionale fra le Imprese Assicuratrici - Ramo MALATTIA"]
["> Rilevazione Semestrale dei Premi contabilizzati del Lavoro Diretto Italiano <"]
["dati ricevuti - non riproporzionati",null,null,null,null,null,null,null,null,null,null,null,null,null,null,null,null,null,null,"Giugno 2010"]
["Compagnia:",null,null,null,"TOTALE",null,null,null,null,null,null,null,null,null,null,null,null,null,null,"Dicembre 2010"]
["Premi Contabilizzati a tutto il mese di:",null,null,null,{"$f":"+'pivot-MAL2015'!G1","v":"Giugno 2015"},"QUOTA MERCATO CAMPIONE",{"$f":"+'pivot-MAL2014'!B2","v":{"$error":"#N/A"}},null,null,null,null,null,null,null,null,null,null,null,null,"Giugno 2011"]
[]
[null,"- Valori in Euro arrotondati all'unità -",null,null,null,null,null,null,null,null,null,null,null,null,"417 - ARCA ASSICURAZIONI"]
[null,null,null,null,null,null,null,null,null,null,null,null,null,null,"341 - ARCA VITA"]
["Garanzie - TOTALE POLIZZE",null,"Premi lordi contabilizzati",null,"di cui                                   Premi di nuova produzione",null,null,null,null,null,null,null,null,null,"856 - ARCH INSURANCE COMPANY (EUROPE)"]
[null,null,null,null,null,null,null,null,null,null,null,null,null,null,"814 - AREA LIFE INTERNATIONAL"]
[-1,null,{"$f":"+A11-1","v":-2},null,{"$f":"+C11-1","v":-3},null,null,null,null,null,null,null,null,null,"469 - ARISCOM COMPAGNIA DI ASSICURAZIONI"]
[null,null,null,null,null,null,null,null,null,null,null,null,null,null,"829 - ASPECTA ASSURANCE INTERNATIONAL LUXEMBOURG S.A."]
[null,null,null,null,null,null,null,null,null,null,null,null,null,null,"327 - ASSICURATRICE MILANESE"]
["Rimborso spese mediche",null,{"$f":"+C33+C52","v":3.45},null,{"$f":"+E33+E52","v":3.45},null,null,null,null,null,null,null,null,null,"085 - ASSICURATRICE VAL PIAVE"]
["Invalidità permanente da malattia",null,{"$f":"+C34+C53","v":687.24},null,{"$f":"+E34+E53","v":687.24},null,null,null,null,null,null,null,null,null,"005 - ASSICURAZIONI GENERALI"]
["Diaria",null,{"$f":"+C35+C54","v":63.66},null,{"$f":"+E35+E54","v":63.66},null,null,null,null,null,null,null,null,null,"045 - ASSICURAZIONI RISCHI AGRICOLI VMG 1857"]
["Long Term Care",null,{"$f":"+C36+C55","v":0},null,{"$f":"+E36+E55","v":0},null,null,null,null,null,null,null,null,null,"254 - ASSIMOCO"]
["Altre garanzie ",null,{"$f":"+C37+C56","v":0},null,{"$f":"+E37+E56","v":0},null,null,null,null,null,null,null,null,null,"357 - ASSIMOCO VITA"]
[null,null,null,null,null,null,null,null,null,null,null,null,null,null,"865 - ASSURANT GENERAL INSURANCE LIMITED"]
["TOTALE RAMO",null,{"$f":"+SUM(C14:C18)","v":754.35},null,{"$f":"+SUM(E14:E18)","v":754.35},null,null,null,null,null,null,null,null,null,"866 - ASSURANT LIFE LIMITED"]
[null,null,null,null,null,null,null,null,null,null,null,null,null,null,"868 - ATLANTICLUX LEBENSVERSICHERUNG SA"]
["TOTALE NUMERO POLIZZE EMESSE",null,{"$f":"+C60+C41","v":8},null,null,null,null,null,null,null,null,null,null,null,"816 - ATRADIUS CREDIT INSURANCE NV"]
[null,null,null,null,null,null,null,null,null,null,null,null,null,null,"378 - AVIVA ASSICURAZIONI"]
[null,null,null,null,null,null,null,null,null,null,null,null,null,null,"330 - AVIVA ASSICURAZIONI VITA"]
[null,null,null,null,null,null,null,null,null,null,null,null,null,null,"857 - CNA INSURANCE COMPANY LTD"]
[null,"- Valori in Euro arrotondati all'unità -",null,null,null,null,null,null,null,null,null,null,null,null,"158 - A.R.A.G.",null,null,null,null,"Dicembre 2011"]
[null,null,null,null,null,null,null,null,null,null,null,null,null,null,"273 - ABC ASSICURA",null,null,null,null,"Giugno 2012"]
["Garanzie -  POLIZZE INDIVIDUALI",null,"Premi lordi contabilizzati",null,"di cui                                   Premi di nuova produzione",null,null,null,null,null,null,null,null,null,"878 - ACE EUROPE LIFE LIMITED",null,null,null,null,"Dicembre 2012"]
[null,null,null,null,null,null,null,null,null,null,null,null,null,null,"853 - ACE EUROPEAN GROUP LTD",null,null,null,null,"Giugno 2013"]
[-1,null,{"$f":"+A30-1","v":-2},null,{"$f":"+C30-1","v":-3},null,null,null,null,null,null,null,null,null,"911 - ADMIRAL INSURANCE COMPANY LIMITED",null,null,null,null,"Dicembre 2013"]
[null,null,null,null,null,null,null,null,null,null,null,null,null,null,"896 - AGA INTERNATIONAL",null,null,null,null,"Giugno 2014"]
[null,null,null,null,null,null,null,null,null,null,null,null,null,null,"872 - AIOI NISSAY DOWA INSURANCE COMPANY OF EUROPE LTD",null,null,null,null,"Dicembre 2014"]
["Rimborso spese mediche",null,{"$f":"+HLOOKUP(F33,'pivot-MAL2015'!$F$4:$R$60,49,FALSE)","v":3.45},null,{"$f":"+HLOOKUP(G33,'pivot-MAL2015'!$F$61:$T$121,49,FALSE)","v":3.45},"Somma di MAL_SM","Somma di MALNP_SM",null,null,null,null,null,null,null,"392 - ALA ASSICURAZIONI",null,null,null,null,"Giugno 2015"]
["Invalidità permanente da malattia",null,{"$f":"+HLOOKUP(F34,'pivot-MAL2015'!$F$4:$R$60,49,FALSE)","v":687.24},null,{"$f":"+HLOOKUP(G34,'pivot-MAL2015'!$F$61:$T$121,49,FALSE)","v":687.24},"Somma di MAL_IP","Somma di MALNP_IP",null,null,null,null,null,null,null,"408 - ALICO ITALIA",null,null,null,null,"Dicembre 2015"]
["Diaria",null,{"$f":"+HLOOKUP(F35,'pivot-MAL2015'!$F$4:$R$60,49,FALSE)","v":63.66},null,{"$f":"+HLOOKUP(G35,'pivot-MAL2015'!$F$61:$T$121,49,FALSE)","v":63.66},"Somma di MAL_DI","Somma di MALNP_DI",null,null,null,null,null,null,null,"835 - ALICO LIFE INTERNATIONAL LIMITED",null,null,null,null,"Giugno 2016"]
["Long Term Care",null,{"$f":"+HLOOKUP(F36,'pivot-MAL2015'!$F$4:$R$60,49,FALSE)","v":0},null,{"$f":"+HLOOKUP(G36,'pivot-MAL2015'!$F$61:$T$121,49,FALSE)","v":0},"Somma di MAL_LTC","Somma di MALNP_LTC",null,null,null,null,null,null,null,"008 - ALLEANZA TORO",null,null,null,null,"Dicembre 2016"]
["Altre garanzie ",null,{"$f":"+HLOOKUP(F37,'pivot-MAL2015'!$F$4:$R$60,49,FALSE)","v":0},null,{"$f":"+HLOOKUP(G37,'pivot-MAL2015'!$F$61:$T$121,49,FALSE)","v":0},"Somma di MAL_AL","Somma di MALNP_AL",null,null,null,null,null,null,null,"880 - ALLIANZ GLOBAL CORPORATE & SPECIALITY AG",null,null,null,null,"Giugno 2017"]
[null,null,null,null,null,null,null,null,null,null,null,null,null,null,"884 - ALLIANZ GLOBAL LIFE LIMITED",null,null,null,null,"Dicembre 2017"]
["TOTALE RAMO",null,{"$f":"+SUM(C33:C37)","v":754.35},null,{"$f":"+SUM(E33:E37)","v":754.35},"Somma di MAL_TOT","Somma di MALNP_TOT",null,null,null,null,null,null,null,"003 - ALLIANZ S.P.A.",null,null,null,null,"Giugno 2018"]
[null,null,null,null,null,null,null,null,null,null,null,null,null,null,"892 - ALPHA INSURANCE A/S",null,null,null,null,"Dicembre 2018"]
["TOTALE RISCHI INDIVIDUALI: NUMERO POLIZZE EMESSE",null,{"$f":"+HLOOKUP(F41,'pivot-MAL2015'!$F$61:$R$1116,49,FALSE)","v":8},null,null,"Somma di MALNUM_POL",null,null,null,null,null,null,null,null,"855 - AMBAC ASSURANCE UK LTD",null,null,null,null,"Giugno 2019"]
[null,null,null,null,null,null,null,null,null,null,null,null,null,null,"364 - ANTONIANA VENETA POPOLARE ASSICURAZIONI",null,null,null,null,"Dicembre 2019"]
[]
[]
[null,"- Valori in Euro arrotondati all'unità -",null,null,null,null,null,null,null,null,null,null,null,null,"417 - ARCA ASSICURAZIONI"]
[null,null,null,null,null,null,null,null,null,null,null,null,null,null,"341 - ARCA VITA"]
["Garanzie - POLIZZE COLLETTIVE",null,"Premi lordi contabilizzati",null,"di cui                                   Premi di nuova produzione",null,null,null,null,null,null,null,null,null,"856 - ARCH INSURANCE COMPANY (EUROPE)"]
[null,null,null,null,null,null,null,null,null,null,null,null,null,null,"814 - AREA LIFE INTERNATIONAL"]
[-1,null,{"$f":"+A49-1","v":-2},null,{"$f":"+C49-1","v":-3},null,null,null,null,null,null,null,null,null,"469 - ARISCOM COMPAGNIA DI ASSICURAZIONI"]
[null,null,null,null,null,null,null,null,null,null,null,null,null,null,"829 - ASPECTA ASSURANCE INTERNATIONAL LUXEMBOURG S.A."]
[null,null,null,null,null,null,null,null,null,null,null,null,null,null,"327 - ASSICURATRICE MILANESE"]
["Rimborso spese mediche",null,{"$f":"+HLOOKUP(F52,'pivot-MAL2015'!$F$4:$R$60,49,FALSE)","v":0},null,{"$f":"+HLOOKUP(G52,'pivot-MAL2015'!$F$61:$T$121,49,FALSE)","v":0},"Somma di MALCOL_SM","Somma di MALCNP_SM",null,null,null,null,null,null,null,"085 - ASSICURATRICE VAL PIAVE"]
["Invalidità permanente da malattia",null,{"$f":"+HLOOKUP(F53,'pivot-MAL2015'!$F$4:$R$60,49,FALSE)","v":0},null,{"$f":"+HLOOKUP(G53,'pivot-MAL2015'!$F$61:$T$121,49,FALSE)","v":0},"Somma di MALC_IP","Somma di MALCNP_IP",null,null,null,null,null,null,null,"005 - ASSICURAZIONI GENERALI"]
["Diaria",null,{"$f":"+HLOOKUP(F54,'pivot-MAL2015'!$F$4:$R$60,49,FALSE)","v":0},null,{"$f":"+HLOOKUP(G54,'pivot-MAL2015'!$F$61:$T$121,49,FALSE)","v":0},"Somma di MALC_DI","Somma di MALCNP_DI",null,null,null,null,null,null,null,"045 - ASSICURAZIONI RISCHI AGRICOLI VMG 1857"]
["Long Term Care",null,{"$f":"+HLOOKUP(F55,'pivot-MAL2015'!$F$4:$R$60,49,FALSE)","v":0},null,{"$f":"+HLOOKUP(G55,'pivot-MAL2015'!$F$61:$T$121,49,FALSE)","v":0},"Somma di MALC_LTC","Somma di MALCNP_LTC",null,null,null,null,null,null,null,"254 - ASSIMOCO"]
["Altre garanzie ",null,{"$f":"+HLOOKUP(F56,'pivot-MAL2015'!$F$4:$R$60,49,FALSE)","v":0},null,{"$f":"+HLOOKUP(G56,'pivot-MAL2015'!$F$61:$T$121,49,FALSE)","v":0},"Somma di MALC_AL","Somma di MALCNP_AL",null,null,null,null,null,null,null,"357 - ASSIMOCO VITA"]
[null,null,null,null,null,null,null,null,null,null,null,null,null,null,"865 - ASSURANT GENERAL INSURANCE LIMITED"]
["TOTALE RAMO",null,{"$f":"+SUM(C52:C56)","v":0},null,{"$f":"+SUM(E52:E56)","v":0},"Somma di MALC_TOT","Somma di MALCNP_TOT",null,null,null,null,null,null,null,"866 - ASSURANT LIFE LIMITED"]
[null,null,null,null,null,null,null,null,null,null,null,null,null,null,"868 - ATLANTICLUX LEBENSVERSICHERUNG SA"]
["TOTALE NUMERO DI TESTE PER POLIZZE COLLETTIVE EMESSE",null,{"$f":"+HLOOKUP(F60,'pivot-MAL2015'!$F$61:$T$121,49,FALSE)","v":0},null,null,"Somma di MALCNUM_POL",null,null,null,null,null,null,null,null,"457 - AVIPOP ASSICURAZIONI"]
[null,null,null,null,null,null,null,null,null,null,null,null,null,null,"477 - AVIPOP VITA"]
[]
[null,null,null,null,null,null,null,null,null,null,null,null,null,null,"339 - AVIVA"]
[null,null,null,null,null,null,null,null,null,null,null,null,null,null,"846 - CNP ASSURANCES"]
[null,null,null,null,null,null,null,null,null,null,null,null,null,null,"891 - CNP BARCLAYS VIDA Y PENSIONES COMP. DE SEGUROS SA"]
[null,null,null,null,null,null,null,null,null,null,null,null,null,null,"848 - CNP IAM S.A."]
[null,null,null,null,null,null,null,null,null,null,null,null,null,null,"426 - CNP UNICREDIT VITA"]
[null,null,null,null,null,null,null,null,null,null,null,null,null,null,"328 - COFACE ASSICURAZIONI"]
[null,null,null,null,null,null,null,null,null,null,null,null,null,null,"416 - COMPAGNIA ASS. LINEAR"]
[null,null,null,null,null,null,null,null,null,null,null,null,null,null,"007 - COMPAGNIA DI ASS. DI MILANO"]
[null,null,null,null,null,null,null,null,null,null,null,null,null,null,"826 - COMPAGNIE FRANCAISE DE DEFENSE ET DE PROTECTION"]
[null,null,null,null,null,null,null,null,null,null,null,null,null,null,"428 - CREDEMASSICURAZIONI"]
[null,null,null,null,null,null,null,null,null,null,null,null,null,null,"383 - CREDEMVITA"]
[null,null,null,null,null,null,null,null,null,null,null,null,null,null,"472 - CREDIT AGRICOLE ASSICURAZIONI"]
[null,null,null,null,null,null,null,null,null,null,null,null,null,null,"350 - CREDIT AGRICOLE VITA"]
[null,null,null,null,null,null,null,null,null,null,null,null,null,null,"854 - CREDIT SUISSE LIFE & PENSION AKTIENGESELLSCHAFT"]
[null,null,null,null,null,null,null,null,null,null,null,null,null,null,"346 - CREDITRAS"]
[null,null,null,null,null,null,null,null,null,null,null,null,null,null,"415 - CREDITRAS VITA"]
[null,null,null,null,null,null,null,null,null,null,null,null,null,null,"142 - D.A.S."]
[null,null,null,null,null,null,null,null,null,null,null,null,null,null,"112 - DIALOGO ASSICURAZIONI"]
[null,null,null,null,null,null,null,null,null,null,null,null,null,null,"432 - DIRECT LINE INSURANCE"]
[null,null,null,null,null,null,null,null,null,null,null,null,null,null,"869 - DONAU VERSICHERUNGS AG VIENNA INSURANCE GROUP"]
[null,null,null,null,null,null,null,null,null,null,null,null,null,null,"020 - DUOMO UNI ONE ASSICURAZIONI"]
[null,null,null,null,null,null,null,null,null,null,null,null,null,null,"473 - ELBA COMPAGNIA DI ASS. NI E RIASS.NI"]
[null,null,null,null,null,null,null,null,null,null,null,null,null,null,"293 - ERGO ASSICURAZIONI"]
[null,null,null,null,null,null,null,null,null,null,null,null,null,null,"381 - ERGO PREVIDENZA"]
[null,null,null,null,null,null,null,null,null,null,null,null,null,null,"606 - EULER HERMES CREDIT INSURANCE BELGIUM N.V."]
[null,null,null,null,null,null,null,null,null,null,null,null,null,null,"909 - EURO INSURANCES LTD."]
[null,null,null,null,null,null,null,null,null,null,null,null,null,null,"390 - EUROP ASSISTANCE ITALIA"]
[null,null,null,null,null,null,null,null,null,null,null,null,null,null,"125 - EUROPA TUTELA GIUDIZIARIA"]
[null,null,null,null,null,null,null,null,null,null,null,null,null,null,"876 - EUROPAISCHE REISEVERSICHERUNG AKTIENGESSELLSCHAFT"]
[null,null,null,null,null,null,null,null,null,null,null,null,null,null,"365 - EUROVITA ASSICURAZIONI"]
[null,null,null,null,null,null,null,null,null,null,null,null,null,null,"016 - FATA ASSICURAZIONI DANNI"]
[null,null,null,null,null,null,null,null,null,null,null,null,null,null,"461 - FATA VITA"]
[null,null,null,null,null,null,null,null,null,null,null,null,null,null,"479 - FIDEURAM VITA"]
[null,null,null,null,null,null,null,null,null,null,null,null,null,null,"400 - FILO DIRETTO"]
[null,null,null,null,null,null,null,null,null,null,null,null,null,null,"852 - FINANCIAL ASSURANCE CO. LTD. (FACL)"]
[null,null,null,null,null,null,null,null,null,null,null,null,null,null,"808 - FINANCIAL INSURANCE CO. LTD (FICL)"]
[null,null,null,null,null,null,null,null,null,null,null,null,null,null,"839 - FM INSURANCE COMPANY LTD"]
[null,null,null,null,null,null,null,null,null,null,null,null,null,null,"034 - FONDIARIA - SAI"]
[null,null,null,null,null,null,null,null,null,null,null,null,null,null,"607 - GAN EUROCOURTAGE"]
[null,null,null,null,null,null,null,null,null,null,null,null,null,null,"821 - GENERAL REINSURANCE MILAN BRANCH"]
[null,null,null,null,null,null,null,null,null,null,null,null,null,null,"247 - GENERTEL"]
[null,null,null,null,null,null,null,null,null,null,null,null,null,null,"445 - GENERTELLIFE"]
[null,null,null,null,null,null,null,null,null,null,null,null,null,null,"139 - GENIALLOYD"]
[null,null,null,null,null,null,null,null,null,null,null,null,null,null,"831 - GENWORTH FINANCIAL MORTGAGE INS. LTD"]
[null,null,null,null,null,null,null,null,null,null,null,null,null,null,"395 - GLOBAL ASSISTANCE"]
[null,null,null,null,null,null,null,null,null,null,null,null,null,null,"420 - GLOBALE RUCKVERSICHERUNGS-AG"]
[null,null,null,null,null,null,null,null,null,null,null,null,null,null,"899 - GREAT LAKES ITALIA"]
[null,null,null,null,null,null,null,null,null,null,null,null,null,null,"151 - GROUPAMA ASSICURAZIONI"]
[null,null,null,null,null,null,null,null,null,null,null,null,null,null,"897 - HARMONIE MUTUALITÉ"]
[null,null,null,null,null,null,null,null,null,null,null,null,null,null,"133 - HDI ASSICURAZIONI"]
[null,null,null,null,null,null,null,null,null,null,null,null,null,null,"218 - HDI-GERLING INDUSTRIE VERSICHERUNG AG."]
[null,null,null,null,null,null,null,null,null,null,null,null,null,null,"019 - HELVETIA SA"]
[null,null,null,null,null,null,null,null,null,null,null,null,null,null,"309 - HELVETIA VITA"]
[null,null,null,null,null,null,null,null,null,null,null,null,null,null,"881 - HOMECARE INSURANCE LIMITED"]
[null,null,null,null,null,null,null,null,null,null,null,null,null,null,"398 - IMA - ITALIA ASSISTANCE"]
[null,null,null,null,null,null,null,null,null,null,null,null,null,null,"004 - INA ASSITALIA"]
[null,null,null,null,null,null,null,null,null,null,null,null,null,null,"458 - INCHIARO ASSICURAZIONI"]
[null,null,null,null,null,null,null,null,null,null,null,null,null,null,"281 - INCONTRA ASSICURAZIONI"]
[null,null,null,null,null,null,null,null,null,null,null,null,null,null,"399 - INTER PARTNER ASSISTANCE"]
[null,null,null,null,null,null,null,null,null,null,null,null,null,null,"871 - INTERNATIONAL INSURANCE COMPANY OF HANNOVER"]
[null,null,null,null,null,null,null,null,null,null,null,null,null,null,"419 - INTESA SANPAOLO ASSICURA"]
[null,null,null,null,null,null,null,null,null,null,null,null,null,null,"910 - INTESA SANPAOLO LIFE LIMITED"]
[null,null,null,null,null,null,null,null,null,null,null,null,null,null,"306 - INTESA SANPAOLO VITA"]
[null,null,null,null,null,null,null,null,null,null,null,null,null,null,"225 - ISI INSURANCE Compagnia di Assicurazioni"]
[null,null,null,null,null,null,null,null,null,null,null,null,null,null,"023 - ITALIANA ASSICURAZIONI"]
[null,null,null,null,null,null,null,null,null,null,null,null,null,null,"223 - ITAS ASSICURAZIONI"]
[null,null,null,null,null,null,null,null,null,null,null,null,null,null,"022 - ITAS MUTUA"]
[null,null,null,null,null,null,null,null,null,null,null,null,null,null,"183 - ITAS VITA"]
[null,null,null,null,null,null,null,null,null,null,null,null,null,null,"810 - LA MONDIALE EUROPARTNER S.A."]
[null,null,null,null,null,null,null,null,null,null,null,null,null,null,"358 - L'ASSICURATRICE ITALIANA VITA"]
[null,null,null,null,null,null,null,null,null,null,null,null,null,null,"212 - LE ASSICURAZIONI DI ROMA"]
[null,null,null,null,null,null,null,null,null,null,null,null,null,null,"361 - LE ASSICURAZIONI DI ROMA VITA"]
[null,null,null,null,null,null,null,null,null,null,null,null,null,null,"088 - LIGURIA"]
[null,null,null,null,null,null,null,null,null,null,null,null,null,null,"349 - LIGURIA VITA"]
[null,null,null,null,null,null,null,null,null,null,null,null,null,null,"241 - LINEAR LIFE"]
[null,null,null,null,null,null,null,null,null,null,null,null,null,null,"295 - LLOYD'S"]
[null,null,null,null,null,null,null,null,null,null,null,null,null,null,"438 - LOMBARDA VITA"]
[null,null,null,null,null,null,null,null,null,null,null,null,null,null,"807 - LONDON GENERAL"]
[null,null,null,null,null,null,null,null,null,null,null,null,null,null,"844 - MAPFRE ASISTENCIA COMP INTERN. DE SEGUROS Y REAS."]
[null,null,null,null,null,null,null,null,null,null,null,null,null,null,"601 - MAPFRE RE, COMPANIA RE REASEGUROS S.A."]
[null,null,null,null,null,null,null,null,null,null,null,null,null,null,"055 - MEDIOLANUM  ASSICURAZIONI"]
[null,null,null,null,null,null,null,null,null,null,null,null,null,null,"841 - MEDIOLANUM INTERNATIONAL LIFE LTD"]
[null,null,null,null,null,null,null,null,null,null,null,null,null,null,"217 - MEDIOLANUM VITA"]
[null,null,null,null,null,null,null,null,null,null,null,null,null,null,"291 - MITSUI SUMITOMO INSURANCE COMPANY"]
[null,null,null,null,null,null,null,null,null,null,null,null,null,null,"882 - MÜNCHENER  RÜCKVERSICHERUNGS GESELLSCHAFT AG"]
[null,null,null,null,null,null,null,null,null,null,null,null,null,null,"170 - NATIONAL VULCAN"]
[null,null,null,null,null,null,null,null,null,null,null,null,null,null,"208 - NATIONALE SUISSE"]
[null,null,null,null,null,null,null,null,null,null,null,null,null,null,"317 - NATIONALE SUISSE VITA"]
[null,null,null,null,null,null,null,null,null,null,null,null,null,null,"441 - NET INSURANCE"]
[null,null,null,null,null,null,null,null,null,null,null,null,null,null,"470 - NET INSURANCE LIFE"]
[null,null,null,null,null,null,null,null,null,null,null,null,null,null,"838 - NIPPONKOA INSURANCE COMPANY (EUROPE)"]
[null,null,null,null,null,null,null,null,null,null,null,null,null,null,"474 - NOBIS COMPAGNIA DI ASSICURAZIONI"]
[null,null,null,null,null,null,null,null,null,null,null,null,null,null,"292 - PADANA ASSICURAZIONI"]
[null,null,null,null,null,null,null,null,null,null,null,null,null,null,"850 - PMI MORTGAGE COMPANY LTD"]
[null,null,null,null,null,null,null,null,null,null,null,null,null,null,"437 - POPOLARE VITA"]
[null,null,null,null,null,null,null,null,null,null,null,null,null,null,"480 - POSTE ASSICURA - Gruppo Assicurativo Poste Vita"]
[null,null,null,null,null,null,null,null,null,null,null,null,null,null,"431 - POSTE VITA - Gruppo Assicurativo Poste Vita"]
[null,null,null,null,null,null,null,null,null,null,null,null,null,null,"345 - PRAMERICA LIFE"]
[null,null,null,null,null,null,null,null,null,null,null,null,null,null,"906 - PROBUS INSURANCE CO."]
[null,null,null,null,null,null,null,null,null,null,null,null,null,null,"397 - PRONTO ASSISTANCE"]
[null,null,null,null,null,null,null,null,null,null,null,null,null,null,"873 - QBE INSURANCE (EUROPE) LIMITED"]
[null,null,null,null,null,null,null,null,null,null,null,null,null,null,"440 - QUIXA"]
[null,null,null,null,null,null,null,null,null,null,null,null,null,null,"812 - R+V ALLGEMEINE"]
[null,null,null,null,null,null,null,null,null,null,null,null,null,null,"263 - RB VITA"]
[null,null,null,null,null,null,null,null,null,null,null,null,null,null,"468 - RBM SALUTE"]
[null,null,null,null,null,null,null,null,null,null,null,null,null,null,"887 - RGA INTERNATIONAL REINSURANCE COMPANY LIMITED"]
[null,null,null,null,null,null,null,null,null,null,null,null,null,null,"407 - RISPARMIO &  PREVIDENZA"]
[null,null,null,null,null,null,null,null,null,null,null,null,null,null,"867 - ROLAND RECHTSSCHUTZ VERSICHERUNG AG"]
[null,null,null,null,null,null,null,null,null,null,null,null,null,null,"605 - ROYAL & SUN ALLIANCE INSURANCE PLC"]
[null,null,null,null,null,null,null,null,null,null,null,null,null,null,"481 - S2C"]
[null,null,null,null,null,null,null,null,null,null,null,null,null,null,"455 - SACE BT"]
[null,null,null,null,null,null,null,null,null,null,null,null,null,null,"450 - SAN MINIATO PREVIDENZA"]
[null,null,null,null,null,null,null,null,null,null,null,null,null,null,"603 - SANTANDER INSURANCE EUROPE LIMITED"]
[null,null,null,null,null,null,null,null,null,null,null,null,null,null,"604 - SANTANDER INSURANCE LIFE LIMITED"]
[null,null,null,null,null,null,null,null,null,null,null,null,null,null,"032 - SARA ASSICURAZIONI"]
[null,null,null,null,null,null,null,null,null,null,null,null,null,null,"294 - SARA VITA"]
[null,null,null,null,null,null,null,null,null,null,null,null,null,null,"840 - SCOR GLOBAL LIFE S.E."]
[null,null,null,null,null,null,null,null,null,null,null,null,null,null,"874 - SCOR GLOBAL P&C S.E."]
[null,null,null,null,null,null,null,null,null,null,null,null,null,null,"907 - SECURA Member of the QBE Group"]
[null,null,null,null,null,null,null,null,null,null,null,null,null,null,"175 - SIAT"]
[null,null,null,null,null,null,null,null,null,null,null,null,null,null,"427 - SKANDIA VITA"]
[null,null,null,null,null,null,null,null,null,null,null,null,null,null,"226 - SLP"]
[null,null,null,null,null,null,null,null,null,null,null,null,null,null,"851 - SOC.SVIZZERA D'ASS.E CONTRO LA GRANDINE, SOC.COOP."]
[null,null,null,null,null,null,null,null,null,null,null,null,null,null,"914 - SOCIETA'  DI ASSIC. - RIASSIC. CITY INSURANCE SA"]
[null,null,null,null,null,null,null,null,null,null,null,null,null,null,"057 - SOCIETA' CATTOLICA"]
[null,null,null,null,null,null,null,null,null,null,null,null,null,null,"035 - SOCIETA' REALE MUTUA"]
[null,null,null,null,null,null,null,null,null,null,null,null,null,null,"895 - SOGECAP"]
[null,null,null,null,null,null,null,null,null,null,null,null,null,null,"894 - SOGECAP RISQUES DIVERS"]
[null,null,null,null,null,null,null,null,null,null,null,null,null,null,"600 - SOGESSUR S.A."]
[null,null,null,null,null,null,null,null,null,null,null,null,null,null,"800 - SOMPO JAPAN INSURANCE COMPANY OF EUROPE LIMITED"]
[null,null,null,null,null,null,null,null,null,null,null,null,null,null,"080 - SUN INSURANCE OFFICE LIMITED RSA"]
[null,null,null,null,null,null,null,null,null,null,null,null,null,null,"888 - SWISS LIFE INSURANCE SOLUTIONS AG"]
[null,null,null,null,null,null,null,null,null,null,null,null,null,null,"817 - SWISS RE EUROPE S.A.  RAPPRESENTANZA PER L'ITALIA"]
[null,null,null,null,null,null,null,null,null,null,null,null,null,null,"886 - SWISS RE INTERNATIONAL SE"]
[null,null,null,null,null,null,null,null,null,null,null,null,null,null,"315 - SYSTEMA ASSICURAZIONI"]
[null,null,null,null,null,null,null,null,null,null,null,null,null,null,"860 - TCRE ITALIA (sede primaria TRADE CREDIT RE S.A. )"]
[null,null,null,null,null,null,null,null,null,null,null,null,null,null,"078 - THE SEA INSURANCE"]
[null,null,null,null,null,null,null,null,null,null,null,null,null,null,"862 - TIROLER VERSICHERUNG VAG"]
[null,null,null,null,null,null,null,null,null,null,null,null,null,null,"267 - TOKIO MARINE EUROPE INSURANCE LIMITED"]
[null,null,null,null,null,null,null,null,null,null,null,null,null,null,"602 - TORUS INSURANCE (UK) LIMITED"]
[null,null,null,null,null,null,null,null,null,null,null,null,null,null,"429 - TUA ASSICURAZIONI"]
[null,null,null,null,null,null,null,null,null,null,null,null,null,null,"475 - TUTELA LEGALE"]
[null,null,null,null,null,null,null,null,null,null,null,null,null,null,"304 - UBI ASSICURAZIONI"]
[null,null,null,null,null,null,null,null,null,null,null,null,null,null,"127 - UCA - ASSICURAZIONE SPESE LEGALI"]
[null,null,null,null,null,null,null,null,null,null,null,null,null,null,"082 - UNIPOL ASSICURAZIONI"]
[null,null,null,null,null,null,null,null,null,null,null,null,null,null,"172 - UNIQA  ASSICURAZIONI"]
[null,null,null,null,null,null,null,null,null,null,null,null,null,null,"478 - UNIQA LIFE"]
[null,null,null,null,null,null,null,null,null,null,null,null,null,null,"828 - UNIQA PERSONENVERSICHERUNG AG"]
[null,null,null,null,null,null,null,null,null,null,null,null,null,null,"314 - UNIQA PREVIDENZA"]
[null,null,null,null,null,null,null,null,null,null,null,null,null,null,"056 - UNIQA PROTEZIONE"]
[null,null,null,null,null,null,null,null,null,null,null,null,null,null,"342 - UNISALUTE"]
[null,null,null,null,null,null,null,null,null,null,null,null,null,null,"849 - VH ITALIA (VEREINIGTE HAGELVERSICHERUNG)"]
[null,null,null,null,null,null,null,null,null,null,null,null,null,null,"038 - VITTORIA ASSICURAZIONI"]
[null,null,null,null,null,null,null,null,null,null,null,null,null,null,"819 - WIENER STÄDTISCHE VERSICHERUNG AG VIENNA INS.GROUP"]
[null,null,null,null,null,null,null,null,null,null,null,null,null,null,"818 - XL INSURANCE COMPANY LIMITED"]
[null,null,null,null,null,null,null,null,null,null,null,null,null,null,"864 - ZURICH INSURANCE PLC"]
[null,null,null,null,null,null,null,null,null,null,null,null,null,null,"143 - ZURICH INVESTMENTS LIFE"]
[null,null,null,null,null,null,null,null,null,null,null,null,null,null,"372 - ZURICH LIFE AND PENSIONS"]
[null,null,null,null,null,null,null,null,null,null,null,null,null,null,"885 - ZURICH LIFE ASSURANCE PLC"]
[null,null,null,null,null,null,null,null,null,null,null,null,null,null,"404 - ZURICH LIFE INSURANCE ITALIA"]
[null,null,null,null,null,null,null,null,null,null,null,null,null,null,"198 - ZURITEL"]

{"sheet":"malattia_merc_2015","index":51,"n_rows":222,"n_cols":20,"rows_kept":222,"cut":false,"hidden":true,"merged":[[26,0,27,0],[26,1,27,1],[26,2,27,2],[26,3,27,3],[26,4,27,4],[45,0,46,0],[45,1,46,1],[45,2,46,2],[45,3,46,3],[45,4,46,4],[0,0,0,4],[1,0,1,4],[7,0,8,0],[7,1,8,1],[7,2,8,2],[7,3,8,3],[7,4,8,4]]}
["ANIA - Associazione Nazionale fra le Imprese Assicuratrici - Ramo MALATTIA"]
["> Rilevazione Semestrale dei Premi contabilizzati del Lavoro Diretto Italiano <"]
[null,null,null,null,null,null,null,null,null,null,null,null,null,null,null,null,null,null,null,"Giugno 2010"]
["Compagnia:",null,null,null,"TOTALE",null,null,null,null,null,null,null,null,null,null,null,null,null,null,"Dicembre 2010"]
["Premi Contabilizzati a tutto il mese di:",null,null,null,{"$f":"+'pivot-MAL2015'!G1","v":"Giugno 2015"},"QUOTA MERCATO CAMPIONE",{"$f":"+'pivot-MAL2015'!B2","v":{"$error":"#N/A"}},null,null,null,null,null,null,null,null,null,null,null,null,"Giugno 2011"]
[]
[null,"- Valori in Euro arrotondati all'unità -",null,null,null,null,null,null,null,null,null,null,null,null,"417 - ARCA ASSICURAZIONI"]
["Garanzie - TOTALE POLIZZE",null,"Premi lordi contabilizzati",null,"di cui                                   Premi di nuova produzione",null,null,null,null,null,null,null,null,null,"856 - ARCH INSURANCE COMPANY (EUROPE)"]
[null,null,null,null,null,null,null,null,null,null,null,null,null,null,"814 - AREA LIFE INTERNATIONAL"]
[-1,null,{"$f":"+A10-1","v":-2},null,{"$f":"+C10-1","v":-3},null,null,null,null,null,null,null,null,null,"469 - ARISCOM COMPAGNIA DI ASSICURAZIONI"]
[null,null,null,null,null,null,null,null,null,null,null,null,null,null,"829 - ASPECTA ASSURANCE INTERNATIONAL LUXEMBOURG S.A."]
[null,null,null,null,null,null,null,null,null,null,null,null,null,null,"327 - ASSICURATRICE MILANESE"]
["Rimborso spese mediche",null,{"$f":"+C32+C51","v":{"$error":"#N/A"}},null,{"$f":"+E32+E51","v":{"$error":"#N/A"}},null,null,null,null,null,null,null,null,null,"085 - ASSICURATRICE VAL PIAVE"]
["Invalidità permanente da malattia",null,{"$f":"+C33+C52","v":{"$error":"#N/A"}},null,{"$f":"+E33+E52","v":{"$error":"#N/A"}},null,null,null,null,null,null,null,null,null,"005 - ASSICURAZIONI GENERALI"]
["Diaria",null,{"$f":"+C34+C53","v":{"$error":"#N/A"}},null,{"$f":"+E34+E53","v":{"$error":"#N/A"}},null,null,null,null,null,null,null,null,null,"045 - ASSICURAZIONI RISCHI AGRICOLI VMG 1857"]
["Long Term Care",null,{"$f":"+C35+C54","v":{"$error":"#N/A"}},null,{"$f":"+E35+E54","v":{"$error":"#N/A"}},null,null,null,null,null,null,null,null,null,"254 - ASSIMOCO"]
["Altre garanzie ",null,{"$f":"+C36+C55","v":{"$error":"#N/A"}},null,{"$f":"+E36+E55","v":{"$error":"#N/A"}},null,null,null,null,null,null,null,null,null,"357 - ASSIMOCO VITA"]
[null,null,null,null,null,null,null,null,null,null,null,null,null,null,"865 - ASSURANT GENERAL INSURANCE LIMITED"]
["TOTALE RAMO",null,{"$f":"+SUM(C13:C17)","v":{"$error":"#N/A"}},null,{"$f":"+SUM(E13:E17)","v":{"$error":"#N/A"}},null,null,null,null,null,null,null,null,null,"866 - ASSURANT LIFE LIMITED"]
[null,null,null,null,null,null,null,null,null,null,null,null,null,null,"868 - ATLANTICLUX LEBENSVERSICHERUNG SA"]
["TOTALE NUMERO POLIZZE EMESSE",null,{"$f":"+C59+C40","v":12.254901960784309},null,null,null,null,null,null,null,null,null,null,null,"816 - ATRADIUS CREDIT INSURANCE NV"]
[null,null,null,null,null,null,null,null,null,null,null,null,null,null,"378 - AVIVA ASSICURAZIONI"]
[null,null,null,null,null,null,null,null,null,null,null,null,null,null,"330 - AVIVA ASSICURAZIONI VITA"]
[null,null,null,null,null,null,null,null,null,null,null,null,null,null,"857 - CNA INSURANCE COMPANY LTD"]
[null,"- Valori in Euro arrotondati all'unità -",null,null,null,null,null,null,null,null,null,null,null,null,"158 - A.R.A.G.",null,null,null,null,"Dicembre 2011"]
[null,null,null,null,null,null,null,null,null,null,null,null,null,null,"273 - ABC ASSICURA",null,null,null,null,"Giugno 2012"]
["Garanzie -  POLIZZE INDIVIDUALI",null,"Premi lordi contabilizzati",null,"di cui                                   Premi di nuova produzione",null,null,null,null,null,null,null,null,null,"878 - ACE EUROPE LIFE LIMITED",null,null,null,null,"Dicembre 2012"]
[null,null,null,null,null,null,null,null,null,null,null,null,null,null,"853 - ACE EUROPEAN GROUP LTD",null,null,null,null,"Giugno 2013"]
[-1,null,{"$f":"+A29-1","v":-2},null,{"$f":"+C29-1","v":-3},null,null,null,null,null,null,null,null,null,"911 - ADMIRAL INSURANCE COMPANY LIMITED",null,null,null,null,"Dicembre 2013"]
[null,null,null,null,null,null,null,null,null,null,null,null,null,null,"896 - AGA INTERNATIONAL",null,null,null,null,"Giugno 2014"]
[null,null,null,null,null,null,null,null,null,null,null,null,null,null,"872 - AIOI NISSAY DOWA INSURANCE COMPANY OF EUROPE LTD",null,null,null,null,"Dicembre 2014"]
["Rimborso spese mediche",null,{"$f":"+malat_dati_2015!C33/('pivot-MAL2015'!$B$2/100)","v":{"$error":"#N/A"}},null,{"$f":"+malat_dati_2015!E33/('pivot-MAL2015'!$B$59/100)","v":{"$error":"#N/A"}},"Somma di MAL_SM","Somma di MALNP_SM",null,null,null,null,null,null,null,"392 - ALA ASSICURAZIONI",null,null,null,null,"Giugno 2015"]
["Invalidità permanente da malattia",null,{"$f":"+malat_dati_2015!C34/('pivot-MAL2015'!$B$2/100)","v":{"$error":"#N/A"}},null,{"$f":"+malat_dati_2015!E34/('pivot-MAL2015'!$B$59/100)","v":{"$error":"#N/A"}},"Somma di MAL_IP","Somma di MALNP_IP",null,null,null,null,null,null,null,"408 - ALICO ITALIA",null,null,null,null,"Dicembre 2015"]
["Diaria",null,{"$f":"+malat_dati_2015!C35/('pivot-MAL2015'!$B$2/100)","v":{"$error":"#N/A"}},null,{"$f":"+malat_dati_2015!E35/('pivot-MAL2015'!$B$59/100)","v":{"$error":"#N/A"}},"Somma di MAL_DI","Somma di MALNP_DI",null,null,null,null,null,null,null,"835 - ALICO LIFE INTERNATIONAL LIMITED",null,null,null,null,"Giugno 2016"]
["Long Term Care",null,{"$f":"+malat_dati_2015!C36/('pivot-MAL2015'!$B$2/100)","v":{"$error":"#N/A"}},null,{"$f":"+malat_dati_2015!E36/('pivot-MAL2015'!$B$59/100)","v":{"$error":"#N/A"}},"Somma di MAL_LTC","Somma di MALNP_LTC",null,null,null,null,null,null,null,"008 - ALLEANZA TORO",null,null,null,null,"Dicembre 2016"]
["Altre garanzie ",null,{"$f":"+malat_dati_2015!C37/('pivot-MAL2015'!$B$2/100)","v":{"$error":"#N/A"}},null,{"$f":"+malat_dati_2015!E37/('pivot-MAL2015'!$B$59/100)","v":{"$error":"#N/A"}},"Somma di MAL_AL","Somma di MALNP_AL",null,null,null,null,null,null,null,"880 - ALLIANZ GLOBAL CORPORATE & SPECIALITY AG",null,null,null,null,"Giugno 2017"]
["Quota mercato campione",null,{"$f":"+'pivot-MAL2015'!B2","v":{"$error":"#N/A"}},null,{"$f":"+'pivot-MAL2015'!B59","v":{"$error":"#N/A"}},null,null,null,null,null,null,null,null,null,"884 - ALLIANZ GLOBAL LIFE LIMITED",null,null,null,null,"Dicembre 2017"]
["TOTALE RAMO",null,{"$f":"+SUM(C32:C36)","v":{"$error":"#N/A"}},null,{"$f":"+SUM(E32:E36)","v":{"$error":"#N/A"}},"Somma di MAL_TOT","Somma di MALNP_TOT",null,null,null,null,null,null,null,"003 - ALLIANZ S.P.A.",null,null,null,null,"Giugno 2018"]
["Quota mercato campione",null,{"$f":"+'pivot-MAL2015'!D59","v":65.28000000000003},null,null,null,null,null,null,null,null,null,null,null,"892 - ALPHA INSURANCE A/S",null,null,null,null,"Dicembre 2018"]
["TOTALE RISCHI INDIVIDUALI: NUMERO POLIZZE EMESSE",null,{"$f":"+malat_dati_2015!C41/('pivot-MAL2015'!$D$59/100)","v":12.254901960784309},null,null,"Somma di MALNUM_POL",null,null,null,null,null,null,null,null,"855 - AMBAC ASSURANCE UK LTD",null,null,null,null,"Giugno 2019"]
[null,null,null,null,null,null,null,null,null,null,null,null,null,null,"364 - ANTONIANA VENETA POPOLARE ASSICURAZIONI",null,null,null,null,"Dicembre 2019"]
[]
[]
[null,"- Valori in Euro arrotondati all'unità -",null,null,null,null,null,null,null,null,null,null,null,null,"417 - ARCA ASSICURAZIONI"]
[null,null,null,null,null,null,null,null,null,null,null,null,null,null,"341 - ARCA VITA"]
["Garanzie - POLIZZE COLLETTIVE",null,"Premi lordi contabilizzati",null,"di cui                                   Premi di nuova produzione",null,null,null,null,null,null,null,null,null,"856 - ARCH INSURANCE COMPANY (EUROPE)"]
[null,null,null,null,null,null,null,null,null,null,null,null,null,null,"814 - AREA LIFE INTERNATIONAL"]
[-1,null,{"$f":"+A48-1","v":-2},null,{"$f":"+C48-1","v":-3},null,null,null,null,null,null,null,null,null,"469 - ARISCOM COMPAGNIA DI ASSICURAZIONI"]
[null,null,null,null,null,null,null,null,null,null,null,null,null,null,"829 - ASPECTA ASSURANCE INTERNATIONAL LUXEMBOURG S.A."]
[null,null,null,null,null,null,null,null,null,null,null,null,null,null,"327 - ASSICURATRICE MILANESE"]
["Rimborso spese mediche",null,{"$f":"+malat_dati_2015!C52/('pivot-MAL2015'!$C$2/100)","v":{"$error":"#N/A"}},null,{"$f":"+malat_dati_2015!E52/('pivot-MAL2015'!$C$59/100)","v":{"$error":"#N/A"}},"Somma di MALCOL_SM","Somma di MALCNP_SM",null,null,null,null,null,null,null,"085 - ASSICURATRICE VAL PIAVE"]
["Invalidità permanente da malattia",null,{"$f":"+malat_dati_2015!C53/('pivot-MAL2015'!$C$2/100)","v":{"$error":"#N/A"}},null,{"$f":"+malat_dati_2015!E53/('pivot-MAL2015'!$C$59/100)","v":{"$error":"#N/A"}},"Somma di MALC_IP","Somma di MALCNP_IP",null,null,null,null,null,null,null,"005 - ASSICURAZIONI GENERALI"]
["Diaria",null,{"$f":"+malat_dati_2015!C54/('pivot-MAL2015'!$C$2/100)","v":{"$error":"#N/A"}},null,{"$f":"+malat_dati_2015!E54/('pivot-MAL2015'!$C$59/100)","v":{"$error":"#N/A"}},"Somma di MALC_DI","Somma di MALCNP_DI",null,null,null,null,null,null,null,"045 - ASSICURAZIONI RISCHI AGRICOLI VMG 1857"]
["Long Term Care",null,{"$f":"+malat_dati_2015!C55/('pivot-MAL2015'!$C$2/100)","v":{"$error":"#N/A"}},null,{"$f":"+malat_dati_2015!E55/('pivot-MAL2015'!$C$59/100)","v":{"$error":"#N/A"}},"Somma di MALC_LTC","Somma di MALCNP_LTC",null,null,null,null,null,null,null,"254 - ASSIMOCO"]
["Altre garanzie ",null,{"$f":"+malat_dati_2015!C56/('pivot-MAL2015'!$C$2/100)","v":{"$error":"#N/A"}},null,{"$f":"+malat_dati_2015!E56/('pivot-MAL2015'!$C$59/100)","v":{"$error":"#N/A"}},"Somma di MALC_AL","Somma di MALCNP_AL",null,null,null,null,null,null,null,"357 - ASSIMOCO VITA"]
["Quota mercato campione",null,{"$f":"+'pivot-MAL2015'!C2","v":{"$error":"#N/A"}},null,{"$f":"+'pivot-MAL2015'!C59","v":{"$error":"#N/A"}},null,null,null,null,null,null,null,null,null,"865 - ASSURANT GENERAL INSURANCE LIMITED"]
["TOTALE RAMO",null,{"$f":"+SUM(C51:C55)","v":{"$error":"#N/A"}},null,{"$f":"+SUM(E51:E55)","v":{"$error":"#N/A"}},"Somma di MALC_TOT","Somma di MALCNP_TOT",null,null,null,null,null,null,null,"866 - ASSURANT LIFE LIMITED"]
["Quota mercato campione",null,{"$f":"+'pivot-INF2015'!E59","v":17.990000000000002},null,null,null,null,null,null,null,null,null,null,null,"868 - ATLANTICLUX LEBENSVERSICHERUNG SA"]
["TOTALE NUMERO DI TESTE PER POLIZZE COLLETTIVE EMESSE",null,{"$f":"+malat_dati_2015!C60/('pivot-MAL2015'!$E$59/100)","v":0},null,null,"Somma di MALCNUM_POL",null,null,null,null,null,null,null,null,"457 - AVIPOP ASSICURAZIONI"]
[null,null,null,null,null,null,null,null,null,null,null,null,null,null,"477 - AVIPOP VITA"]
[]
[null,null,null,null,null,null,null,null,null,null,null,null,null,null,"339 - AVIVA"]
[null,null,null,null,null,null,null,null,null,null,null,null,null,null,"846 - CNP ASSURANCES"]
[null,null,null,null,null,null,null,null,null,null,null,null,null,null,"891 - CNP BARCLAYS VIDA Y PENSIONES COMP. DE SEGUROS SA"]
[null,null,null,null,null,null,null,null,null,null,null,null,null,null,"848 - CNP IAM S.A."]
[null,null,null,null,null,null,null,null,null,null,null,null,null,null,"426 - CNP UNICREDIT VITA"]
[null,null,null,null,null,null,null,null,null,null,null,null,null,null,"328 - COFACE ASSICURAZIONI"]
[null,null,null,null,null,null,null,null,null,null,null,null,null,null,"416 - COMPAGNIA ASS. LINEAR"]
[null,null,null,null,null,null,null,null,null,null,null,null,null,null,"007 - COMPAGNIA DI ASS. DI MILANO"]
[null,null,null,null,null,null,null,null,null,null,null,null,null,null,"826 - COMPAGNIE FRANCAISE DE DEFENSE ET DE PROTECTION"]
[null,null,null,null,null,null,null,null,null,null,null,null,null,null,"428 - CREDEMASSICURAZIONI"]
[null,null,null,null,null,null,null,null,null,null,null,null,null,null,"383 - CREDEMVITA"]
[null,null,null,null,null,null,null,null,null,null,null,null,null,null,"472 - CREDIT AGRICOLE ASSICURAZIONI"]
[null,null,null,null,null,null,null,null,null,null,null,null,null,null,"350 - CREDIT AGRICOLE VITA"]
[null,null,null,null,null,null,null,null,null,null,null,null,null,null,"854 - CREDIT SUISSE LIFE & PENSION AKTIENGESELLSCHAFT"]
[null,null,null,null,null,null,null,null,null,null,null,null,null,null,"346 - CREDITRAS"]
[null,null,null,null,null,null,null,null,null,null,null,null,null,null,"415 - CREDITRAS VITA"]
[null,null,null,null,null,null,null,null,null,null,null,null,null,null,"142 - D.A.S."]
[null,null,null,null,null,null,null,null,null,null,null,null,null,null,"112 - DIALOGO ASSICURAZIONI"]
[null,null,null,null,null,null,null,null,null,null,null,null,null,null,"432 - DIRECT LINE INSURANCE"]
[null,null,null,null,null,null,null,null,null,null,null,null,null,null,"869 - DONAU VERSICHERUNGS AG VIENNA INSURANCE GROUP"]
[null,null,null,null,null,null,null,null,null,null,null,null,null,null,"020 - DUOMO UNI ONE ASSICURAZIONI"]
[null,null,null,null,null,null,null,null,null,null,null,null,null,null,"473 - ELBA COMPAGNIA DI ASS. NI E RIASS.NI"]
[null,null,null,null,null,null,null,null,null,null,null,null,null,null,"293 - ERGO ASSICURAZIONI"]
[null,null,null,null,null,null,null,null,null,null,null,null,null,null,"381 - ERGO PREVIDENZA"]
[null,null,null,null,null,null,null,null,null,null,null,null,null,null,"606 - EULER HERMES CREDIT INSURANCE BELGIUM N.V."]
[null,null,null,null,null,null,null,null,null,null,null,null,null,null,"909 - EURO INSURANCES LTD."]
[null,null,null,null,null,null,null,null,null,null,null,null,null,null,"390 - EUROP ASSISTANCE ITALIA"]
[null,null,null,null,null,null,null,null,null,null,null,null,null,null,"125 - EUROPA TUTELA GIUDIZIARIA"]
[null,null,null,null,null,null,null,null,null,null,null,null,null,null,"876 - EUROPAISCHE REISEVERSICHERUNG AKTIENGESSELLSCHAFT"]
[null,null,null,null,null,null,null,null,null,null,null,null,null,null,"365 - EUROVITA ASSICURAZIONI"]
[null,null,null,null,null,null,null,null,null,null,null,null,null,null,"016 - FATA ASSICURAZIONI DANNI"]
[null,null,null,null,null,null,null,null,null,null,null,null,null,null,"461 - FATA VITA"]
[null,null,null,null,null,null,null,null,null,null,null,null,null,null,"479 - FIDEURAM VITA"]
[null,null,null,null,null,null,null,null,null,null,null,null,null,null,"400 - FILO DIRETTO"]
[null,null,null,null,null,null,null,null,null,null,null,null,null,null,"852 - FINANCIAL ASSURANCE CO. LTD. (FACL)"]
[null,null,null,null,null,null,null,null,null,null,null,null,null,null,"808 - FINANCIAL INSURANCE CO. LTD (FICL)"]
[null,null,null,null,null,null,null,null,null,null,null,null,null,null,"839 - FM INSURANCE COMPANY LTD"]
[null,null,null,null,null,null,null,null,null,null,null,null,null,null,"034 - FONDIARIA - SAI"]
[null,null,null,null,null,null,null,null,null,null,null,null,null,null,"607 - GAN EUROCOURTAGE"]
[null,null,null,null,null,null,null,null,null,null,null,null,null,null,"821 - GENERAL REINSURANCE MILAN BRANCH"]
[null,null,null,null,null,null,null,null,null,null,null,null,null,null,"247 - GENERTEL"]
[null,null,null,null,null,null,null,null,null,null,null,null,null,null,"445 - GENERTELLIFE"]
[null,null,null,null,null,null,null,null,null,null,null,null,null,null,"139 - GENIALLOYD"]
[null,null,null,null,null,null,null,null,null,null,null,null,null,null,"831 - GENWORTH FINANCIAL MORTGAGE INS. LTD"]
[null,null,null,null,null,null,null,null,null,null,null,null,null,null,"395 - GLOBAL ASSISTANCE"]
[null,null,null,null,null,null,null,null,null,null,null,null,null,null,"420 - GLOBALE RUCKVERSICHERUNGS-AG"]
[null,null,null,null,null,null,null,null,null,null,null,null,null,null,"899 - GREAT LAKES ITALIA"]
[null,null,null,null,null,null,null,null,null,null,null,null,null,null,"151 - GROUPAMA ASSICURAZIONI"]
[null,null,null,null,null,null,null,null,null,null,null,null,null,null,"897 - HARMONIE MUTUALITÉ"]
[null,null,null,null,null,null,null,null,null,null,null,null,null,null,"133 - HDI ASSICURAZIONI"]
[null,null,null,null,null,null,null,null,null,null,null,null,null,null,"218 - HDI-GERLING INDUSTRIE VERSICHERUNG AG."]
[null,null,null,null,null,null,null,null,null,null,null,null,null,null,"019 - HELVETIA SA"]
[null,null,null,null,null,null,null,null,null,null,null,null,null,null,"309 - HELVETIA VITA"]
[null,null,null,null,null,null,null,null,null,null,null,null,null,null,"881 - HOMECARE INSURANCE LIMITED"]
[null,null,null,null,null,null,null,null,null,null,null,null,null,null,"398 - IMA - ITALIA ASSISTANCE"]
[null,null,null,null,null,null,null,null,null,null,null,null,null,null,"004 - INA ASSITALIA"]
[null,null,null,null,null,null,null,null,null,null,null,null,null,null,"458 - INCHIARO ASSICURAZIONI"]
[null,null,null,null,null,null,null,null,null,null,null,null,null,null,"281 - INCONTRA ASSICURAZIONI"]
[null,null,null,null,null,null,null,null,null,null,null,null,null,null,"399 - INTER PARTNER ASSISTANCE"]
[null,null,null,null,null,null,null,null,null,null,null,null,null,null,"871 - INTERNATIONAL INSURANCE COMPANY OF HANNOVER"]
[null,null,null,null,null,null,null,null,null,null,null,null,null,null,"419 - INTESA SANPAOLO ASSICURA"]
[null,null,null,null,null,null,null,null,null,null,null,null,null,null,"910 - INTESA SANPAOLO LIFE LIMITED"]
[null,null,null,null,null,null,null,null,null,null,null,null,null,null,"306 - INTESA SANPAOLO VITA"]
[null,null,null,null,null,null,null,null,null,null,null,null,null,null,"225 - ISI INSURANCE Compagnia di Assicurazioni"]
[null,null,null,null,null,null,null,null,null,null,null,null,null,null,"023 - ITALIANA ASSICURAZIONI"]
[null,null,null,null,null,null,null,null,null,null,null,null,null,null,"223 - ITAS ASSICURAZIONI"]
[null,null,null,null,null,null,null,null,null,null,null,null,null,null,"022 - ITAS MUTUA"]
[null,null,null,null,null,null,null,null,null,null,null,null,null,null,"183 - ITAS VITA"]
[null,null,null,null,null,null,null,null,null,null,null,null,null,null,"810 - LA MONDIALE EUROPARTNER S.A."]
[null,null,null,null,null,null,null,null,null,null,null,null,null,null,"358 - L'ASSICURATRICE ITALIANA VITA"]
[null,null,null,null,null,null,null,null,null,null,null,null,null,null,"212 - LE ASSICURAZIONI DI ROMA"]
[null,null,null,null,null,null,null,null,null,null,null,null,null,null,"361 - LE ASSICURAZIONI DI ROMA VITA"]
[null,null,null,null,null,null,null,null,null,null,null,null,null,null,"088 - LIGURIA"]
[null,null,null,null,null,null,null,null,null,null,null,null,null,null,"349 - LIGURIA VITA"]
[null,null,null,null,null,null,null,null,null,null,null,null,null,null,"241 - LINEAR LIFE"]
[null,null,null,null,null,null,null,null,null,null,null,null,null,null,"295 - LLOYD'S"]
[null,null,null,null,null,null,null,null,null,null,null,null,null,null,"438 - LOMBARDA VITA"]
[null,null,null,null,null,null,null,null,null,null,null,null,null,null,"807 - LONDON GENERAL"]
[null,null,null,null,null,null,null,null,null,null,null,null,null,null,"844 - MAPFRE ASISTENCIA COMP INTERN. DE SEGUROS Y REAS."]
[null,null,null,null,null,null,null,null,null,null,null,null,null,null,"601 - MAPFRE RE, COMPANIA RE REASEGUROS S.A."]
[null,null,null,null,null,null,null,null,null,null,null,null,null,null,"055 - MEDIOLANUM  ASSICURAZIONI"]
[null,null,null,null,null,null,null,null,null,null,null,null,null,null,"841 - MEDIOLANUM INTERNATIONAL LIFE LTD"]
[null,null,null,null,null,null,null,null,null,null,null,null,null,null,"217 - MEDIOLANUM VITA"]
[null,null,null,null,null,null,null,null,null,null,null,null,null,null,"291 - MITSUI SUMITOMO INSURANCE COMPANY"]
[null,null,null,null,null,null,null,null,null,null,null,null,null,null,"882 - MÜNCHENER  RÜCKVERSICHERUNGS GESELLSCHAFT AG"]
[null,null,null,null,null,null,null,null,null,null,null,null,null,null,"170 - NATIONAL VULCAN"]
[null,null,null,null,null,null,null,null,null,null,null,null,null,null,"208 - NATIONALE SUISSE"]
[null,null,null,null,null,null,null,null,null,null,null,null,null,null,"317 - NATIONALE SUISSE VITA"]
[null,null,null,null,null,null,null,null,null,null,null,null,null,null,"441 - NET INSURANCE"]
[null,null,null,null,null,null,null,null,null,null,null,null,null,null,"470 - NET INSURANCE LIFE"]
[null,null,null,null,null,null,null,null,null,null,null,null,null,null,"838 - NIPPONKOA INSURANCE COMPANY (EUROPE)"]
[null,null,null,null,null,null,null,null,null,null,null,null,null,null,"474 - NOBIS COMPAGNIA DI ASSICURAZIONI"]
[null,null,null,null,null,null,null,null,null,null,null,null,null,null,"292 - PADANA ASSICURAZIONI"]
[null,null,null,null,null,null,null,null,null,null,null,null,null,null,"850 - PMI MORTGAGE COMPANY LTD"]
[null,null,null,null,null,null,null,null,null,null,null,null,null,null,"437 - POPOLARE VITA"]
[null,null,null,null,null,null,null,null,null,null,null,null,null,null,"480 - POSTE ASSICURA - Gruppo Assicurativo Poste Vita"]
[null,null,null,null,null,null,null,null,null,null,null,null,null,null,"431 - POSTE VITA - Gruppo Assicurativo Poste Vita"]
[null,null,null,null,null,null,null,null,null,null,null,null,null,null,"345 - PRAMERICA LIFE"]
[null,null,null,null,null,null,null,null,null,null,null,null,null,null,"906 - PROBUS INSURANCE CO."]
[null,null,null,null,null,null,null,null,null,null,null,null,null,null,"397 - PRONTO ASSISTANCE"]
[null,null,null,null,null,null,null,null,null,null,null,null,null,null,"873 - QBE INSURANCE (EUROPE) LIMITED"]
[null,null,null,null,null,null,null,null,null,null,null,null,null,null,"440 - QUIXA"]
[null,null,null,null,null,null,null,null,null,null,null,null,null,null,"812 - R+V ALLGEMEINE"]
[null,null,null,null,null,null,null,null,null,null,null,null,null,null,"263 - RB VITA"]
[null,null,null,null,null,null,null,null,null,null,null,null,null,null,"468 - RBM SALUTE"]
[null,null,null,null,null,null,null,null,null,null,null,null,null,null,"887 - RGA INTERNATIONAL REINSURANCE COMPANY LIMITED"]
[null,null,null,null,null,null,null,null,null,null,null,null,null,null,"407 - RISPARMIO &  PREVIDENZA"]
[null,null,null,null,null,null,null,null,null,null,null,null,null,null,"867 - ROLAND RECHTSSCHUTZ VERSICHERUNG AG"]
[null,null,null,null,null,null,null,null,null,null,null,null,null,null,"605 - ROYAL & SUN ALLIANCE INSURANCE PLC"]
[null,null,null,null,null,null,null,null,null,null,null,null,null,null,"481 - S2C"]
[null,null,null,null,null,null,null,null,null,null,null,null,null,null,"455 - SACE BT"]
[null,null,null,null,null,null,null,null,null,null,null,null,null,null,"450 - SAN MINIATO PREVIDENZA"]
[null,null,null,null,null,null,null,null,null,null,null,null,null,null,"603 - SANTANDER INSURANCE EUROPE LIMITED"]
[null,null,null,null,null,null,null,null,null,null,null,null,null,null,"604 - SANTANDER INSURANCE LIFE LIMITED"]
[null,null,null,null,null,null,null,null,null,null,null,null,null,null,"032 - SARA ASSICURAZIONI"]
[null,null,null,null,null,null,null,null,null,null,null,null,null,null,"294 - SARA VITA"]
[null,null,null,null,null,null,null,null,null,null,null,null,null,null,"840 - SCOR GLOBAL LIFE S.E."]
[null,null,null,null,null,null,null,null,null,null,null,null,null,null,"874 - SCOR GLOBAL P&C S.E."]
[null,null,null,null,null,null,null,null,null,null,null,null,null,null,"907 - SECURA Member of the QBE Group"]
[null,null,null,null,null,null,null,null,null,null,null,null,null,null,"175 - SIAT"]
[null,null,null,null,null,null,null,null,null,null,null,null,null,null,"427 - SKANDIA VITA"]
[null,null,null,null,null,null,null,null,null,null,null,null,null,null,"226 - SLP"]
[null,null,null,null,null,null,null,null,null,null,null,null,null,null,"851 - SOC.SVIZZERA D'ASS.E CONTRO LA GRANDINE, SOC.COOP."]
[null,null,null,null,null,null,null,null,null,null,null,null,null,null,"914 - SOCIETA'  DI ASSIC. - RIASSIC. CITY INSURANCE SA"]
[null,null,null,null,null,null,null,null,null,null,null,null,null,null,"057 - SOCIETA' CATTOLICA"]
[null,null,null,null,null,null,null,null,null,null,null,null,null,null,"035 - SOCIETA' REALE MUTUA"]
[null,null,null,null,null,null,null,null,null,null,null,null,null,null,"895 - SOGECAP"]
[null,null,null,null,null,null,null,null,null,null,null,null,null,null,"894 - SOGECAP RISQUES DIVERS"]
[null,null,null,null,null,null,null,null,null,null,null,null,null,null,"600 - SOGESSUR S.A."]
[null,null,null,null,null,null,null,null,null,null,null,null,null,null,"800 - SOMPO JAPAN INSURANCE COMPANY OF EUROPE LIMITED"]
[null,null,null,null,null,null,null,null,null,null,null,null,null,null,"080 - SUN INSURANCE OFFICE LIMITED RSA"]
[null,null,null,null,null,null,null,null,null,null,null,null,null,null,"888 - SWISS LIFE INSURANCE SOLUTIONS AG"]
[null,null,null,null,null,null,null,null,null,null,null,null,null,null,"817 - SWISS RE EUROPE S.A.  RAPPRESENTANZA PER L'ITALIA"]
[null,null,null,null,null,null,null,null,null,null,null,null,null,null,"886 - SWISS RE INTERNATIONAL SE"]
[null,null,null,null,null,null,null,null,null,null,null,null,null,null,"315 - SYSTEMA ASSICURAZIONI"]
[null,null,null,null,null,null,null,null,null,null,null,null,null,null,"860 - TCRE ITALIA (sede primaria TRADE CREDIT RE S.A. )"]
[null,null,null,null,null,null,null,null,null,null,null,null,null,null,"078 - THE SEA INSURANCE"]
[null,null,null,null,null,null,null,null,null,null,null,null,null,null,"862 - TIROLER VERSICHERUNG VAG"]
[null,null,null,null,null,null,null,null,null,null,null,null,null,null,"267 - TOKIO MARINE EUROPE INSURANCE LIMITED"]
[null,null,null,null,null,null,null,null,null,null,null,null,null,null,"602 - TORUS INSURANCE (UK) LIMITED"]
[null,null,null,null,null,null,null,null,null,null,null,null,null,null,"429 - TUA ASSICURAZIONI"]
[null,null,null,null,null,null,null,null,null,null,null,null,null,null,"475 - TUTELA LEGALE"]
[null,null,null,null,null,null,null,null,null,null,null,null,null,null,"304 - UBI ASSICURAZIONI"]
[null,null,null,null,null,null,null,null,null,null,null,null,null,null,"127 - UCA - ASSICURAZIONE SPESE LEGALI"]
[null,null,null,null,null,null,null,null,null,null,null,null,null,null,"082 - UNIPOL ASSICURAZIONI"]
[null,null,null,null,null,null,null,null,null,null,null,null,null,null,"172 - UNIQA  ASSICURAZIONI"]
[null,null,null,null,null,null,null,null,null,null,null,null,null,null,"478 - UNIQA LIFE"]
[null,null,null,null,null,null,null,null,null,null,null,null,null,null,"828 - UNIQA PERSONENVERSICHERUNG AG"]
[null,null,null,null,null,null,null,null,null,null,null,null,null,null,"314 - UNIQA PREVIDENZA"]
[null,null,null,null,null,null,null,null,null,null,null,null,null,null,"056 - UNIQA PROTEZIONE"]
[null,null,null,null,null,null,null,null,null,null,null,null,null,null,"342 - UNISALUTE"]
[null,null,null,null,null,null,null,null,null,null,null,null,null,null,"849 - VH ITALIA (VEREINIGTE HAGELVERSICHERUNG)"]
[null,null,null,null,null,null,null,null,null,null,null,null,null,null,"038 - VITTORIA ASSICURAZIONI"]
[null,null,null,null,null,null,null,null,null,null,null,null,null,null,"819 - WIENER STÄDTISCHE VERSICHERUNG AG VIENNA INS.GROUP"]
[null,null,null,null,null,null,null,null,null,null,null,null,null,null,"818 - XL INSURANCE COMPANY LIMITED"]
[null,null,null,null,null,null,null,null,null,null,null,null,null,null,"864 - ZURICH INSURANCE PLC"]
[null,null,null,null,null,null,null,null,null,null,null,null,null,null,"143 - ZURICH INVESTMENTS LIFE"]
[null,null,null,null,null,null,null,null,null,null,null,null,null,null,"372 - ZURICH LIFE AND PENSIONS"]
[null,null,null,null,null,null,null,null,null,null,null,null,null,null,"885 - ZURICH LIFE ASSURANCE PLC"]
[null,null,null,null,null,null,null,null,null,null,null,null,null,null,"404 - ZURICH LIFE INSURANCE ITALIA"]
[null,null,null,null,null,null,null,null,null,null,null,null,null,null,"198 - ZURITEL"]

{"sheet":"infortuni-giugno2013","index":52,"n_rows":211,"n_cols":26,"rows_kept":211,"cut":false,"hidden":true,"merged":[[45,10,46,10],[26,8,27,8],[26,10,27,10],[45,0,46,0],[45,1,46,1],[45,2,46,2],[45,3,46,3],[45,4,46,4],[45,6,46,6],[45,7,46,7],[45,8,46,8],[7,7,8,7],[7,8,8,8],[7,10,8,10],[26,0,27,0],[26,1,27,1],[26,2,27,2],[26,3,27,3],[26,4,27,4],[26,6,27,6],[26,7,27,7],[0,0,0,6],[1,0,1,6],[7,0,8,0],[7,1,8,1],[7,2,8,2],[7,3,8,3],[7,4,8,4],[7,6,8,6]]}
["ANIA - Associazione Nazionale fra le Imprese Assicuratrici - Ramo INFORTUNI"]
["> Rilevazione Semestrale dei Premi contabilizzati del Lavoro Diretto Italiano <"]
[null,null,null,null,null,null,null,null,null,null,null,null,null,null,null,null,null,null,null,null,null,null,null,null,null,"Giugno 2010"]
["Compagnia:",null,null,"TOTALE",null,null,null,null,null,null,null,null,null,null,null,null,null,null,null,null,null,null,null,null,null,"Dicembre 2010"]
["Premi Contabilizzati a tutto il mese di:",null,null,"Giugno 2013",null,null,"QUOTA MERCATO CAMPIONE",42.290000000000013,null,null,null,null,null,null,null,null,null,null,null,null,null,null,null,null,null,"Giugno 2011"]
[null,"- Valori in Euro arrotondati all'unità -",null,null,null,null,null,null,null,null,null,null,null,null,null,null,null,null,null,null,"417 - ARCA ASSICURAZIONI"]
[null,null,null,null,null,null,null,null,null,null,null,null,null,null,null,null,null,null,null,null,"814 - AREA LIFE INTERNATIONAL"]
["Garanzie - TOTALE POLIZZE",null,"Premi lordi contabilizzati","Distrib.","Variaz. annua",null,"di cui                                   Premi di nuova produzione","Distrib.","Variaz. annua",null,"Incid.",null,null,null,null,null,null,null,null,null,"469 - ARISCOM COMPAGNIA DI ASSICURAZIONI"]
[null,null,null,null,null,null,null,null,null,null,null,null,null,null,null,null,null,null,null,null,"829 - ASPECTA ASSURANCE INTERNATIONAL LUXEMBOURG S.A."]
[-1,null,-2,-3,-4,null,-5,-6,-7,null,"(8)=(5)/(2)",null,null,null,null,null,null,null,null,null,"327 - ASSICURATRICE MILANESE"]
[null,null,null,null,null,null,null,null,null,null,null,null,null,null,null,null,null,null,null,null,"085 - ASSICURATRICE VAL PIAVE"]
[null,null,null,null,null,null,null,null,null,null,null,null,null,null,null,null,null,null,null,null,"005 - ASSICURAZIONI GENERALI"]
["Morte da infortunio",null,294975896.8586536,0.1682023725711021,2.6914789424439922E-2,null,41028604.026218623,0.15141242709276245,1.4616185936716874E-2,null,0.13909137818768524,null,null,null,null,null,null,null,null,null,"045 - ASSICURAZIONI RISCHI AGRICOLI VMG 1857"]
["Invalidità permanente (parziale o totale) da infortunio",null,487715299.06478173,0.2781070294744466,-1.6521672931982367E-2,null,65518408.967338175,0.24178988187513004,3.0692486781964678E-2,null,0.13433740769045582,null,null,null,null,null,null,null,null,null,"254 - ASSIMOCO"]
["Inabilità temporanea",null,161797104.56446353,9.2260612316802826E-2,9.131672995551221E-2,null,26565418.456652392,9.8037322514950856E-2,3.4438589657493468E-2,null,0.16418970245581957,null,null,null,null,null,null,null,null,null,"357 - ASSIMOCO VITA"]
["Infortunio del conducente",null,510448646.97914344,0.29107013288866301,2.5756482876841957E-2,null,92326849.22703898,0.34072405481698076,0.20884712190557764,null,0.1808739229174828,null,null,null,null,null,null,null,null,null,"865 - ASSURANT GENERAL INSURANCE LIMITED"]
["Altre garanzie ",null,298759462.10032046,0.17035985274898549,-4.9921477325429731E-2,null,45533220.153760567,0.16803631370017594,0.19285625365455417,null,0.15240762529713942,null,null,null,null,null,null,null,null,null,"866 - ASSURANT LIFE LIMITED"]
[null,null,null,null,null,null,null,null,null,null,null,null,null,null,null,null,null,null,null,null,"868 - ATLANTICLUX LEBENSVERSICHERUNG SA"]
["TOTALE RAMO",null,1753696409.5673628,1,5.8476765324420032E-3,null,270972500.83100873,1,0.10948142484166068,null,0.15451505708325974,null,null,null,null,null,null,null,null,null,"457 - AVIPOP ASSICURAZIONI"]
[null,null,null,null,null,null,null,null,null,null,null,null,null,null,null,null,null,null,null,null,"330 - AVIVA ASSICURAZIONI VITA"]
["TOTALE NUMERO DI TESTE PER POLIZZE  EMESSE",null,21659080.478009164,null,0.13082517983286301,null,null,null,null,null,null,null,null,null,null,null,null,null,null,null,"826 - COMPAGNIE FRANCAISE DE DEFENSE ET DE PROTECTION"]
[null,null,null,null,null,null,null,null,null,null,null,null,null,null,null,null,null,null,null,null,"428 - CREDEMASSICURAZIONI"]
[null,null,null,null,null,null,null,null,null,null,null,null,null,null,null,null,null,null,null,null,"383 - CREDEMVITA"]
[null,null,null,null,null,null,null,null,null,null,null,null,null,null,null,null,null,null,null,null,"472 - CREDIT AGRICOLE ASSICURAZIONI"]
[null,"- Valori in Euro arrotondati all'unità -",null,null,null,null,null,null,null,null,null,null,null,null,null,null,null,null,null,null,"158 - A.R.A.G.",null,null,null,null,"Dicembre 2011"]
[null,null,null,null,null,null,null,null,null,null,null,null,null,null,null,null,null,null,null,null,"273 - ABC ASSICURA",null,null,null,null,"Giugno 2012"]
["Garanzie -  POLIZZE INDIVIDUALI",null,"Premi lordi contabilizzati","Distrib.","Variaz. annua",null,"di cui                                   Premi di nuova produzione","Distrib.","Variaz. annua",null,"Incid.",null,null,null,null,null,null,null,null,null,"878 - ACE EUROPE LIFE LIMITED",null,null,null,null,"Dicembre 2012"]
[null,null,null,null,null,null,null,null,null,null,null,null,null,null,null,null,null,null,null,null,"853 - ACE EUROPEAN GROUP LTD",null,null,null,null,"Giugno 2013"]
[-1,null,-2,-3,-4,null,-5,-6,-7,null,"(8)=(5)/(2)",null,null,null,null,null,null,null,null,null,"911 - ADMIRAL INSURANCE COMPANY LIMITED",null,null,null,null,"Dicembre 2013"]
[null,null,null,null,null,null,null,null,null,null,null,null,null,null,null,null,null,null,null,null,"896 - AGA INTERNATIONAL",null,null,null,null,"Giugno 2014"]
[null,null,null,null,null,null,null,null,null,null,null,null,null,null,null,null,null,null,null,null,"872 - AIOI NISSAY DOWA INSURANCE COMPANY OF EUROPE LTD",null,null,null,null,"Dicembre 2014"]
["Morte da infortunio",null,172083115.180215,0.12952404818461855,8.2078413170164621E-2,null,23049907.732260004,0.11818648387719975,2.650887467909957E-2,null,0.13394636486049696,null,null,null,null,null,null,null,null,null,"392 - ALA ASSICURAZIONI",null,null,null,null,"Giugno 2015"]
["Invalidità permanente (parziale o totale) da infortunio",null,357468885.67830211,0.26906077987145638,-3.7022092984675403E-3,null,42483819.784327582,0.21783225079703994,6.0216974269470036E-2,null,0.11884620308621813,null,null,null,null,null,null,null,null,null,"408 - ALICO ITALIA",null,null,null,null,"Dicembre 2015"]
["Inabilità temporanea",null,61440440.959109537,4.6245179993039058E-2,-6.0729388482950508E-2,null,4746288.1596852243,2.4336197592500382E-2,-2.4251937707510107E-2,null,7.7250229418828906E-2,null,null,null,null,null,null,null,null,null,"835 - ALICO LIFE INTERNATIONAL LIMITED",null,null,null,null,"Giugno 2016"]
["Infortunio del conducente",null,481893719.10955149,0.36271324602907273,4.2717921194221686E-2,null,89229750.711939886,0.45751812182413643,0.21272210835801442,null,0.18516479292741064,null,null,null,null,null,null,null,null,null,"008 - ALLEANZA TORO",null,null,null,null,"Dicembre 2016"]
["Altre garanzie ",null,255694265.58122146,0.19245674592181336,-2.9495149398218401E-2,null,35520214.842210695,0.18212694590912351,0.25372829560612642,null,0.13891674403205445,null,null,null,null,null,null,null,null,null,"880 - ALLIANZ GLOBAL CORPORATE & SPECIALITY AG",null,null,null,null,"Giugno 2017"]
[null,null,null,null,null,null,null,null,null,null,null,null,null,null,null,null,null,null,null,null,"884 - ALLIANZ GLOBAL LIFE LIMITED",null,null,null,null,"Dicembre 2017"]
["TOTALE RAMO",null,1328580426.5083995,1,1.5069118578300067E-2,null,195029981.23042339,1,0.15198184765557587,null,0.14679576587092702,null,null,null,null,null,null,null,null,null,"003 - ALLIANZ S.P.A.",null,null,null,null,"Giugno 2018"]
[null,null,null,null,null,null,null,null,null,null,null,null,null,null,null,null,null,null,null,null,"892 - ALPHA INSURANCE A/S",null,null,null,null,"Dicembre 2018"]
["TOTALE RISCHI INDIVIDUALI: NUMERO POLIZZE EMESSE",null,15681036.999748293,null,0.11526161615523223,null,"QUOTA MERCATO CAMPIONE PER LE POLIZZE INDIV.",null,null,null,0.39730000000000021,null,null,null,null,null,null,null,null,null,"855 - AMBAC ASSURANCE UK LTD",null,null,null,null,"Giugno 2019"]
[null,null,null,null,null,null,null,null,null,null,null,null,null,null,null,null,null,null,null,null,"364 - ANTONIANA VENETA POPOLARE ASSICURAZIONI",null,null,null,null,"Dicembre 2019"]
[]
[]
[null,"- Valori in Euro arrotondati all'unità -",null,null,null,null,null,null,null,null,null,null,null,null,null,null,null,null,null,null,"417 - ARCA ASSICURAZIONI"]
[null,null,null,null,null,null,null,null,null,null,null,null,null,null,null,null,null,null,null,null,"341 - ARCA VITA"]
["Garanzie - POLIZZE COLLETTIVE",null,"Premi lordi contabilizzati","Distrib.","Variaz. annua",null,"di cui                                   Premi di nuova produzione","Distrib.","Variaz. annua",null,"Incid.",null,null,null,null,null,null,null,null,null,"856 - ARCH INSURANCE COMPANY (EUROPE)"]
[null,null,null,null,null,null,null,null,null,null,null,null,null,null,null,null,null,null,null,null,"814 - AREA LIFE INTERNATIONAL"]
[-1,null,-2,-3,-4,null,-5,-6,-7,null,"(8)=(5)/(2)",null,null,null,null,null,null,null,null,null,"469 - ARISCOM COMPAGNIA DI ASSICURAZIONI"]
[null,null,null,null,null,null,null,null,null,null,null,null,null,null,null,null,null,null,null,null,"829 - ASPECTA ASSURANCE INTERNATIONAL LUXEMBOURG S.A."]
[null,null,null,null,null,null,null,null,null,null,null,null,null,null,null,null,null,null,null,null,"327 - ASSICURATRICE MILANESE"]
["Morte da infortunio",null,122892781.6784386,0.28908059582740619,-4.1507067155442945E-2,null,17978696.293958619,0.23674084542515023,-2.3382516952241694E-4,null,0.14629578766474419,null,null,null,null,null,null,null,null,null,"085 - ASSICURATRICE VAL PIAVE"]
["Invalidità permanente (parziale o totale) da infortunio",null,130246413.3864796,0.30637853803867576,-5.0068052369591221E-2,null,23034589.183010597,0.30331610412927423,-1.9658511308322857E-2,null,0.17685392314535497,null,null,null,null,null,null,null,null,null,"005 - ASSICURAZIONI GENERALI"]
["Inabilità temporanea",null,100356663.605354,0.23606890261624114,0.21136862931291045,null,21819130.296967167,0.28731111914278634,4.8152824736803712E-2,null,0.21741585972576238,null,null,null,null,null,null,null,null,null,"045 - ASSICURAZIONI RISCHI AGRICOLI VMG 1857"]
["Infortunio del conducente",null,28554927.869591959,6.7169734866523279E-2,-0.19517894701967664,null,3097098.5150990989,4.0782140642529156E-2,0.10694363161717146,null,0.10846108697046257,null,null,null,null,null,null,null,null,null,"254 - ASSIMOCO"]
["Altre garanzie ",null,43065196.519098982,0.10130222865115349,-0.15545921320194833,null,10013005.311549874,0.13184979066026004,1.7589963181724233E-2,null,0.23250806035702651,null,null,null,null,null,null,null,null,null,"357 - ASSIMOCO VITA"]
[null,null,null,null,null,null,null,null,null,null,null,null,null,null,null,null,null,null,null,null,"865 - ASSURANT GENERAL INSURANCE LIMITED"]
["TOTALE RAMO",null,425115983.05896318,1,-2.1921148909266774E-2,null,75942519.600585356,1,1.3459503550974805E-2,null,0.17863953045033407,null,null,null,null,null,null,null,null,null,"866 - ASSURANT LIFE LIMITED"]
[null,null,null,null,null,null,null,null,null,null,null,null,null,null,null,null,null,null,null,null,"868 - ATLANTICLUX LEBENSVERSICHERUNG SA"]
["TOTALE NUMERO DI TESTE PER POLIZZE COLLETTIVE EMESSE",null,5978043.478260871,null,0.17379260926833839,null,"QUOTA MERCATO CAMPIONE PER LE POLIZZE COLL.",null,null,null,9.6599999999999978E-2,null,null,null,null,null,null,null,null,null,"457 - AVIPOP ASSICURAZIONI"]
[null,null,null,null,null,null,null,null,null,null,null,null,null,null,null,null,null,null,null,null,"477 - AVIPOP VITA"]
[null,null,null,null,null,null,null,null,null,null,null,null,null,null,null,null,null,null,null,null,"339 - AVIVA"]
[null,null,null,null,null,null,null,null,null,null,null,null,null,null,null,null,null,null,null,null,"378 - AVIVA ASSICURAZIONI"]
[null,null,null,null,null,null,null,null,null,null,null,null,null,null,null,null,null,null,null,null,"350 - CREDIT AGRICOLE VITA"]
[null,null,null,null,null,null,null,null,null,null,null,null,null,null,null,null,null,null,null,null,"854 - CREDIT SUISSE LIFE & PENSION AKTIENGESELLSCHAFT"]
[null,null,null,null,null,null,null,null,null,null,null,null,null,null,null,null,null,null,null,null,"346 - CREDITRAS"]
[null,null,null,null,null,null,null,null,null,null,null,null,null,null,null,null,null,null,null,null,"415 - CREDITRAS VITA"]
[null,null,null,null,null,null,null,null,null,null,null,null,null,null,null,null,null,null,null,null,"142 - D.A.S."]
[null,null,null,null,null,null,null,null,null,null,null,null,null,null,null,null,null,null,null,null,"112 - DIALOGO ASSICURAZIONI"]
[null,null,null,null,null,null,null,null,null,null,null,null,null,null,null,null,null,null,null,null,"432 - DIRECT LINE INSURANCE"]
[null,null,null,null,null,null,null,null,null,null,null,null,null,null,null,null,null,null,null,null,"869 - DONAU VERSICHERUNGS AG VIENNA INSURANCE GROUP"]
[null,null,null,null,null,null,null,null,null,null,null,null,null,null,null,null,null,null,null,null,"020 - DUOMO UNI ONE ASSICURAZIONI"]
[null,null,null,null,null,null,null,null,null,null,null,null,null,null,null,null,null,null,null,null,"473 - ELBA COMPAGNIA DI ASS. NI E RIASS.NI"]
[null,null,null,null,null,null,null,null,null,null,null,null,null,null,null,null,null,null,null,null,"293 - ERGO ASSICURAZIONI"]
[null,null,null,null,null,null,null,null,null,null,null,null,null,null,null,null,null,null,null,null,"381 - ERGO PREVIDENZA"]
[null,null,null,null,null,null,null,null,null,null,null,null,null,null,null,null,null,null,null,null,"606 - EULER HERMES CREDIT INSURANCE BELGIUM N.V."]
[null,null,null,null,null,null,null,null,null,null,null,null,null,null,null,null,null,null,null,null,"909 - EURO INSURANCES LTD."]
[null,null,null,null,null,null,null,null,null,null,null,null,null,null,null,null,null,null,null,null,"390 - EUROP ASSISTANCE ITALIA"]
[null,null,null,null,null,null,null,null,null,null,null,null,null,null,null,null,null,null,null,null,"125 - EUROPA TUTELA GIUDIZIARIA"]
[null,null,null,null,null,null,null,null,null,null,null,null,null,null,null,null,null,null,null,null,"876 - EUROPAISCHE REISEVERSICHERUNG AKTIENGESSELLSCHAFT"]
[null,null,null,null,null,null,null,null,null,null,null,null,null,null,null,null,null,null,null,null,"365 - EUROVITA ASSICURAZIONI"]
[null,null,null,null,null,null,null,null,null,null,null,null,null,null,null,null,null,null,null,null,"016 - FATA ASSICURAZIONI DANNI"]
[null,null,null,null,null,null,null,null,null,null,null,null,null,null,null,null,null,null,null,null,"461 - FATA VITA"]
[null,null,null,null,null,null,null,null,null,null,null,null,null,null,null,null,null,null,null,null,"479 - FIDEURAM VITA"]
[null,null,null,null,null,null,null,null,null,null,null,null,null,null,null,null,null,null,null,null,"400 - FILO DIRETTO"]
[null,null,null,null,null,null,null,null,null,null,null,null,null,null,null,null,null,null,null,null,"852 - FINANCIAL ASSURANCE CO. LTD. (FACL)"]
[null,null,null,null,null,null,null,null,null,null,null,null,null,null,null,null,null,null,null,null,"808 - FINANCIAL INSURANCE CO. LTD (FICL)"]
[null,null,null,null,null,null,null,null,null,null,null,null,null,null,null,null,null,null,null,null,"839 - FM INSURANCE COMPANY LTD"]
[null,null,null,null,null,null,null,null,null,null,null,null,null,null,null,null,null,null,null,null,"034 - FONDIARIA - SAI"]
[null,null,null,null,null,null,null,null,null,null,null,null,null,null,null,null,null,null,null,null,"607 - GAN EUROCOURTAGE"]
[null,null,null,null,null,null,null,null,null,null,null,null,null,null,null,null,null,null,null,null,"821 - GENERAL REINSURANCE MILAN BRANCH"]
[null,null,null,null,null,null,null,null,null,null,null,null,null,null,null,null,null,null,null,null,"247 - GENERTEL"]
[null,null,null,null,null,null,null,null,null,null,null,null,null,null,null,null,null,null,null,null,"445 - GENERTELLIFE"]
[null,null,null,null,null,null,null,null,null,null,null,null,null,null,null,null,null,null,null,null,"139 - GENIALLOYD"]
[null,null,null,null,null,null,null,null,null,null,null,null,null,null,null,null,null,null,null,null,"831 - GENWORTH FINANCIAL MORTGAGE INS. LTD"]
[null,null,null,null,null,null,null,null,null,null,null,null,null,null,null,null,null,null,null,null,"395 - GLOBAL ASSISTANCE"]
[null,null,null,null,null,null,null,null,null,null,null,null,null,null,null,null,null,null,null,null,"420 - GLOBALE RUCKVERSICHERUNGS-AG"]
[null,null,null,null,null,null,null,null,null,null,null,null,null,null,null,null,null,null,null,null,"899 - GREAT LAKES ITALIA"]
[null,null,null,null,null,null,null,null,null,null,null,null,null,null,null,null,null,null,null,null,"151 - GROUPAMA ASSICURAZIONI"]
[null,null,null,null,null,null,null,null,null,null,null,null,null,null,null,null,null,null,null,null,"897 - HARMONIE MUTUALITÉ"]
[null,null,null,null,null,null,null,null,null,null,null,null,null,null,null,null,null,null,null,null,"133 - HDI ASSICURAZIONI"]
[null,null,null,null,null,null,null,null,null,null,null,null,null,null,null,null,null,null,null,null,"218 - HDI-GERLING INDUSTRIE VERSICHERUNG AG."]
[null,null,null,null,null,null,null,null,null,null,null,null,null,null,null,null,null,null,null,null,"019 - HELVETIA SA"]
[null,null,null,null,null,null,null,null,null,null,null,null,null,null,null,null,null,null,null,null,"309 - HELVETIA VITA"]
[null,null,null,null,null,null,null,null,null,null,null,null,null,null,null,null,null,null,null,null,"881 - HOMECARE INSURANCE LIMITED"]
[null,null,null,null,null,null,null,null,null,null,null,null,null,null,null,null,null,null,null,null,"398 - IMA - ITALIA ASSISTANCE"]
[null,null,null,null,null,null,null,null,null,null,null,null,null,null,null,null,null,null,null,null,"004 - INA ASSITALIA"]
[null,null,null,null,null,null,null,null,null,null,null,null,null,null,null,null,null,null,null,null,"458 - INCHIARO ASSICURAZIONI"]
[null,null,null,null,null,null,null,null,null,null,null,null,null,null,null,null,null,null,null,null,"281 - INCONTRA ASSICURAZIONI"]
[null,null,null,null,null,null,null,null,null,null,null,null,null,null,null,null,null,null,null,null,"399 - INTER PARTNER ASSISTANCE"]
[null,null,null,null,null,null,null,null,null,null,null,null,null,null,null,null,null,null,null,null,"871 - INTERNATIONAL INSURANCE COMPANY OF HANNOVER"]
[null,null,null,null,null,null,null,null,null,null,null,null,null,null,null,null,null,null,null,null,"419 - INTESA SANPAOLO ASSICURA"]
[null,null,null,null,null,null,null,null,null,null,null,null,null,null,null,null,null,null,null,null,"910 - INTESA SANPAOLO LIFE LIMITED"]
[null,null,null,null,null,null,null,null,null,null,null,null,null,null,null,null,null,null,null,null,"306 - INTESA SANPAOLO VITA"]
[null,null,null,null,null,null,null,null,null,null,null,null,null,null,null,null,null,null,null,null,"225 - ISI INSURANCE Compagnia di Assicurazioni"]
[null,null,null,null,null,null,null,null,null,null,null,null,null,null,null,null,null,null,null,null,"023 - ITALIANA ASSICURAZIONI"]
[null,null,null,null,null,null,null,null,null,null,null,null,null,null,null,null,null,null,null,null,"223 - ITAS ASSICURAZIONI"]
[null,null,null,null,null,null,null,null,null,null,null,null,null,null,null,null,null,null,null,null,"022 - ITAS MUTUA"]
[null,null,null,null,null,null,null,null,null,null,null,null,null,null,null,null,null,null,null,null,"183 - ITAS VITA"]
[null,null,null,null,null,null,null,null,null,null,null,null,null,null,null,null,null,null,null,null,"810 - LA MONDIALE EUROPARTNER S.A."]
[null,null,null,null,null,null,null,null,null,null,null,null,null,null,null,null,null,null,null,null,"358 - L'ASSICURATRICE ITALIANA VITA"]
[null,null,null,null,null,null,null,null,null,null,null,null,null,null,null,null,null,null,null,null,"212 - LE ASSICURAZIONI DI ROMA"]
[null,null,null,null,null,null,null,null,null,null,null,null,null,null,null,null,null,null,null,null,"361 - LE ASSICURAZIONI DI ROMA VITA"]
[null,null,null,null,null,null,null,null,null,null,null,null,null,null,null,null,null,null,null,null,"088 - LIGURIA"]
[null,null,null,null,null,null,null,null,null,null,null,null,null,null,null,null,null,null,null,null,"349 - LIGURIA VITA"]
[null,null,null,null,null,null,null,null,null,null,null,null,null,null,null,null,null,null,null,null,"241 - LINEAR LIFE"]
[null,null,null,null,null,null,null,null,null,null,null,null,null,null,null,null,null,null,null,null,"295 - LLOYD'S"]
[null,null,null,null,null,null,null,null,null,null,null,null,null,null,null,null,null,null,null,null,"438 - LOMBARDA VITA"]
[null,null,null,null,null,null,null,null,null,null,null,null,null,null,null,null,null,null,null,null,"807 - LONDON GENERAL"]
[null,null,null,null,null,null,null,null,null,null,null,null,null,null,null,null,null,null,null,null,"844 - MAPFRE ASISTENCIA COMP INTERN. DE SEGUROS Y REAS."]
[null,null,null,null,null,null,null,null,null,null,null,null,null,null,null,null,null,null,null,null,"601 - MAPFRE RE, COMPANIA RE REASEGUROS S.A."]
[null,null,null,null,null,null,null,null,null,null,null,null,null,null,null,null,null,null,null,null,"055 - MEDIOLANUM  ASSICURAZIONI"]
[null,null,null,null,null,null,null,null,null,null,null,null,null,null,null,null,null,null,null,null,"841 - MEDIOLANUM INTERNATIONAL LIFE LTD"]
[null,null,null,null,null,null,null,null,null,null,null,null,null,null,null,null,null,null,null,null,"217 - MEDIOLANUM VITA"]
[null,null,null,null,null,null,null,null,null,null,null,null,null,null,null,null,null,null,null,null,"291 - MITSUI SUMITOMO INSURANCE COMPANY"]
[null,null,null,null,null,null,null,null,null,null,null,null,null,null,null,null,null,null,null,null,"882 - MÜNCHENER  RÜCKVERSICHERUNGS GESELLSCHAFT AG"]
[null,null,null,null,null,null,null,null,null,null,null,null,null,null,null,null,null,null,null,null,"170 - NATIONAL VULCAN"]
[null,null,null,null,null,null,null,null,null,null,null,null,null,null,null,null,null,null,null,null,"208 - NATIONALE SUISSE"]
[null,null,null,null,null,null,null,null,null,null,null,null,null,null,null,null,null,null,null,null,"317 - NATIONALE SUISSE VITA"]
[null,null,null,null,null,null,null,null,null,null,null,null,null,null,null,null,null,null,null,null,"441 - NET INSURANCE"]
[null,null,null,null,null,null,null,null,null,null,null,null,null,null,null,null,null,null,null,null,"470 - NET INSURANCE LIFE"]
[null,null,null,null,null,null,null,null,null,null,null,null,null,null,null,null,null,null,null,null,"838 - NIPPONKOA INSURANCE COMPANY (EUROPE)"]
[null,null,null,null,null,null,null,null,null,null,null,null,null,null,null,null,null,null,null,null,"474 - NOBIS COMPAGNIA DI ASSICURAZIONI"]
[null,null,null,null,null,null,null,null,null,null,null,null,null,null,null,null,null,null,null,null,"292 - PADANA ASSICURAZIONI"]
[null,null,null,null,null,null,null,null,null,null,null,null,null,null,null,null,null,null,null,null,"850 - PMI MORTGAGE COMPANY LTD"]
[null,null,null,null,null,null,null,null,null,null,null,null,null,null,null,null,null,null,null,null,"437 - POPOLARE VITA"]
[null,null,null,null,null,null,null,null,null,null,null,null,null,null,null,null,null,null,null,null,"480 - POSTE ASSICURA - Gruppo Assicurativo Poste Vita"]
[null,null,null,null,null,null,null,null,null,null,null,null,null,null,null,null,null,null,null,null,"431 - POSTE VITA - Gruppo Assicurativo Poste Vita"]
[null,null,null,null,null,null,null,null,null,null,null,null,null,null,null,null,null,null,null,null,"345 - PRAMERICA LIFE"]
[null,null,null,null,null,null,null,null,null,null,null,null,null,null,null,null,null,null,null,null,"906 - PROBUS INSURANCE CO."]
[null,null,null,null,null,null,null,null,null,null,null,null,null,null,null,null,null,null,null,null,"397 - PRONTO ASSISTANCE"]
[null,null,null,null,null,null,null,null,null,null,null,null,null,null,null,null,null,null,null,null,"873 - QBE INSURANCE (EUROPE) LIMITED"]
[null,null,null,null,null,null,null,null,null,null,null,null,null,null,null,null,null,null,null,null,"440 - QUIXA"]
[null,null,null,null,null,null,null,null,null,null,null,null,null,null,null,null,null,null,null,null,"812 - R+V ALLGEMEINE"]
[null,null,null,null,null,null,null,null,null,null,null,null,null,null,null,null,null,null,null,null,"263 - RB VITA"]
[null,null,null,null,null,null,null,null,null,null,null,null,null,null,null,null,null,null,null,null,"468 - RBM SALUTE"]
[null,null,null,null,null,null,null,null,null,null,null,null,null,null,null,null,null,null,null,null,"887 - RGA INTERNATIONAL REINSURANCE COMPANY LIMITED"]
[null,null,null,null,null,null,null,null,null,null,null,null,null,null,null,null,null,null,null,null,"407 - RISPARMIO &  PREVIDENZA"]
[null,null,null,null,null,null,null,null,null,null,null,null,null,null,null,null,null,null,null,null,"867 - ROLAND RECHTSSCHUTZ VERSICHERUNG AG"]
[null,null,null,null,null,null,null,null,null,null,null,null,null,null,null,null,null,null,null,null,"605 - ROYAL & SUN ALLIANCE INSURANCE PLC"]
[null,null,null,null,null,null,null,null,null,null,null,null,null,null,null,null,null,null,null,null,"481 - S2C"]
[null,null,null,null,null,null,null,null,null,null,null,null,null,null,null,null,null,null,null,null,"455 - SACE BT"]
[null,null,null,null,null,null,null,null,null,null,null,null,null,null,null,null,null,null,null,null,"450 - SAN MINIATO PREVIDENZA"]
[null,null,null,null,null,null,null,null,null,null,null,null,null,null,null,null,null,null,null,null,"603 - SANTANDER INSURANCE EUROPE LIMITED"]
[null,null,null,null,null,null,null,null,null,null,null,null,null,null,null,null,null,null,null,null,"604 - SANTANDER INSURANCE LIFE LIMITED"]
[null,null,null,null,null,null,null,null,null,null,null,null,null,null,null,null,null,null,null,null,"032 - SARA ASSICURAZIONI"]
[null,null,null,null,null,null,null,null,null,null,null,null,null,null,null,null,null,null,null,null,"294 - SARA VITA"]
[null,null,null,null,null,null,null,null,null,null,null,null,null,null,null,null,null,null,null,null,"840 - SCOR GLOBAL LIFE S.E."]
[null,null,null,null,null,null,null,null,null,null,null,null,null,null,null,null,null,null,null,null,"874 - SCOR GLOBAL P&C S.E."]
[null,null,null,null,null,null,null,null,null,null,null,null,null,null,null,null,null,null,null,null,"907 - SECURA Member of the QBE Group"]
[null,null,null,null,null,null,null,null,null,null,null,null,null,null,null,null,null,null,null,null,"175 - SIAT"]
[null,null,null,null,null,null,null,null,null,null,null,null,null,null,null,null,null,null,null,null,"427 - SKANDIA VITA"]
[null,null,null,null,null,null,null,null,null,null,null,null,null,null,null,null,null,null,null,null,"226 - SLP"]
[null,null,null,null,null,null,null,null,null,null,null,null,null,null,null,null,null,null,null,null,"851 - SOC.SVIZZERA D'ASS.E CONTRO LA GRANDINE, SOC.COOP."]
[null,null,null,null,null,null,null,null,null,null,null,null,null,null,null,null,null,null,null,null,"914 - SOCIETA'  DI ASSIC. - RIASSIC. CITY INSURANCE SA"]
[null,null,null,null,null,null,null,null,null,null,null,null,null,null,null,null,null,null,null,null,"057 - SOCIETA' CATTOLICA"]
[null,null,null,null,null,null,null,null,null,null,null,null,null,null,null,null,null,null,null,null,"035 - SOCIETA' REALE MUTUA"]
[null,null,null,null,null,null,null,null,null,null,null,null,null,null,null,null,null,null,null,null,"895 - SOGECAP"]
[null,null,null,null,null,null,null,null,null,null,null,null,null,null,null,null,null,null,null,null,"894 - SOGECAP RISQUES DIVERS"]
[null,null,null,null,null,null,null,null,null,null,null,null,null,null,null,null,null,null,null,null,"600 - SOGESSUR S.A."]
[null,null,null,null,null,null,null,null,null,null,null,null,null,null,null,null,null,null,null,null,"800 - SOMPO JAPAN INSURANCE COMPANY OF EUROPE LIMITED"]
[null,null,null,null,null,null,null,null,null,null,null,null,null,null,null,null,null,null,null,null,"080 - SUN INSURANCE OFFICE LIMITED RSA"]
[null,null,null,null,null,null,null,null,null,null,null,null,null,null,null,null,null,null,null,null,"888 - SWISS LIFE INSURANCE SOLUTIONS AG"]
[null,null,null,null,null,null,null,null,null,null,null,null,null,null,null,null,null,null,null,null,"817 - SWISS RE EUROPE S.A.  RAPPRESENTANZA PER L'ITALIA"]
[null,null,null,null,null,null,null,null,null,null,null,null,null,null,null,null,null,null,null,null,"886 - SWISS RE INTERNATIONAL SE"]
[null,null,null,null,null,null,null,null,null,null,null,null,null,null,null,null,null,null,null,null,"315 - SYSTEMA ASSICURAZIONI"]
[null,null,null,null,null,null,null,null,null,null,null,null,null,null,null,null,null,null,null,null,"860 - TCRE ITALIA (sede primaria TRADE CREDIT RE S.A. )"]
[null,null,null,null,null,null,null,null,null,null,null,null,null,null,null,null,null,null,null,null,"078 - THE SEA INSURANCE"]
[null,null,null,null,null,null,null,null,null,null,null,null,null,null,null,null,null,null,null,null,"862 - TIROLER VERSICHERUNG VAG"]
[null,null,null,null,null,null,null,null,null,null,null,null,null,null,null,null,null,null,null,null,"267 - TOKIO MARINE EUROPE INSURANCE LIMITED"]
[null,null,null,null,null,null,null,null,null,null,null,null,null,null,null,null,null,null,null,null,"602 - TORUS INSURANCE (UK) LIMITED"]
[null,null,null,null,null,null,null,null,null,null,null,null,null,null,null,null,null,null,null,null,"429 - TUA ASSICURAZIONI"]
[null,null,null,null,null,null,null,null,null,null,null,null,null,null,null,null,null,null,null,null,"475 - TUTELA LEGALE"]
[null,null,null,null,null,null,null,null,null,null,null,null,null,null,null,null,null,null,null,null,"304 - UBI ASSICURAZIONI"]
[null,null,null,null,null,null,null,null,null,null,null,null,null,null,null,null,null,null,null,null,"127 - UCA - ASSICURAZIONE SPESE LEGALI"]
[null,null,null,null,null,null,null,null,null,null,null,null,null,null,null,null,null,null,null,null,"082 - UNIPOL ASSICURAZIONI"]
[null,null,null,null,null,null,null,null,null,null,null,null,null,null,null,null,null,null,null,null,"172 - UNIQA  ASSICURAZIONI"]
[null,null,null,null,null,null,null,null,null,null,null,null,null,null,null,null,null,null,null,null,"478 - UNIQA LIFE"]
[null,null,null,null,null,null,null,null,null,null,null,null,null,null,null,null,null,null,null,null,"828 - UNIQA PERSONENVERSICHERUNG AG"]
[null,null,null,null,null,null,null,null,null,null,null,null,null,null,null,null,null,null,null,null,"314 - UNIQA PREVIDENZA"]
[null,null,null,null,null,null,null,null,null,null,null,null,null,null,null,null,null,null,null,null,"056 - UNIQA PROTEZIONE"]
[null,null,null,null,null,null,null,null,null,null,null,null,null,null,null,null,null,null,null,null,"342 - UNISALUTE"]
[null,null,null,null,null,null,null,null,null,null,null,null,null,null,null,null,null,null,null,null,"849 - VH ITALIA (VEREINIGTE HAGELVERSICHERUNG)"]
[null,null,null,null,null,null,null,null,null,null,null,null,null,null,null,null,null,null,null,null,"038 - VITTORIA ASSICURAZIONI"]
[null,null,null,null,null,null,null,null,null,null,null,null,null,null,null,null,null,null,null,null,"819 - WIENER STÄDTISCHE VERSICHERUNG AG VIENNA INS.GROUP"]
[null,null,null,null,null,null,null,null,null,null,null,null,null,null,null,null,null,null,null,null,"818 - XL INSURANCE COMPANY LIMITED"]
[null,null,null,null,null,null,null,null,null,null,null,null,null,null,null,null,null,null,null,null,"864 - ZURICH INSURANCE PLC"]
[null,null,null,null,null,null,null,null,null,null,null,null,null,null,null,null,null,null,null,null,"143 - ZURICH INVESTMENTS LIFE"]
[null,null,null,null,null,null,null,null,null,null,null,null,null,null,null,null,null,null,null,null,"372 - ZURICH LIFE AND PENSIONS"]
[null,null,null,null,null,null,null,null,null,null,null,null,null,null,null,null,null,null,null,null,"885 - ZURICH LIFE ASSURANCE PLC"]
[null,null,null,null,null,null,null,null,null,null,null,null,null,null,null,null,null,null,null,null,"404 - ZURICH LIFE INSURANCE ITALIA"]
[null,null,null,null,null,null,null,null,null,null,null,null,null,null,null,null,null,null,null,null,"198 - ZURITEL"]

{"sheet":"malattia-giugno2013","index":53,"n_rows":204,"n_cols":26,"rows_kept":204,"cut":false,"hidden":true,"merged":[[45,10,46,10],[26,8,27,8],[26,10,27,10],[45,0,46,0],[45,1,46,1],[45,2,46,2],[45,3,46,3],[45,4,46,4],[45,6,46,6],[45,7,46,7],[45,8,46,8],[7,7,8,7],[7,8,8,8],[7,10,8,10],[26,0,27,0],[26,1,27,1],[26,2,27,2],[26,3,27,3],[26,4,27,4],[26,6,27,6],[26,7,27,7],[0,0,0,6],[1,0,1,6],[7,0,8,0],[7,1,8,1],[7,2,8,2],[7,3,8,3],[7,4,8,4],[7,6,8,6]]}
["ANIA - Associazione Nazionale fra le Imprese Assicuratrici - Ramo MALATTIA"]
["> Rilevazione Semestrale dei Premi contabilizzati del Lavoro Diretto Italiano <"]
[null,null,null,null,null,null,null,null,null,null,null,null,null,null,null,null,null,null,null,null,null,null,null,null,null,"Giugno 2010"]
["Compagnia:",null,null,"TOTALE",null,null,null,null,null,null,null,null,null,null,null,null,null,null,null,null,null,null,null,null,null,"Dicembre 2010"]
["Premi Contabilizzati a tutto il mese di:",null,null,"Giugno 2013",null,null,"QUOTA MERCATO CAMPIONE",">   ",null,null,null,null,null,null,null,null,null,null,null,null,null,null,null,null,null,"Giugno 2011"]
[null,"- Valori in Euro arrotondati all'unità -",null,null,null,null,null,null,null,null,null,null,null,null,null,null,null,null,null,null,"417 - ARCA ASSICURAZIONI"]
[null,null,null,null,null,null,null,null,null,null,null,null,null,null,null,null,null,null,null,null,"341 - ARCA VITA"]
["Garanzie - TOTALE POLIZZE",null,"Premi lordi contabilizzati","Distrib.","Variaz. annua",null,"di cui                                   Premi di nuova produzione","Distrib.","Variaz. annua",null,"Incid.",null,null,null,null,null,null,null,null,null,"856 - ARCH INSURANCE COMPANY (EUROPE)"]
[null,null,null,null,null,null,null,null,null,null,null,null,null,null,null,null,null,null,null,null,"814 - AREA LIFE INTERNATIONAL"]
[-1,null,-2,-3,-4,null,-5,-6,-7,null,"(8)=(5)/(2)",null,null,null,null,null,null,null,null,null,"469 - ARISCOM COMPAGNIA DI ASSICURAZIONI"]
[null,null,null,null,null,null,null,null,null,null,null,null,null,null,null,null,null,null,null,null,"829 - ASPECTA ASSURANCE INTERNATIONAL LUXEMBOURG S.A."]
[null,null,null,null,null,null,null,null,null,null,null,null,null,null,null,null,null,null,null,null,"327 - ASSICURATRICE MILANESE"]
["Rimborso spese mediche",null,818964926.85261941,0.73025544652578078,-7.8745914318076871E-3,null,85206287.823626295,0.61873245035455049,0.50828082243683403,null,0.10404143697714174,null,null,null,null,null,null,null,null,null,"085 - ASSICURATRICE VAL PIAVE"]
["Invalidità permanente da malattia",null,93111516.556803346,8.3025768101199091E-2,-5.6155755212159875E-2,null,27710632.015388682,0.2012230280850299,-0.1903877848427773,null,0.29760692382755483,null,null,null,null,null,null,null,null,null,"005 - ASSICURAZIONI GENERALI"]
["Diaria",null,123567554.4393324,0.1101828377315018,-9.6614731654391717E-2,null,9072193.0829053633,6.5878474460650954E-2,-0.17543142264716149,null,7.3418893204360625E-2,null,null,null,null,null,null,null,null,null,"045 - ASSICURAZIONI RISCHI AGRICOLI VMG 1857"]
["Long Term Care",null,15070800.475543298,1.3438346099953766E-2,0.58198072384297328,null,1626182.9227555655,1.1808660724710986E-2,0.9057370411689436,null,0.10790288978973044,null,null,null,null,null,null,null,null,null,"254 - ASSIMOCO"]
["Altre garanzie ",null,70762529.573600203,6.3097601541564602E-2,-0.17912183731610154,null,14095741.898375677,0.10235738637505763,-0.31742704813297362,null,0.19919782381033563,null,null,null,null,null,null,null,null,null,"357 - ASSIMOCO VITA"]
[null,null,null,null,null,null,null,null,null,null,null,null,null,null,null,null,null,null,null,null,"865 - ASSURANT GENERAL INSURANCE LIMITED"]
["TOTALE RAMO",null,1121477327.8978987,1,-3.0391702890480321E-2,null,137711037.74305159,1,0.11754926838129043,null,0.12279431274921775,null,null,null,null,null,null,null,null,null,"866 - ASSURANT LIFE LIMITED"]
[null,null,null,null,null,null,null,null,null,null,null,null,null,null,null,null,null,null,null,null,"868 - ATLANTICLUX LEBENSVERSICHERUNG SA"]
["TOTALE NUMERO DI TESTE PER POLIZZE  EMESSE",null,6214200.2319143368,null,0.65685031962253237,null,null,null,null,null,null,null,null,null,null,null,null,null,null,null,"457 - AVIPOP ASSICURAZIONI"]
[null,null,null,null,null,null,null,null,null,null,null,null,null,null,null,null,null,null,null,null,"330 - AVIVA ASSICURAZIONI VITA"]
[null,null,null,null,null,null,null,null,null,null,null,null,null,null,null,null,null,null,null,null,"112 - DIALOGO ASSICURAZIONI"]
[null,null,null,null,null,null,null,null,null,null,null,null,null,null,null,null,null,null,null,null,"432 - DIRECT LINE INSURANCE"]
[null,"- Valori in Euro arrotondati all'unità -",null,null,null,null,null,null,null,null,null,null,null,null,null,null,null,null,null,null,"158 - A.R.A.G.",null,null,null,null,"Dicembre 2011"]
[null,null,null,null,null,null,null,null,null,null,null,null,null,null,null,null,null,null,null,null,"273 - ABC ASSICURA",null,null,null,null,"Giugno 2012"]
["Garanzie -  POLIZZE INDIVIDUALI",null,"Premi lordi contabilizzati","Distrib.","Variaz. annua",null,"di cui                                   Premi di nuova produzione","Distrib.","Variaz. annua",null,"Incid.",null,null,null,null,null,null,null,null,null,"878 - ACE EUROPE LIFE LIMITED",null,null,null,null,"Dicembre 2012"]
[null,null,null,null,null,null,null,null,null,null,null,null,null,null,null,null,null,null,null,null,"853 - ACE EUROPEAN GROUP LTD",null,null,null,null,"Giugno 2013"]
[-1,null,-2,-3,-4,null,-5,-6,-7,null,"(8)=(5)/(2)",null,null,null,null,null,null,null,null,null,"911 - ADMIRAL INSURANCE COMPANY LIMITED",null,null,null,null,"Dicembre 2013"]
[null,null,null,null,null,null,null,null,null,null,null,null,null,null,null,null,null,null,null,null,"896 - AGA INTERNATIONAL",null,null,null,null,"Giugno 2014"]
[null,null,null,null,null,null,null,null,null,null,null,null,null,null,null,null,null,null,null,null,"872 - AIOI NISSAY DOWA INSURANCE COMPANY OF EUROPE LTD",null,null,null,null,"Dicembre 2014"]
["Rimborso spese mediche",null,272996861.21584052,0.63533522375928531,-2.9545319798553016E-2,null,26093147.122989532,0.59250946291851281,-0.11422279081540276,null,9.5580392414693044E-2,null,null,null,null,null,null,null,null,null,"392 - ALA ASSICURAZIONI",null,null,null,null,"Giugno 2015"]
["Invalidità permanente da malattia",null,36691293.890214555,8.5390254341885949E-2,-7.4332977371304176E-3,null,7222816.8988328492,0.16401192777990556,-0.20279540669361606,null,0.19685369833084981,null,null,null,null,null,null,null,null,null,"408 - ALICO ITALIA",null,null,null,null,"Dicembre 2015"]
["Diaria",null,70460817.379280478,0.16398078342935088,-9.8547381488253483E-2,null,5096266.4648763752,0.11572333884298316,-0.23085985185518665,null,7.2327665991211876E-2,null,null,null,null,null,null,null,null,null,"835 - ALICO LIFE INTERNATIONAL LIMITED",null,null,null,null,"Giugno 2016"]
["Long Term Care",null,1705875.895915716,3.9700201651047245E-3,0.63755903585261708,null,318829.46206896548,7.2398117575722095E-3,0.26461568990340756,null,0.18690073693656215,null,null,null,null,null,null,null,null,null,"008 - ALLEANZA TORO",null,null,null,null,"Dicembre 2016"]
["Altre garanzie ",null,47834630.505996898,0.11132371830437313,-3.7832782979089541E-2,null,5307303.5812643617,0.12051545870102624,-0.41228502210863383,null,0.11095107300136874,null,null,null,null,null,null,null,null,null,"880 - ALLIANZ GLOBAL CORPORATE & SPECIALITY AG",null,null,null,null,"Giugno 2017"]
[null,null,null,null,null,null,null,null,null,null,null,null,null,null,null,null,null,null,null,null,"884 - ALLIANZ GLOBAL LIFE LIMITED",null,null,null,null,"Dicembre 2017"]
["TOTALE RAMO",null,429689478.88724816,1,-3.9145464294229382E-2,null,44038363.530032083,1,-0.19086598340030381,null,0.10248881039414019,null,null,null,null,null,null,null,null,null,"003 - ALLIANZ S.P.A.",null,null,null,null,"Giugno 2018"]
[null,null,null,null,null,null,null,null,null,null,null,null,null,null,null,null,null,null,null,null,"892 - ALPHA INSURANCE A/S",null,null,null,null,"Dicembre 2018"]
["TOTALE RISCHI INDIVIDUALI: NUMERO POLIZZE EMESSE",null,1272019.4003527332,null,9.8539494994525301E-2,null,"QUOTA MERCATO CAMPIONE PER LE POLIZZE INDIV.",null,null,null,0.34020000000000011,null,null,null,null,null,null,null,null,null,"855 - AMBAC ASSURANCE UK LTD",null,null,null,null,"Giugno 2019"]
[null,null,null,null,null,null,null,null,null,null,null,null,null,null,null,null,null,null,null,null,"364 - ANTONIANA VENETA POPOLARE ASSICURAZIONI",null,null,null,null,"Dicembre 2019"]
[]
[]
[null,"- Valori in Euro arrotondati all'unità -",null,null,null,null,null,null,null,null,null,null,null,null,null,null,null,null,null,null,"417 - ARCA ASSICURAZIONI"]
[null,null,null,null,null,null,null,null,null,null,null,null,null,null,null,null,null,null,null,null,"341 - ARCA VITA"]
["Garanzie - POLIZZE COLLETTIVE",null,"Premi lordi contabilizzati","Distrib.","Variaz. annua",null,"di cui                                   Premi di nuova produzione","Distrib.","Variaz. annua",null,"Incid.",null,null,null,null,null,null,null,null,null,"856 - ARCH INSURANCE COMPANY (EUROPE)"]
[null,null,null,null,null,null,null,null,null,null,null,null,null,null,null,null,null,null,null,null,"814 - AREA LIFE INTERNATIONAL"]
[-1,null,-2,-3,-4,null,-5,-6,-7,null,"(8)=(5)/(2)",null,null,null,null,null,null,null,null,null,"469 - ARISCOM COMPAGNIA DI ASSICURAZIONI"]
[null,null,null,null,null,null,null,null,null,null,null,null,null,null,null,null,null,null,null,null,"829 - ASPECTA ASSURANCE INTERNATIONAL LUXEMBOURG S.A."]
[null,null,null,null,null,null,null,null,null,null,null,null,null,null,null,null,null,null,null,null,"327 - ASSICURATRICE MILANESE"]
["Rimborso spese mediche",null,545968065.63677895,0.78921314737977322,3.3283416702265534E-3,null,59113140.700636767,0.63106067161281787,1.1865887955583285,null,0.10827215806421084,null,null,null,null,null,null,null,null,null,"085 - ASSICURATRICE VAL PIAVE"]
["Invalidità permanente da malattia",null,56420222.666588783,8.1557117181629113E-2,-8.5353609675258624E-2,null,20487815.116555832,0.2187170942719627,-0.18592098724071937,null,0.36312893051888667,null,null,null,null,null,null,null,null,null,"005 - ASSICURAZIONI GENERALI"]
["Diaria",null,53106737.060051911,7.6767374760920798E-2,-9.4037707736628895E-2,null,3975926.6180289891,4.2444892829550267E-2,-9.1512518422564137E-2,null,7.4866708785612274E-2,null,null,null,null,null,null,null,null,null,"045 - ASSICURAZIONI RISCHI AGRICOLI VMG 1857"]
["Long Term Care",null,13364924.579627581,1.9319397700814225E-2,0.57515712965842636,null,1307353.4606866001,1.3956615113961292E-2,1.1745968283686148,null,9.7819740986748616E-2,null,null,null,null,null,null,null,null,null,"254 - ASSIMOCO"]
["Altre garanzie ",null,22927899.067603309,3.3142962976862457E-2,-0.37163082069882625,null,8788438.3171113152,9.3820726171708002E-2,-0.24371193170954297,null,0.383307615372802,null,null,null,null,null,null,null,null,null,"357 - ASSIMOCO VITA"]
[null,null,null,null,null,null,null,null,null,null,null,null,null,null,null,null,null,null,null,null,"865 - ASSURANT GENERAL INSURANCE LIMITED"]
["TOTALE RAMO",null,691787849.01065063,1,-2.4873728146869278E-2,null,93672674.21301949,1,0.36153364542434074,null,0.13540664865245028,null,null,null,null,null,null,null,null,null,"866 - ASSURANT LIFE LIMITED"]
[null,null,null,null,null,null,null,null,null,null,null,null,null,null,null,null,null,null,null,null,"868 - ATLANTICLUX LEBENSVERSICHERUNG SA"]
["TOTALE NUMERO DI TESTE PER POLIZZE COLLETTIVE EMESSE",null,4942180.8315616036,null,0.90619677991572489,null,"QUOTA MERCATO CAMPIONE PER LE POLIZZE COLL.",null,null,null,5.6199999999999972E-2,null,null,null,null,null,null,null,null,null,"457 - AVIPOP ASSICURAZIONI"]
[null,null,null,null,null,null,null,null,null,null,null,null,null,null,null,null,null,null,null,null,"477 - AVIPOP VITA"]
[null,null,null,null,null,null,null,null,null,null,null,null,null,null,null,null,null,null,null,null,"339 - AVIVA"]
[null,null,null,null,null,null,null,null,null,null,null,null,null,null,null,null,null,null,null,null,"378 - AVIVA ASSICURAZIONI"]
[null,null,null,null,null,null,null,null,null,null,null,null,null,null,null,null,null,null,null,null,"869 - DONAU VERSICHERUNGS AG VIENNA INSURANCE GROUP"]
[null,null,null,null,null,null,null,null,null,null,null,null,null,null,null,null,null,null,null,null,"020 - DUOMO UNI ONE ASSICURAZIONI"]
[null,null,null,null,null,null,null,null,null,null,null,null,null,null,null,null,null,null,null,null,"473 - ELBA COMPAGNIA DI ASS. NI E RIASS.NI"]
[null,null,null,null,null,null,null,null,null,null,null,null,null,null,null,null,null,null,null,null,"293 - ERGO ASSICURAZIONI"]
[null,null,null,null,null,null,null,null,null,null,null,null,null,null,null,null,null,null,null,null,"381 - ERGO PREVIDENZA"]
[null,null,null,null,null,null,null,null,null,null,null,null,null,null,null,null,null,null,null,null,"606 - EULER HERMES CREDIT INSURANCE BELGIUM N.V."]
[null,null,null,null,null,null,null,null,null,null,null,null,null,null,null,null,null,null,null,null,"909 - EURO INSURANCES LTD."]
[null,null,null,null,null,null,null,null,null,null,null,null,null,null,null,null,null,null,null,null,"390 - EUROP ASSISTANCE ITALIA"]
[null,null,null,null,null,null,null,null,null,null,null,null,null,null,null,null,null,null,null,null,"125 - EUROPA TUTELA GIUDIZIARIA"]
[null,null,null,null,null,null,null,null,null,null,null,null,null,null,null,null,null,null,null,null,"876 - EUROPAISCHE REISEVERSICHERUNG AKTIENGESSELLSCHAFT"]
[null,null,null,null,null,null,null,null,null,null,null,null,null,null,null,null,null,null,null,null,"365 - EUROVITA ASSICURAZIONI"]
[null,null,null,null,null,null,null,null,null,null,null,null,null,null,null,null,null,null,null,null,"016 - FATA ASSICURAZIONI DANNI"]
[null,null,null,null,null,null,null,null,null,null,null,null,null,null,null,null,null,null,null,null,"461 - FATA VITA"]
[null,null,null,null,null,null,null,null,null,null,null,null,null,null,null,null,null,null,null,null,"479 - FIDEURAM VITA"]
[null,null,null,null,null,null,null,null,null,null,null,null,null,null,null,null,null,null,null,null,"400 - FILO DIRETTO"]
[null,null,null,null,null,null,null,null,null,null,null,null,null,null,null,null,null,null,null,null,"852 - FINANCIAL ASSURANCE CO. LTD. (FACL)"]
[null,null,null,null,null,null,null,null,null,null,null,null,null,null,null,null,null,null,null,null,"808 - FINANCIAL INSURANCE CO. LTD (FICL)"]
[null,null,null,null,null,null,null,null,null,null,null,null,null,null,null,null,null,null,null,null,"839 - FM INSURANCE COMPANY LTD"]
[null,null,null,null,null,null,null,null,null,null,null,null,null,null,null,null,null,null,null,null,"034 - FONDIARIA - SAI"]
[null,null,null,null,null,null,null,null,null,null,null,null,null,null,null,null,null,null,null,null,"607 - GAN EUROCOURTAGE"]
[null,null,null,null,null,null,null,null,null,null,null,null,null,null,null,null,null,null,null,null,"821 - GENERAL REINSURANCE MILAN BRANCH"]
[null,null,null,null,null,null,null,null,null,null,null,null,null,null,null,null,null,null,null,null,"247 - GENERTEL"]
[null,null,null,null,null,null,null,null,null,null,null,null,null,null,null,null,null,null,null,null,"445 - GENERTELLIFE"]
[null,null,null,null,null,null,null,null,null,null,null,null,null,null,null,null,null,null,null,null,"139 - GENIALLOYD"]
[null,null,null,null,null,null,null,null,null,null,null,null,null,null,null,null,null,null,null,null,"831 - GENWORTH FINANCIAL MORTGAGE INS. LTD"]
[null,null,null,null,null,null,null,null,null,null,null,null,null,null,null,null,null,null,null,null,"395 - GLOBAL ASSISTANCE"]
[null,null,null,null,null,null,null,null,null,null,null,null,null,null,null,null,null,null,null,null,"420 - GLOBALE RUCKVERSICHERUNGS-AG"]
[null,null,null,null,null,null,null,null,null,null,null,null,null,null,null,null,null,null,null,null,"899 - GREAT LAKES ITALIA"]
[null,null,null,null,null,null,null,null,null,null,null,null,null,null,null,null,null,null,null,null,"151 - GROUPAMA ASSICURAZIONI"]
[null,null,null,null,null,null,null,null,null,null,null,null,null,null,null,null,null,null,null,null,"897 - HARMONIE MUTUALITÉ"]
[null,null,null,null,null,null,null,null,null,null,null,null,null,null,null,null,null,null,null,null,"133 - HDI ASSICURAZIONI"]
[null,null,null,null,null,null,null,null,null,null,null,null,null,null,null,null,null,null,null,null,"218 - HDI-GERLING INDUSTRIE VERSICHERUNG AG."]
[null,null,null,null,null,null,null,null,null,null,null,null,null,null,null,null,null,null,null,null,"019 - HELVETIA SA"]
[null,null,null,null,null,null,null,null,null,null,null,null,null,null,null,null,null,null,null,null,"309 - HELVETIA VITA"]
[null,null,null,null,null,null,null,null,null,null,null,null,null,null,null,null,null,null,null,null,"881 - HOMECARE INSURANCE LIMITED"]
[null,null,null,null,null,null,null,null,null,null,null,null,null,null,null,null,null,null,null,null,"398 - IMA - ITALIA ASSISTANCE"]
[null,null,null,null,null,null,null,null,null,null,null,null,null,null,null,null,null,null,null,null,"004 - INA ASSITALIA"]
[null,null,null,null,null,null,null,null,null,null,null,null,null,null,null,null,null,null,null,null,"458 - INCHIARO ASSICURAZIONI"]
[null,null,null,null,null,null,null,null,null,null,null,null,null,null,null,null,null,null,null,null,"281 - INCONTRA ASSICURAZIONI"]
[null,null,null,null,null,null,null,null,null,null,null,null,null,null,null,null,null,null,null,null,"399 - INTER PARTNER ASSISTANCE"]
[null,null,null,null,null,null,null,null,null,null,null,null,null,null,null,null,null,null,null,null,"871 - INTERNATIONAL INSURANCE COMPANY OF HANNOVER"]
[null,null,null,null,null,null,null,null,null,null,null,null,null,null,null,null,null,null,null,null,"419 - INTESA SANPAOLO ASSICURA"]
[null,null,null,null,null,null,null,null,null,null,null,null,null,null,null,null,null,null,null,null,"910 - INTESA SANPAOLO LIFE LIMITED"]
[null,null,null,null,null,null,null,null,null,null,null,null,null,null,null,null,null,null,null,null,"306 - INTESA SANPAOLO VITA"]
[null,null,null,null,null,null,null,null,null,null,null,null,null,null,null,null,null,null,null,null,"225 - ISI INSURANCE Compagnia di Assicurazioni"]
[null,null,null,null,null,null,null,null,null,null,null,null,null,null,null,null,null,null,null,null,"023 - ITALIANA ASSICURAZIONI"]
[null,null,null,null,null,null,null,null,null,null,null,null,null,null,null,null,null,null,null,null,"223 - ITAS ASSICURAZIONI"]
[null,null,null,null,null,null,null,null,null,null,null,null,null,null,null,null,null,null,null,null,"022 - ITAS MUTUA"]
[null,null,null,null,null,null,null,null,null,null,null,null,null,null,null,null,null,null,null,null,"183 - ITAS VITA"]
[null,null,null,null,null,null,null,null,null,null,null,null,null,null,null,null,null,null,null,null,"810 - LA MONDIALE EUROPARTNER S.A."]
[null,null,null,null,null,null,null,null,null,null,null,null,null,null,null,null,null,null,null,null,"358 - L'ASSICURATRICE ITALIANA VITA"]
[null,null,null,null,null,null,null,null,null,null,null,null,null,null,null,null,null,null,null,null,"212 - LE ASSICURAZIONI DI ROMA"]
[null,null,null,null,null,null,null,null,null,null,null,null,null,null,null,null,null,null,null,null,"361 - LE ASSICURAZIONI DI ROMA VITA"]
[null,null,null,null,null,null,null,null,null,null,null,null,null,null,null,null,null,null,null,null,"088 - LIGURIA"]
[null,null,null,null,null,null,null,null,null,null,null,null,null,null,null,null,null,null,null,null,"349 - LIGURIA VITA"]
[null,null,null,null,null,null,null,null,null,null,null,null,null,null,null,null,null,null,null,null,"241 - LINEAR LIFE"]
[null,null,null,null,null,null,null,null,null,null,null,null,null,null,null,null,null,null,null,null,"295 - LLOYD'S"]
[null,null,null,null,null,null,null,null,null,null,null,null,null,null,null,null,null,null,null,null,"438 - LOMBARDA VITA"]
[null,null,null,null,null,null,null,null,null,null,null,null,null,null,null,null,null,null,null,null,"807 - LONDON GENERAL"]
[null,null,null,null,null,null,null,null,null,null,null,null,null,null,null,null,null,null,null,null,"844 - MAPFRE ASISTENCIA COMP INTERN. DE SEGUROS Y REAS."]
[null,null,null,null,null,null,null,null,null,null,null,null,null,null,null,null,null,null,null,null,"601 - MAPFRE RE, COMPANIA RE REASEGUROS S.A."]
[null,null,null,null,null,null,null,null,null,null,null,null,null,null,null,null,null,null,null,null,"055 - MEDIOLANUM  ASSICURAZIONI"]
[null,null,null,null,null,null,null,null,null,null,null,null,null,null,null,null,null,null,null,null,"841 - MEDIOLANUM INTERNATIONAL LIFE LTD"]
[null,null,null,null,null,null,null,null,null,null,null,null,null,null,null,null,null,null,null,null,"217 - MEDIOLANUM VITA"]
[null,null,null,null,null,null,null,null,null,null,null,null,null,null,null,null,null,null,null,null,"291 - MITSUI SUMITOMO INSURANCE COMPANY"]
[null,null,null,null,null,null,null,null,null,null,null,null,null,null,null,null,null,null,null,null,"882 - MÜNCHENER  RÜCKVERSICHERUNGS GESELLSCHAFT AG"]
[null,null,null,null,null,null,null,null,null,null,null,null,null,null,null,null,null,null,null,null,"170 - NATIONAL VULCAN"]
[null,null,null,null,null,null,null,null,null,null,null,null,null,null,null,null,null,null,null,null,"208 - NATIONALE SUISSE"]
[null,null,null,null,null,null,null,null,null,null,null,null,null,null,null,null,null,null,null,null,"317 - NATIONALE SUISSE VITA"]
[null,null,null,null,null,null,null,null,null,null,null,null,null,null,null,null,null,null,null,null,"441 - NET INSURANCE"]
[null,null,null,null,null,null,null,null,null,null,null,null,null,null,null,null,null,null,null,null,"470 - NET INSURANCE LIFE"]
[null,null,null,null,null,null,null,null,null,null,null,null,null,null,null,null,null,null,null,null,"838 - NIPPONKOA INSURANCE COMPANY (EUROPE)"]
[null,null,null,null,null,null,null,null,null,null,null,null,null,null,null,null,null,null,null,null,"474 - NOBIS COMPAGNIA DI ASSICURAZIONI"]
[null,null,null,null,null,null,null,null,null,null,null,null,null,null,null,null,null,null,null,null,"292 - PADANA ASSICURAZIONI"]
[null,null,null,null,null,null,null,null,null,null,null,null,null,null,null,null,null,null,null,null,"850 - PMI MORTGAGE COMPANY LTD"]
[null,null,null,null,null,null,null,null,null,null,null,null,null,null,null,null,null,null,null,null,"437 - POPOLARE VITA"]
[null,null,null,null,null,null,null,null,null,null,null,null,null,null,null,null,null,null,null,null,"480 - POSTE ASSICURA - Gruppo Assicurativo Poste Vita"]
[null,null,null,null,null,null,null,null,null,null,null,null,null,null,null,null,null,null,null,null,"431 - POSTE VITA - Gruppo Assicurativo Poste Vita"]
[null,null,null,null,null,null,null,null,null,null,null,null,null,null,null,null,null,null,null,null,"345 - PRAMERICA LIFE"]
[null,null,null,null,null,null,null,null,null,null,null,null,null,null,null,null,null,null,null,null,"906 - PROBUS INSURANCE CO."]
[null,null,null,null,null,null,null,null,null,null,null,null,null,null,null,null,null,null,null,null,"397 - PRONTO ASSISTANCE"]
[null,null,null,null,null,null,null,null,null,null,null,null,null,null,null,null,null,null,null,null,"873 - QBE INSURANCE (EUROPE) LIMITED"]
[null,null,null,null,null,null,null,null,null,null,null,null,null,null,null,null,null,null,null,null,"440 - QUIXA"]
[null,null,null,null,null,null,null,null,null,null,null,null,null,null,null,null,null,null,null,null,"812 - R+V ALLGEMEINE"]
[null,null,null,null,null,null,null,null,null,null,null,null,null,null,null,null,null,null,null,null,"263 - RB VITA"]
[null,null,null,null,null,null,null,null,null,null,null,null,null,null,null,null,null,null,null,null,"468 - RBM SALUTE"]
[null,null,null,null,null,null,null,null,null,null,null,null,null,null,null,null,null,null,null,null,"887 - RGA INTERNATIONAL REINSURANCE COMPANY LIMITED"]
[null,null,null,null,null,null,null,null,null,null,null,null,null,null,null,null,null,null,null,null,"407 - RISPARMIO &  PREVIDENZA"]
[null,null,null,null,null,null,null,null,null,null,null,null,null,null,null,null,null,null,null,null,"867 - ROLAND RECHTSSCHUTZ VERSICHERUNG AG"]
[null,null,null,null,null,null,null,null,null,null,null,null,null,null,null,null,null,null,null,null,"605 - ROYAL & SUN ALLIANCE INSURANCE PLC"]
[null,null,null,null,null,null,null,null,null,null,null,null,null,null,null,null,null,null,null,null,"481 - S2C"]
[null,null,null,null,null,null,null,null,null,null,null,null,null,null,null,null,null,null,null,null,"455 - SACE BT"]
[null,null,null,null,null,null,null,null,null,null,null,null,null,null,null,null,null,null,null,null,"450 - SAN MINIATO PREVIDENZA"]
[null,null,null,null,null,null,null,null,null,null,null,null,null,null,null,null,null,null,null,null,"603 - SANTANDER INSURANCE EUROPE LIMITED"]
[null,null,null,null,null,null,null,null,null,null,null,null,null,null,null,null,null,null,null,null,"604 - SANTANDER INSURANCE LIFE LIMITED"]
[null,null,null,null,null,null,null,null,null,null,null,null,null,null,null,null,null,null,null,null,"032 - SARA ASSICURAZIONI"]
[null,null,null,null,null,null,null,null,null,null,null,null,null,null,null,null,null,null,null,null,"294 - SARA VITA"]
[null,null,null,null,null,null,null,null,null,null,null,null,null,null,null,null,null,null,null,null,"840 - SCOR GLOBAL LIFE S.E."]
[null,null,null,null,null,null,null,null,null,null,null,null,null,null,null,null,null,null,null,null,"874 - SCOR GLOBAL P&C S.E."]
[null,null,null,null,null,null,null,null,null,null,null,null,null,null,null,null,null,null,null,null,"907 - SECURA Member of the QBE Group"]
[null,null,null,null,null,null,null,null,null,null,null,null,null,null,null,null,null,null,null,null,"175 - SIAT"]
[null,null,null,null,null,null,null,null,null,null,null,null,null,null,null,null,null,null,null,null,"427 - SKANDIA VITA"]
[null,null,null,null,null,null,null,null,null,null,null,null,null,null,null,null,null,null,null,null,"226 - SLP"]
[null,null,null,null,null,null,null,null,null,null,null,null,null,null,null,null,null,null,null,null,"851 - SOC.SVIZZERA D'ASS.E CONTRO LA GRANDINE, SOC.COOP."]
[null,null,null,null,null,null,null,null,null,null,null,null,null,null,null,null,null,null,null,null,"914 - SOCIETA'  DI ASSIC. - RIASSIC. CITY INSURANCE SA"]
[null,null,null,null,null,null,null,null,null,null,null,null,null,null,null,null,null,null,null,null,"057 - SOCIETA' CATTOLICA"]
[null,null,null,null,null,null,null,null,null,null,null,null,null,null,null,null,null,null,null,null,"035 - SOCIETA' REALE MUTUA"]
[null,null,null,null,null,null,null,null,null,null,null,null,null,null,null,null,null,null,null,null,"895 - SOGECAP"]
[null,null,null,null,null,null,null,null,null,null,null,null,null,null,null,null,null,null,null,null,"894 - SOGECAP RISQUES DIVERS"]
[null,null,null,null,null,null,null,null,null,null,null,null,null,null,null,null,null,null,null,null,"600 - SOGESSUR S.A."]
[null,null,null,null,null,null,null,null,null,null,null,null,null,null,null,null,null,null,null,null,"800 - SOMPO JAPAN INSURANCE COMPANY OF EUROPE LIMITED"]
[null,null,null,null,null,null,null,null,null,null,null,null,null,null,null,null,null,null,null,null,"080 - SUN INSURANCE OFFICE LIMITED RSA"]
[null,null,null,null,null,null,null,null,null,null,null,null,null,null,null,null,null,null,null,null,"888 - SWISS LIFE INSURANCE SOLUTIONS AG"]
[null,null,null,null,null,null,null,null,null,null,null,null,null,null,null,null,null,null,null,null,"817 - SWISS RE EUROPE S.A.  RAPPRESENTANZA PER L'ITALIA"]
[null,null,null,null,null,null,null,null,null,null,null,null,null,null,null,null,null,null,null,null,"886 - SWISS RE INTERNATIONAL SE"]
[null,null,null,null,null,null,null,null,null,null,null,null,null,null,null,null,null,null,null,null,"315 - SYSTEMA ASSICURAZIONI"]
[null,null,null,null,null,null,null,null,null,null,null,null,null,null,null,null,null,null,null,null,"860 - TCRE ITALIA (sede primaria TRADE CREDIT RE S.A. )"]
[null,null,null,null,null,null,null,null,null,null,null,null,null,null,null,null,null,null,null,null,"078 - THE SEA INSURANCE"]
[null,null,null,null,null,null,null,null,null,null,null,null,null,null,null,null,null,null,null,null,"862 - TIROLER VERSICHERUNG VAG"]
[null,null,null,null,null,null,null,null,null,null,null,null,null,null,null,null,null,null,null,null,"267 - TOKIO MARINE EUROPE INSURANCE LIMITED"]
[null,null,null,null,null,null,null,null,null,null,null,null,null,null,null,null,null,null,null,null,"602 - TORUS INSURANCE (UK) LIMITED"]
[null,null,null,null,null,null,null,null,null,null,null,null,null,null,null,null,null,null,null,null,"429 - TUA ASSICURAZIONI"]
[null,null,null,null,null,null,null,null,null,null,null,null,null,null,null,null,null,null,null,null,"475 - TUTELA LEGALE"]
[null,null,null,null,null,null,null,null,null,null,null,null,null,null,null,null,null,null,null,null,"304 - UBI ASSICURAZIONI"]
[null,null,null,null,null,null,null,null,null,null,null,null,null,null,null,null,null,null,null,null,"127 - UCA - ASSICURAZIONE SPESE LEGALI"]
[null,null,null,null,null,null,null,null,null,null,null,null,null,null,null,null,null,null,null,null,"082 - UNIPOL ASSICURAZIONI"]
[null,null,null,null,null,null,null,null,null,null,null,null,null,null,null,null,null,null,null,null,"172 - UNIQA  ASSICURAZIONI"]
[null,null,null,null,null,null,null,null,null,null,null,null,null,null,null,null,null,null,null,null,"478 - UNIQA LIFE"]
[null,null,null,null,null,null,null,null,null,null,null,null,null,null,null,null,null,null,null,null,"828 - UNIQA PERSONENVERSICHERUNG AG"]
[null,null,null,null,null,null,null,null,null,null,null,null,null,null,null,null,null,null,null,null,"314 - UNIQA PREVIDENZA"]
[null,null,null,null,null,null,null,null,null,null,null,null,null,null,null,null,null,null,null,null,"056 - UNIQA PROTEZIONE"]
[null,null,null,null,null,null,null,null,null,null,null,null,null,null,null,null,null,null,null,null,"342 - UNISALUTE"]
[null,null,null,null,null,null,null,null,null,null,null,null,null,null,null,null,null,null,null,null,"849 - VH ITALIA (VEREINIGTE HAGELVERSICHERUNG)"]
[null,null,null,null,null,null,null,null,null,null,null,null,null,null,null,null,null,null,null,null,"038 - VITTORIA ASSICURAZIONI"]
[null,null,null,null,null,null,null,null,null,null,null,null,null,null,null,null,null,null,null,null,"819 - WIENER STÄDTISCHE VERSICHERUNG AG VIENNA INS.GROUP"]
[null,null,null,null,null,null,null,null,null,null,null,null,null,null,null,null,null,null,null,null,"818 - XL INSURANCE COMPANY LIMITED"]
[null,null,null,null,null,null,null,null,null,null,null,null,null,null,null,null,null,null,null,null,"864 - ZURICH INSURANCE PLC"]
[null,null,null,null,null,null,null,null,null,null,null,null,null,null,null,null,null,null,null,null,"143 - ZURICH INVESTMENTS LIFE"]
[null,null,null,null,null,null,null,null,null,null,null,null,null,null,null,null,null,null,null,null,"372 - ZURICH LIFE AND PENSIONS"]
[null,null,null,null,null,null,null,null,null,null,null,null,null,null,null,null,null,null,null,null,"885 - ZURICH LIFE ASSURANCE PLC"]
[null,null,null,null,null,null,null,null,null,null,null,null,null,null,null,null,null,null,null,null,"404 - ZURICH LIFE INSURANCE ITALIA"]
[null,null,null,null,null,null,null,null,null,null,null,null,null,null,null,null,null,null,null,null,"198 - ZURITEL"]